Workbook
Name Assembly_Machines: Data!$A$2:$A$4

Sheet Dashboard
B2: Rocket Assembly | E2: Mining | F2: Rate (unit/s) | G2: Mining Drills | H2: Basic Belts | I2: Fast Belts | J2: Express Belts | K2: Modules
B3: Launch Period (seconds) | C3: 0 | E3: Iron | F3: ='Production Calculator'!D7 -> 0 | G3: =CONCATENATE(TEXT('Production Calculator'!$H7, "#,##0"), " ", 'Production Calculator'!$E7,"s") -> 0 Electric Mining Drills | H3: =ROUNDUP($F3/VLOOKUP(H$2,Data!$A$58:$B$60,2,FALSE),0) -> 0 | I3: =ROUNDUP($F3/VLOOKUP(I$2,Data!$A$58:$B$60,2,FALSE),0) -> 0 | J3: =ROUNDUP($F3/VLOOKUP(J$2,Data!$A$58:$B$60,2,FALSE),0) -> 0 | K3: ='Production Calculator'!J3 -> Production Module I | L3: ='Production Calculator'!J202 -> 0
B4: Silos Required | C4: ='Production Calculator'!H188 -> 0 | E4: Copper | F4: ='Production Calculator'!D6 -> 0 | G4: =CONCATENATE(TEXT('Production Calculator'!$H6, "#,##0"), " ", 'Production Calculator'!$E6,"s") -> 0 Electric Mining Drills | H4: =ROUNDUP($F4/VLOOKUP(H$2,Data!$A$58:$B$60,2,FALSE),0) -> 0 | I4: =ROUNDUP($F4/VLOOKUP(I$2,Data!$A$58:$B$60,2,FALSE),0) -> 0 | J4: =ROUNDUP($F4/VLOOKUP(J$2,Data!$A$58:$B$60,2,FALSE),0) -> 0 | K4: ='Production Calculator'!K3 -> Production Module II | L4: ='Production Calculator'!K202 -> 0
B5: =K3 -> Production Module I | C5: 0 | E5: Stone | F5: ='Production Calculator'!D9 -> 0 | G5: =CONCATENATE(TEXT('Production Calculator'!$H9, "#,##0"), " ", 'Production Calculator'!$E9,"s") -> 0 Electric Mining Drills | H5: =ROUNDUP($F5/VLOOKUP(H$2,Data!$A$58:$B$60,2,FALSE),0) -> 0 | I5: =ROUNDUP($F5/VLOOKUP(I$2,Data!$A$58:$B$60,2,FALSE),0) -> 0 | J5: =ROUNDUP($F5/VLOOKUP(J$2,Data!$A$58:$B$60,2,FALSE),0) -> 0 | K5: ='Production Calculator'!L3 -> Production Module III | L5: ='Production Calculator'!L202 -> 0
B6: =K4 -> Production Module II | C6: 0 | E6: Coal | F6: ='Production Calculator'!D5 -> 0 | G6: =CONCATENATE(TEXT('Production Calculator'!$H5, "#,##0"), " ", 'Production Calculator'!$E5,"s") -> 0 Electric Mining Drills | H6: =ROUNDUP($F6/VLOOKUP(H$2,Data!$A$58:$B$60,2,FALSE),0) -> 0 | I6: =ROUNDUP($F6/VLOOKUP(I$2,Data!$A$58:$B$60,2,FALSE),0) -> 0 | J6: =ROUNDUP($F6/VLOOKUP(J$2,Data!$A$58:$B$60,2,FALSE),0) -> 0 | K6: ='Production Calculator'!M3 -> Speed Module I | L6: ='Production Calculator'!M202 -> 0
B7: =K5 -> Production Module III | C7: 0 | E7: Smelting | F7: Rate (unit/s) | G7: Furnaces | H7: Basic Belts | I7: Fast Belts | J7: Express Belts | K7: ='Production Calculator'!N3 -> Speed Module II | L7: ='Production Calculator'!N202 -> 0
B8: =K6 -> Speed Module I | C8: 0 | E8: Iron Plates | F8: ='Production Calculator'!D13 -> 0 | G8: =CONCATENATE(TEXT('Production Calculator'!$H13, "#,##0"), " ", 'Production Calculator'!$E13,"s") -> 0 Electric Furnaces | H8: =ROUNDUP($F8/VLOOKUP(H$7,Data!$A$58:$B$60,2,FALSE),0) -> 0 | I8: =ROUNDUP($F8/VLOOKUP(I$7,Data!$A$58:$B$60,2,FALSE),0) -> 0 | J8: =ROUNDUP($F8/VLOOKUP(J$7,Data!$A$58:$B$60,2,FALSE),0) -> 0 | K8: ='Production Calculator'!O3 -> Speed Module III | L8: ='Production Calculator'!O202 -> 0
B9: =K7 -> Speed Module II | C9: 0 | E9: Copper Plates | F9: ='Production Calculator'!D12 -> 0 | G9: =CONCATENATE(TEXT('Production Calculator'!$H12, "#,##0"), " ", 'Production Calculator'!$E12,"s") -> 0 Electric Furnaces | H9: =ROUNDUP($F9/VLOOKUP(H$7,Data!$A$58:$B$60,2,FALSE),0) -> 0 | I9: =ROUNDUP($F9/VLOOKUP(I$7,Data!$A$58:$B$60,2,FALSE),0) -> 0 | J9: =ROUNDUP($F9/VLOOKUP(J$7,Data!$A$58:$B$60,2,FALSE),0) -> 0 | K9: ='Production Calculator'!P3 -> Efficiency Module I | L9: ='Production Calculator'!P202 -> 0
B10: =K8 -> Speed Module III | C10: 0 | E10: Steel Plates | F10: ='Production Calculator'!D14 -> 0 | G10: =CONCATENATE(TEXT('Production Calculator'!$H14, "#,##0"), " ", 'Production Calculator'!$E14,"s") -> 0 Electric Furnaces | H10: =ROUNDUP($F10/VLOOKUP(H$7,Data!$A$58:$B$60,2,FALSE),0) -> 0 | I10: =ROUNDUP($F10/VLOOKUP(I$7,Data!$A$58:$B$60,2,FALSE),0) -> 0 | J10: =ROUNDUP($F10/VLOOKUP(J$7,Data!$A$58:$B$60,2,FALSE),0) -> 0 | K10: ='Production Calculator'!Q3 -> Efficiency Module II | L10: ='Production Calculator'!Q202 -> 0
B11: =K9 -> Efficiency Module I | C11: 0 | E11: Stone Bricks | F11: ='Production Calculator'!D15 -> 0 | G11: =CONCATENATE(TEXT('Production Calculator'!$H15, "#,##0"), " ", 'Production Calculator'!$E15,"s") -> 0 Electric Furnaces | H11: =ROUNDUP($F11/VLOOKUP(H$7,Data!$A$58:$B$60,2,FALSE),0) -> 0 | I11: =ROUNDUP($F11/VLOOKUP(I$7,Data!$A$58:$B$60,2,FALSE),0) -> 0 | J11: =ROUNDUP($F11/VLOOKUP(J$7,Data!$A$58:$B$60,2,FALSE),0) -> 0 | K11: ='Production Calculator'!R3 -> Efficiency Module III | L11: ='Production Calculator'!R202 -> 0
B12: =K10 -> Efficiency Module II | C12: 0 | E12: Oil | F12: Rate (unit/s) | H12: Machinery | I12: Power
B13: =K11 -> Efficiency Module III | C13: 0 | E13: Crude Oil | F13: ='Production Calculator'!D46 -> 0 | G13: ='Production Calculator'!E46 -> Pumpjack (Depleted) | H13: ='Production Calculator'!H46 -> 0 | I13: Total Power (kW) | J13: ='Production Calculator'!AN202 -> 0 | K13: Steam Engines | L13: =ROUNDUP(J13/510,0) -> 0
B14: Productivity Bonus | C14: ='Production Calculator'!AH188 -> 1 | G14: ='Production Calculator'!E47 -> Oil Refinery (Advanced) | H14: ='Production Calculator'!H47 -> 0 | K14: Boilers | L14: =ROUNDUP(L13/10*14,0) -> 0
B15: Speed Bonus | C15: ='Production Calculator'!AI188 -> 1 | E15: Heavy Oil | F15: ='Production Calculator'!D48 -> 0 | G15: Heavy Oil Cracking | H15: ='Production Calculator'!H51 -> 0 | K15: Offshore Pumps | L15: =ROUNDUP(L13/10,0) -> 0
B16: Efficiency Bonus | C16: =1/'Production Calculator'!AJ188 -> 1 | E16: Light Oil | F16: ='Production Calculator'!D49 -> 0 | G16: Light Oil Cracking | H16: ='Production Calculator'!H52 -> 0 | I16: Solar Panels | J16: =ROUNDUP(J13/1000*23.8,0) -> 0 | K16: Fuel | L16: Coal
E17: Sulfuric Acid | F17: ='Production Calculator'!D54 -> 0 | G17: Sulfuric Acid | H17: ='Production Calculator'!H54 -> 0 | I17: Accumulators | J17: =ROUNDUP(0.84*J16,0) -> 0 | K17: Fuel Rate (unit/s) | L17: =J13/VLOOKUP(L16,Data!$A$51:$B$56,2,FALSE) -> 0
E18: Lubricant | F18: ='Production Calculator'!D53 -> 0 | G18: Lubricant | H18: ='Production Calculator'!H53 -> 0
E19: Solid Fuel | F19: ='Production Calculator'!D58 -> 0 | G19: Solid Fuel | H19: =SUM('Production Calculator'!$H$59:$H$61) -> 0
E20: Plastics | F20: ='Production Calculator'!D73 -> 0 | G20: Plastics | H20: ='Production Calculator'!H73 -> 0
G21: Barrel Emptying | H21: ='Production Calculator'!H89 -> 0
G22: Chemical Plants | H22: =SUMIF('Production Calculator'!$E$5:$E$201,Data!$A$19, 'Production Calculator'!$H$4:$H$201) -> 0

Sheet Production Calculator
AB1: Rates | AQ1: Required Input (1/s)
E2: Assembler | I2: Modules | AB2: Base | AG2: Modifiers | AK2: Total | AP2: ID | AQ2: 1 | AR2: 2 | AS2: 3 | AT2: 4 | AU2: 5 | AV2: 6 | AW2: 7 | AX2: 8 | AY2: 9 | AZ2: 10 | BA2: 11 | BB2: 12 | BC2: 13 | BD2: 14 | BE2: 15 | BF2: 16 | BG2: 17 | BH2: 18 | BI2: 19 | BJ2: 20 | BK2: 21 | BL2: 22 | BM2: 23 | BN2: 24 | BO2: 25 | BP2: 26 | BQ2: 27 | BR2: 28 | BS2: 29 | BT2: 30 | BU2: 31 | BV2: 32 | BW2: 33 | BX2: 34 | BY2: 35 | BZ2: 36 | CA2: 37 | CB2: 38 | CC2: 39 | CD2: 40 | CE2: 41 | CF2: 42 | CG2: 43 | CH2: 44 | CI2: 45 | CJ2: 46 | CK2: 47 | CL2: 48 | CM2: 49 | CN2: 50 | CO2: 51 | CP2: 52 | CQ2: 53 | CR2: 54 | CS2: 55 | CT2: 56 | CU2: 57 | CV2: 58 | CW2: 59 | CX2: 60 | CY2: 61 | CZ2: 62 | DA2: 63 | DB2: 64 | DC2: 65 | DD2: 66 | DE2: 67 | DF2: 68 | DG2: 69 | DH2: 70 | DI2: 71 | DJ2: 72 | DK2: 73 | DL2: 74 | DM2: 75 | DN2: 76 | DO2: 77 | DP2: 78 | DQ2: 79 | DR2: 80 | DS2: 81 | DT2: 82 | DU2: 83 | DV2: 84 | DW2: 85 | DX2: 86 | DY2: 87 | DZ2: 88 | EA2: 89 | EB2: 90 | EC2: 91 | ED2: 92 | EE2: 93 | EF2: 94 | EG2: 95 | EH2: 96 | EI2: 97 | EJ2: 98 | EK2: 99 | EL2: 100 | EM2: 101 | EN2: 102 | EO2: 103 | EP2: 104 | EQ2: 105 | ER2: 106 | ES2: 107 | ET2: 108 | EU2: 109 | EV2: 110 | EW2: 111 | EX2: 112 | EY2: 113 | EZ2: 114 | FA2: 115 | FB2: 116 | FC2: 117 | FD2: 118 | FE2: 119 | FF2: 120 | FG2: 121 | FH2: 122 | FI2: 123 | FJ2: 124 | FK2: 125 | FL2: 126 | FM2: 127 | FN2: 128 | FO2: 129 | FP2: 130 | FQ2: 131 | FR2: 132 | FS2: 133 | FT2: 134 | FU2: 135 | FV2: 136 | FW2: 137 | FX2: 138 | FY2: 139 | FZ2: 140 | GA2: 141 | GB2: 142 | GC2: 143 | GD2: 144 | GE2: 145 | GF2: 146 | GG2: 147 | GH2: 148 | GI2: 149 | GJ2: 150 | GK2: 151 | GL2: 152 | GM2: 153 | GN2: 154 | GO2: 155 | GP2: 156 | GQ2: 157 | GR2: 158 | GS2: 159 | GT2: 160 | GU2: 161 | GV2: 162 | GW2: 163 | GX2: 164 | GY2: 165 | GZ2: 166 | HA2: 167 | HB2: 168 | HC2: 169 | HD2: 170 | HE2: 171 | HF2: 172 | HG2: 173 | HH2: 174 | HI2: 175 | HJ2: 176 | HK2: 177 | HL2: 178 | HM2: 179 | HN2: 180 | HO2: 181 | HP2: 182 | HQ2: 183 | HR2: 184
A3: ID | C3: Desired Output (unit/s) | D3: Total Output (unit/s) | E3: Machine | F3: Ingredients | G3: Liquids | H3: Machines Required | I3: Module Slots | J3: Production Module I | K3: Production Module II | L3: Production Module III | M3: Speed Module I | N3: Speed Module II | O3: Speed Module III | P3: Efficiency Module I | Q3: Efficiency Module II | R3: Efficiency Module III | S3: Production Module I | T3: Production Module II | U3: Production Module III | V3: Speed Module I | W3: Speed Module II | X3: Speed Module III | Y3: Efficiency Module I | Z3: Efficiency Module II | AA3: Efficiency Module III | AB3: Recipe Time (s) | AC3: Recipe Production (unit/cycle) | AD3: Recipe Rate (unit/s) | AE3: Fuel Power (kW) | AF3: Electric Power (kW) | AG3: Assembly Speed | AH3: Productivity Bonus | AI3: Speed Bonus | AJ3: Efficiency Bonus | AK3: Production Rate (Cycle/sec) | AL3: Assembly Rate (Unit/sec) | AM3: Fuel Power (kW) | AN3: Electric Power (kW) | AO3: Fuel Source | AQ3: =VLOOKUP(AQ2,Recipes!$A:$B,2) -> Copper plate | AR3: =VLOOKUP(AR2,Recipes!$A:$B,2) -> Iron plate | AS3: =VLOOKUP(AS2,Recipes!$A:$B,2) -> Steel plate | AT3: =VLOOKUP(AT2,Recipes!$A:$B,2) -> Stone brick | AU3: =VLOOKUP(AU2,Recipes!$A:$B,2) -> Concrete | AV3: =VLOOKUP(AV2,Recipes!$A:$B,2) -> Hazard concrete | AW3: =VLOOKUP(AW2,Recipes!$A:$B,2) -> Lamp | AX3: =VLOOKUP(AX2,Recipes!$A:$B,2) -> Landfill | ... HR3: =VLOOKUP(HR2,Recipes!$A:$B,2) -> Solid fuel (Petroleum)
B4: Raw Material | AC4: (Hardness)
A5: 39 | B5: =VLOOKUP(A5,Recipes!A:B,2) -> Coal | C5: 0 | D5: =HLOOKUP(A5,$AQ$2:$HR$202,$A$202-1,FALSE)+C5 -> 0 | E5: Electric Mining Drill | F5: =VLOOKUP(A5,Recipes!$A$3:$G$186,6,FALSE) -> 0 | G5: =VLOOKUP(A5,Recipes!$A$3:$G$186,7,FALSE) -> 0 | H5: =ROUNDUP(D5/AL5,0) -> 0 | I5: =VLOOKUP(E5,Data!$A$2:$C$26,3, FALSE) -> 0 | J5: 0 | K5: 0 | L5: 0 | M5: 0 | N5: 0 | O5: 0 | P5: 0 | Q5: 0 | R5: 0 | S5: =J5*$H5 -> 0 | T5: =K5*$H5 -> 0 | U5: =L5*$H5 -> 0 | V5: =M5*$H5 -> 0 | W5: =N5*$H5 -> 0 | X5: =O5*$H5 -> 0 | Y5: =P5*$H5 -> 0 | Z5: =Q5*$H5 -> 0 | AA5: =R5*$H5 -> 0 | AB5: =VLOOKUP(B5,Data!$A$28:$C$31,2,FALSE) -> 2 | AC5: =VLOOKUP(B5,Data!$A$28:$C$31,3,FALSE) -> 0.9 | AD5: =(VLOOKUP(E5,Data!$A$6:$F$7,6,FALSE)-AC5)/AB5 -> 1.05 | AE5: =VLOOKUP(E5,Data!$A$2:$F$26,5,FALSE) -> 0 | AF5: =VLOOKUP(E5,Data!$A$2:$F$26,4,FALSE) -> 90 | AG5: =VLOOKUP(E5,Data!$A$6:$F$7,2,FALSE) -> 0.5 | AH5: =1+VLOOKUP($J$3,Data!$A$40:$D$48,2,FALSE)*$J5+VLOOKUP($K$3,Data!$A$40:$D$48,2,FALSE)*$K5+VLOOKUP($L$3,Data!$A$40:$D$48,2,FALSE)*$L5+VLOOKUP($M$3,Data!$A$40:$D$48,2,FALSE)*$M5+VLOOKUP($N$3,Data!$A$40:$D$48,2,FALSE)*$N5+VLOOKUP($O$3,Data!$A$40:$D$48,2,FALSE)*$O5+VLOOKUP($P$3,Data!$A$40:$D$48,2,FALSE)*$P5+VLOOKUP($Q$3,Data!$A$40:$D$48,2,FALSE)*$Q5+VLOOKUP($R$3,Data!$A$40:$D$48,2,FALSE)*$R5 -> 1 | AI5: =MAX(1+VLOOKUP($J$3,Data!$A$40:$D$48,3,FALSE)*$J5+VLOOKUP($K$3,Data!$A$40:$D$48,3,FALSE)*$K5+VLOOKUP($L$3,Data!$A$40:$D$48,3,FALSE)*$L5+VLOOKUP($M$3,Data!$A$40:$D$48,3,FALSE)*$M5+VLOOKUP($N$3,Data!$A$40:$D$48,3,FALSE)*$N5+VLOOKUP($O$3,Data!$A$40:$D$48,3,FALSE)*$O5+VLOOKUP($P$3,Data!$A$40:$D$48,3,FALSE)*$P5+VLOOKUP($Q$3,Data!$A$40:$D$48,3,FALSE)*$Q5+VLOOKUP($R$3,Data!$A$40:$D$48,3,FALSE)*$R5,0) -> 1 | AJ5: =MAX(1-(VLOOKUP($J$3,Data!$A$40:$D$48,4,FALSE)*$J5+VLOOKUP($K$3,Data!$A$40:$D$48,4,FALSE)*$K5+VLOOKUP($L$3,Data!$A$40:$D$48,4,FALSE)*$L5+VLOOKUP($M$3,Data!$A$40:$D$48,4,FALSE)*$M5+VLOOKUP($N$3,Data!$A$40:$D$48,4,FALSE)*$N5+VLOOKUP($O$3,Data!$A$40:$D$48,4,FALSE)*$O5+VLOOKUP($P$3,Data!$A$40:$D$48,4,FALSE)*$P5+VLOOKUP($Q$3,Data!$A$40:$D$48,4,FALSE)*$Q5+VLOOKUP($R$3,Data!$A$40:$D$48,4,FALSE)*$R5),0.2) -> 1 | AK5: =D5*AC5/(AD5*AH5) -> 0 | AL5: =AD5*AG5*AH5*AI5 -> 0.525 | AM5: =AE5*H5*AJ5 -> 0 | AN5: =AF5*H5*AJ5 -> 0 | AO5: None | AQ5: =IF(AQ$2=$A5,0,IF(HLOOKUP(AQ$2,Recipes!$H:$GI,'Production Calculator'!$A5+2,FALSE)=0,0,HLOOKUP(AQ$2,Recipes!$H:$GI,'Production Calculator'!$A5+2,FALSE)*$AK5))+IF($AO5=AQ$3,$AM5/VLOOKUP($AO5,Data!$A$50:$B$56,2,FALSE),0) -> 0 | AR5: =IF(AR$2=$A5,0,IF(HLOOKUP(AR$2,Recipes!$H:$GI,'Production Calculator'!$A5+2,FALSE)=0,0,HLOOKUP(AR$2,Recipes!$H:$GI,'Production Calculator'!$A5+2,FALSE)*$AK5))+IF($AO5=AR$3,$AM5/VLOOKUP($AO5,Data!$A$50:$B$56,2,FALSE),0) -> 0 | AS5: =IF(AS$2=$A5,0,IF(HLOOKUP(AS$2,Recipes!$H:$GI,'Production Calculator'!$A5+2,FALSE)=0,0,HLOOKUP(AS$2,Recipes!$H:$GI,'Production Calculator'!$A5+2,FALSE)*$AK5))+IF($AO5=AS$3,$AM5/VLOOKUP($AO5,Data!$A$50:$B$56,2,FALSE),0) -> 0 | AT5: =IF(AT$2=$A5,0,IF(HLOOKUP(AT$2,Recipes!$H:$GI,'Production Calculator'!$A5+2,FALSE)=0,0,HLOOKUP(AT$2,Recipes!$H:$GI,'Production Calculator'!$A5+2,FALSE)*$AK5))+IF($AO5=AT$3,$AM5/VLOOKUP($AO5,Data!$A$50:$B$56,2,FALSE),0) -> 0 | AU5: =IF(AU$2=$A5,0,IF(HLOOKUP(AU$2,Recipes!$H:$GI,'Production Calculator'!$A5+2,FALSE)=0,0,HLOOKUP(AU$2,Recipes!$H:$GI,'Production Calculator'!$A5+2,FALSE)*$AK5))+IF($AO5=AU$3,$AM5/VLOOKUP($AO5,Data!$A$50:$B$56,2,FALSE),0) -> 0 | AV5: =IF(AV$2=$A5,0,IF(HLOOKUP(AV$2,Recipes!$H:$GI,'Production Calculator'!$A5+2,FALSE)=0,0,HLOOKUP(AV$2,Recipes!$H:$GI,'Production Calculator'!$A5+2,FALSE)*$AK5))+IF($AO5=AV$3,$AM5/VLOOKUP($AO5,Data!$A$50:$B$56,2,FALSE),0) -> 0 | AW5: =IF(AW$2=$A5,0,IF(HLOOKUP(AW$2,Recipes!$H:$GI,'Production Calculator'!$A5+2,FALSE)=0,0,HLOOKUP(AW$2,Recipes!$H:$GI,'Production Calculator'!$A5+2,FALSE)*$AK5))+IF($AO5=AW$3,$AM5/VLOOKUP($AO5,Data!$A$50:$B$56,2,FALSE),0) -> 0 | AX5: =IF(AX$2=$A5,0,IF(HLOOKUP(AX$2,Recipes!$H:$GI,'Production Calculator'!$A5+2,FALSE)=0,0,HLOOKUP(AX$2,Recipes!$H:$GI,'Production Calculator'!$A5+2,FALSE)*$AK5))+IF($AO5=AX$3,$AM5/VLOOKUP($AO5,Data!$A$50:$B$56,2,FALSE),0) -> 0 | ... HR5: =IF(HR$2=$A5,0,IF(HLOOKUP(HR$2,Recipes!$H:$GI,'Production Calculator'!$A5+2,FALSE)=0,0,HLOOKUP(HR$2,Recipes!$H:$GI,'Production Calculator'!$A5+2,FALSE)*$AK5))+IF($AO5=HR$3,$AM5/VLOOKUP($AO5,Data!$A$50:$B$56,2,FALSE),0) -> 0
A6: 157 | B6: =VLOOKUP(A6,Recipes!A:B,2) -> Copper ore | C6: 0 | D6: =HLOOKUP(A6,$AQ$2:$HR$202,$A$202-1,FALSE)+C6 -> 0 | E6: Electric Mining Drill | F6: =VLOOKUP(A6,Recipes!$A$3:$G$186,6,FALSE) -> 0 | G6: =VLOOKUP(A6,Recipes!$A$3:$G$186,7,FALSE) -> 0 | H6: =ROUNDUP(D6/AL6,0) -> 0 | I6: =VLOOKUP(E6,Data!$A$2:$C$26,3, FALSE) -> 0 | J6: 0 | K6: 0 | L6: 0 | M6: 0 | N6: 0 | O6: 0 | P6: 0 | Q6: 0 | R6: 0 | S6: =J6*$H6 -> 0 | T6: =K6*$H6 -> 0 | U6: =L6*$H6 -> 0 | V6: =M6*$H6 -> 0 | W6: =N6*$H6 -> 0 | X6: =O6*$H6 -> 0 | Y6: =P6*$H6 -> 0 | Z6: =Q6*$H6 -> 0 | AA6: =R6*$H6 -> 0 | AB6: =VLOOKUP(B6,Data!$A$28:$C$31,2,FALSE) -> 2 | AC6: =VLOOKUP(B6,Data!$A$28:$C$31,3,FALSE) -> 0.9 | AD6: =(VLOOKUP(E6,Data!$A$6:$F$7,6,FALSE)-AC6)/AB6 -> 1.05 | AE6: =VLOOKUP(E6,Data!$A$2:$F$26,5,FALSE) -> 0 | AF6: =VLOOKUP(E6,Data!$A$2:$F$26,4,FALSE) -> 90 | AG6: =VLOOKUP(E6,Data!$A$6:$F$7,2,FALSE) -> 0.5 | AH6: =1+VLOOKUP($J$3,Data!$A$40:$D$48,2,FALSE)*$J6+VLOOKUP($K$3,Data!$A$40:$D$48,2,FALSE)*$K6+VLOOKUP($L$3,Data!$A$40:$D$48,2,FALSE)*$L6+VLOOKUP($M$3,Data!$A$40:$D$48,2,FALSE)*$M6+VLOOKUP($N$3,Data!$A$40:$D$48,2,FALSE)*$N6+VLOOKUP($O$3,Data!$A$40:$D$48,2,FALSE)*$O6+VLOOKUP($P$3,Data!$A$40:$D$48,2,FALSE)*$P6+VLOOKUP($Q$3,Data!$A$40:$D$48,2,FALSE)*$Q6+VLOOKUP($R$3,Data!$A$40:$D$48,2,FALSE)*$R6 -> 1 | AI6: =MAX(1+VLOOKUP($J$3,Data!$A$40:$D$48,3,FALSE)*$J6+VLOOKUP($K$3,Data!$A$40:$D$48,3,FALSE)*$K6+VLOOKUP($L$3,Data!$A$40:$D$48,3,FALSE)*$L6+VLOOKUP($M$3,Data!$A$40:$D$48,3,FALSE)*$M6+VLOOKUP($N$3,Data!$A$40:$D$48,3,FALSE)*$N6+VLOOKUP($O$3,Data!$A$40:$D$48,3,FALSE)*$O6+VLOOKUP($P$3,Data!$A$40:$D$48,3,FALSE)*$P6+VLOOKUP($Q$3,Data!$A$40:$D$48,3,FALSE)*$Q6+VLOOKUP($R$3,Data!$A$40:$D$48,3,FALSE)*$R6,0) -> 1 | AJ6: =MAX(1-(VLOOKUP($J$3,Data!$A$40:$D$48,4,FALSE)*$J6+VLOOKUP($K$3,Data!$A$40:$D$48,4,FALSE)*$K6+VLOOKUP($L$3,Data!$A$40:$D$48,4,FALSE)*$L6+VLOOKUP($M$3,Data!$A$40:$D$48,4,FALSE)*$M6+VLOOKUP($N$3,Data!$A$40:$D$48,4,FALSE)*$N6+VLOOKUP($O$3,Data!$A$40:$D$48,4,FALSE)*$O6+VLOOKUP($P$3,Data!$A$40:$D$48,4,FALSE)*$P6+VLOOKUP($Q$3,Data!$A$40:$D$48,4,FALSE)*$Q6+VLOOKUP($R$3,Data!$A$40:$D$48,4,FALSE)*$R6),0.2) -> 1 | AK6: =D6*AC6/(AD6*AH6) -> 0 | AL6: =AD6*AG6*AH6*AI6 -> 0.525 | AM6: =AE6*H6*AJ6 -> 0 | AN6: =AF6*H6*AJ6 -> 0 | AO6: None | AQ6: =IF(AQ$2=$A6,0,IF(HLOOKUP(AQ$2,Recipes!$H:$GI,'Production Calculator'!$A6+2,FALSE)=0,0,HLOOKUP(AQ$2,Recipes!$H:$GI,'Production Calculator'!$A6+2,FALSE)*$AK6))+IF($AO6=AQ$3,$AM6/VLOOKUP($AO6,Data!$A$50:$B$56,2,FALSE),0) -> 0 | AR6: =IF(AR$2=$A6,0,IF(HLOOKUP(AR$2,Recipes!$H:$GI,'Production Calculator'!$A6+2,FALSE)=0,0,HLOOKUP(AR$2,Recipes!$H:$GI,'Production Calculator'!$A6+2,FALSE)*$AK6))+IF($AO6=AR$3,$AM6/VLOOKUP($AO6,Data!$A$50:$B$56,2,FALSE),0) -> 0 | AS6: =IF(AS$2=$A6,0,IF(HLOOKUP(AS$2,Recipes!$H:$GI,'Production Calculator'!$A6+2,FALSE)=0,0,HLOOKUP(AS$2,Recipes!$H:$GI,'Production Calculator'!$A6+2,FALSE)*$AK6))+IF($AO6=AS$3,$AM6/VLOOKUP($AO6,Data!$A$50:$B$56,2,FALSE),0) -> 0 | AT6: =IF(AT$2=$A6,0,IF(HLOOKUP(AT$2,Recipes!$H:$GI,'Production Calculator'!$A6+2,FALSE)=0,0,HLOOKUP(AT$2,Recipes!$H:$GI,'Production Calculator'!$A6+2,FALSE)*$AK6))+IF($AO6=AT$3,$AM6/VLOOKUP($AO6,Data!$A$50:$B$56,2,FALSE),0) -> 0 | AU6: =IF(AU$2=$A6,0,IF(HLOOKUP(AU$2,Recipes!$H:$GI,'Production Calculator'!$A6+2,FALSE)=0,0,HLOOKUP(AU$2,Recipes!$H:$GI,'Production Calculator'!$A6+2,FALSE)*$AK6))+IF($AO6=AU$3,$AM6/VLOOKUP($AO6,Data!$A$50:$B$56,2,FALSE),0) -> 0 | AV6: =IF(AV$2=$A6,0,IF(HLOOKUP(AV$2,Recipes!$H:$GI,'Production Calculator'!$A6+2,FALSE)=0,0,HLOOKUP(AV$2,Recipes!$H:$GI,'Production Calculator'!$A6+2,FALSE)*$AK6))+IF($AO6=AV$3,$AM6/VLOOKUP($AO6,Data!$A$50:$B$56,2,FALSE),0) -> 0 | AW6: =IF(AW$2=$A6,0,IF(HLOOKUP(AW$2,Recipes!$H:$GI,'Production Calculator'!$A6+2,FALSE)=0,0,HLOOKUP(AW$2,Recipes!$H:$GI,'Production Calculator'!$A6+2,FALSE)*$AK6))+IF($AO6=AW$3,$AM6/VLOOKUP($AO6,Data!$A$50:$B$56,2,FALSE),0) -> 0 | AX6: =IF(AX$2=$A6,0,IF(HLOOKUP(AX$2,Recipes!$H:$GI,'Production Calculator'!$A6+2,FALSE)=0,0,HLOOKUP(AX$2,Recipes!$H:$GI,'Production Calculator'!$A6+2,FALSE)*$AK6))+IF($AO6=AX$3,$AM6/VLOOKUP($AO6,Data!$A$50:$B$56,2,FALSE),0) -> 0 | ... HR6: =IF(HR$2=$A6,0,IF(HLOOKUP(HR$2,Recipes!$H:$GI,'Production Calculator'!$A6+2,FALSE)=0,0,HLOOKUP(HR$2,Recipes!$H:$GI,'Production Calculator'!$A6+2,FALSE)*$AK6))+IF($AO6=HR$3,$AM6/VLOOKUP($AO6,Data!$A$50:$B$56,2,FALSE),0) -> 0
A7: 158 | B7: =VLOOKUP(A7,Recipes!A:B,2) -> Iron ore | C7: 0 | D7: =HLOOKUP(A7,$AQ$2:$HR$202,$A$202-1,FALSE)+C7 -> 0 | E7: Electric Mining Drill | F7: =VLOOKUP(A7,Recipes!$A$3:$G$186,6,FALSE) -> 0 | G7: =VLOOKUP(A7,Recipes!$A$3:$G$186,7,FALSE) -> 0 | H7: =ROUNDUP(D7/AL7,0) -> 0 | I7: =VLOOKUP(E7,Data!$A$2:$C$26,3, FALSE) -> 0 | J7: 0 | K7: 0 | L7: 0 | M7: 0 | N7: 0 | O7: 0 | P7: 0 | Q7: 0 | R7: 0 | S7: =J7*$H7 -> 0 | T7: =K7*$H7 -> 0 | U7: =L7*$H7 -> 0 | V7: =M7*$H7 -> 0 | W7: =N7*$H7 -> 0 | X7: =O7*$H7 -> 0 | Y7: =P7*$H7 -> 0 | Z7: =Q7*$H7 -> 0 | AA7: =R7*$H7 -> 0 | AB7: =VLOOKUP(B7,Data!$A$28:$C$31,2,FALSE) -> 2 | AC7: =VLOOKUP(B7,Data!$A$28:$C$31,3,FALSE) -> 0.9 | AD7: =(VLOOKUP(E7,Data!$A$6:$F$7,6,FALSE)-AC7)/AB7 -> 1.05 | AE7: =VLOOKUP(E7,Data!$A$2:$F$26,5,FALSE) -> 0 | AF7: =VLOOKUP(E7,Data!$A$2:$F$26,4,FALSE) -> 90 | AG7: =VLOOKUP(E7,Data!$A$6:$F$7,2,FALSE) -> 0.5 | AH7: =1+VLOOKUP($J$3,Data!$A$40:$D$48,2,FALSE)*$J7+VLOOKUP($K$3,Data!$A$40:$D$48,2,FALSE)*$K7+VLOOKUP($L$3,Data!$A$40:$D$48,2,FALSE)*$L7+VLOOKUP($M$3,Data!$A$40:$D$48,2,FALSE)*$M7+VLOOKUP($N$3,Data!$A$40:$D$48,2,FALSE)*$N7+VLOOKUP($O$3,Data!$A$40:$D$48,2,FALSE)*$O7+VLOOKUP($P$3,Data!$A$40:$D$48,2,FALSE)*$P7+VLOOKUP($Q$3,Data!$A$40:$D$48,2,FALSE)*$Q7+VLOOKUP($R$3,Data!$A$40:$D$48,2,FALSE)*$R7 -> 1 | AI7: =MAX(1+VLOOKUP($J$3,Data!$A$40:$D$48,3,FALSE)*$J7+VLOOKUP($K$3,Data!$A$40:$D$48,3,FALSE)*$K7+VLOOKUP($L$3,Data!$A$40:$D$48,3,FALSE)*$L7+VLOOKUP($M$3,Data!$A$40:$D$48,3,FALSE)*$M7+VLOOKUP($N$3,Data!$A$40:$D$48,3,FALSE)*$N7+VLOOKUP($O$3,Data!$A$40:$D$48,3,FALSE)*$O7+VLOOKUP($P$3,Data!$A$40:$D$48,3,FALSE)*$P7+VLOOKUP($Q$3,Data!$A$40:$D$48,3,FALSE)*$Q7+VLOOKUP($R$3,Data!$A$40:$D$48,3,FALSE)*$R7,0) -> 1 | AJ7: =MAX(1-(VLOOKUP($J$3,Data!$A$40:$D$48,4,FALSE)*$J7+VLOOKUP($K$3,Data!$A$40:$D$48,4,FALSE)*$K7+VLOOKUP($L$3,Data!$A$40:$D$48,4,FALSE)*$L7+VLOOKUP($M$3,Data!$A$40:$D$48,4,FALSE)*$M7+VLOOKUP($N$3,Data!$A$40:$D$48,4,FALSE)*$N7+VLOOKUP($O$3,Data!$A$40:$D$48,4,FALSE)*$O7+VLOOKUP($P$3,Data!$A$40:$D$48,4,FALSE)*$P7+VLOOKUP($Q$3,Data!$A$40:$D$48,4,FALSE)*$Q7+VLOOKUP($R$3,Data!$A$40:$D$48,4,FALSE)*$R7),0.2) -> 1 | AK7: =D7*AC7/(AD7*AH7) -> 0 | AL7: =AD7*AG7*AH7*AI7 -> 0.525 | AM7: =AE7*H7*AJ7 -> 0 | AN7: =AF7*H7*AJ7 -> 0 | AO7: None | AQ7: =IF(AQ$2=$A7,0,IF(HLOOKUP(AQ$2,Recipes!$H:$GI,'Production Calculator'!$A7+2,FALSE)=0,0,HLOOKUP(AQ$2,Recipes!$H:$GI,'Production Calculator'!$A7+2,FALSE)*$AK7))+IF($AO7=AQ$3,$AM7/VLOOKUP($AO7,Data!$A$50:$B$56,2,FALSE),0) -> 0 | AR7: =IF(AR$2=$A7,0,IF(HLOOKUP(AR$2,Recipes!$H:$GI,'Production Calculator'!$A7+2,FALSE)=0,0,HLOOKUP(AR$2,Recipes!$H:$GI,'Production Calculator'!$A7+2,FALSE)*$AK7))+IF($AO7=AR$3,$AM7/VLOOKUP($AO7,Data!$A$50:$B$56,2,FALSE),0) -> 0 | AS7: =IF(AS$2=$A7,0,IF(HLOOKUP(AS$2,Recipes!$H:$GI,'Production Calculator'!$A7+2,FALSE)=0,0,HLOOKUP(AS$2,Recipes!$H:$GI,'Production Calculator'!$A7+2,FALSE)*$AK7))+IF($AO7=AS$3,$AM7/VLOOKUP($AO7,Data!$A$50:$B$56,2,FALSE),0) -> 0 | AT7: =IF(AT$2=$A7,0,IF(HLOOKUP(AT$2,Recipes!$H:$GI,'Production Calculator'!$A7+2,FALSE)=0,0,HLOOKUP(AT$2,Recipes!$H:$GI,'Production Calculator'!$A7+2,FALSE)*$AK7))+IF($AO7=AT$3,$AM7/VLOOKUP($AO7,Data!$A$50:$B$56,2,FALSE),0) -> 0 | AU7: =IF(AU$2=$A7,0,IF(HLOOKUP(AU$2,Recipes!$H:$GI,'Production Calculator'!$A7+2,FALSE)=0,0,HLOOKUP(AU$2,Recipes!$H:$GI,'Production Calculator'!$A7+2,FALSE)*$AK7))+IF($AO7=AU$3,$AM7/VLOOKUP($AO7,Data!$A$50:$B$56,2,FALSE),0) -> 0 | AV7: =IF(AV$2=$A7,0,IF(HLOOKUP(AV$2,Recipes!$H:$GI,'Production Calculator'!$A7+2,FALSE)=0,0,HLOOKUP(AV$2,Recipes!$H:$GI,'Production Calculator'!$A7+2,FALSE)*$AK7))+IF($AO7=AV$3,$AM7/VLOOKUP($AO7,Data!$A$50:$B$56,2,FALSE),0) -> 0 | AW7: =IF(AW$2=$A7,0,IF(HLOOKUP(AW$2,Recipes!$H:$GI,'Production Calculator'!$A7+2,FALSE)=0,0,HLOOKUP(AW$2,Recipes!$H:$GI,'Production Calculator'!$A7+2,FALSE)*$AK7))+IF($AO7=AW$3,$AM7/VLOOKUP($AO7,Data!$A$50:$B$56,2,FALSE),0) -> 0 | AX7: =IF(AX$2=$A7,0,IF(HLOOKUP(AX$2,Recipes!$H:$GI,'Production Calculator'!$A7+2,FALSE)=0,0,HLOOKUP(AX$2,Recipes!$H:$GI,'Production Calculator'!$A7+2,FALSE)*$AK7))+IF($AO7=AX$3,$AM7/VLOOKUP($AO7,Data!$A$50:$B$56,2,FALSE),0) -> 0 | ... HR7: =IF(HR$2=$A7,0,IF(HLOOKUP(HR$2,Recipes!$H:$GI,'Production Calculator'!$A7+2,FALSE)=0,0,HLOOKUP(HR$2,Recipes!$H:$GI,'Production Calculator'!$A7+2,FALSE)*$AK7))+IF($AO7=HR$3,$AM7/VLOOKUP($AO7,Data!$A$50:$B$56,2,FALSE),0) -> 0
A8: 159 | B8: =VLOOKUP(A8,Recipes!A:B,2) -> Raw wood | C8: 0 | D8: =HLOOKUP(A8,$AQ$2:$HR$202,$A$202-1,FALSE)+C8 -> 0 | E8: 0 | F8: 0 | G8: 0 | H8: 0 | I8: 0 | J8: 0 | K8: 0 | L8: 0 | M8: 0 | N8: 0 | O8: 0 | P8: 0 | Q8: 0 | R8: 0 | S8: =J8*$H8 -> 0 | T8: =K8*$H8 -> 0 | U8: =L8*$H8 -> 0 | V8: =M8*$H8 -> 0 | W8: =N8*$H8 -> 0 | X8: =O8*$H8 -> 0 | Y8: =P8*$H8 -> 0 | Z8: =Q8*$H8 -> 0 | AA8: =R8*$H8 -> 0 | AB8: =VLOOKUP($A8,Recipes!$A:$G,4) -> 0 | AC8: =VLOOKUP($A8,Recipes!$A:$G,5) -> 0 | AD8: 0 | AE8: 0 | AF8: 0 | AG8: 0 | AH8: 0 | AI8: 0 | AJ8: 0 | AK8: 0 | AL8: =AD8*AG8*AH8*AI8 -> 0 | AM8: =AE8*H8*AJ8 -> 0 | AN8: =AF8*H8*AJ8 -> 0 | AO8: None | AQ8: =IF(AQ$2=$A8,0,IF(HLOOKUP(AQ$2,Recipes!$H:$GI,'Production Calculator'!$A8+2,FALSE)=0,0,HLOOKUP(AQ$2,Recipes!$H:$GI,'Production Calculator'!$A8+2,FALSE)*$AK8))+IF($AO8=AQ$3,$AM8/VLOOKUP($AO8,Data!$A$50:$B$56,2,FALSE),0) -> 0 | AR8: =IF(AR$2=$A8,0,IF(HLOOKUP(AR$2,Recipes!$H:$GI,'Production Calculator'!$A8+2,FALSE)=0,0,HLOOKUP(AR$2,Recipes!$H:$GI,'Production Calculator'!$A8+2,FALSE)*$AK8))+IF($AO8=AR$3,$AM8/VLOOKUP($AO8,Data!$A$50:$B$56,2,FALSE),0) -> 0 | AS8: =IF(AS$2=$A8,0,IF(HLOOKUP(AS$2,Recipes!$H:$GI,'Production Calculator'!$A8+2,FALSE)=0,0,HLOOKUP(AS$2,Recipes!$H:$GI,'Production Calculator'!$A8+2,FALSE)*$AK8))+IF($AO8=AS$3,$AM8/VLOOKUP($AO8,Data!$A$50:$B$56,2,FALSE),0) -> 0 | AT8: =IF(AT$2=$A8,0,IF(HLOOKUP(AT$2,Recipes!$H:$GI,'Production Calculator'!$A8+2,FALSE)=0,0,HLOOKUP(AT$2,Recipes!$H:$GI,'Production Calculator'!$A8+2,FALSE)*$AK8))+IF($AO8=AT$3,$AM8/VLOOKUP($AO8,Data!$A$50:$B$56,2,FALSE),0) -> 0 | AU8: =IF(AU$2=$A8,0,IF(HLOOKUP(AU$2,Recipes!$H:$GI,'Production Calculator'!$A8+2,FALSE)=0,0,HLOOKUP(AU$2,Recipes!$H:$GI,'Production Calculator'!$A8+2,FALSE)*$AK8))+IF($AO8=AU$3,$AM8/VLOOKUP($AO8,Data!$A$50:$B$56,2,FALSE),0) -> 0 | AV8: =IF(AV$2=$A8,0,IF(HLOOKUP(AV$2,Recipes!$H:$GI,'Production Calculator'!$A8+2,FALSE)=0,0,HLOOKUP(AV$2,Recipes!$H:$GI,'Production Calculator'!$A8+2,FALSE)*$AK8))+IF($AO8=AV$3,$AM8/VLOOKUP($AO8,Data!$A$50:$B$56,2,FALSE),0) -> 0 | AW8: =IF(AW$2=$A8,0,IF(HLOOKUP(AW$2,Recipes!$H:$GI,'Production Calculator'!$A8+2,FALSE)=0,0,HLOOKUP(AW$2,Recipes!$H:$GI,'Production Calculator'!$A8+2,FALSE)*$AK8))+IF($AO8=AW$3,$AM8/VLOOKUP($AO8,Data!$A$50:$B$56,2,FALSE),0) -> 0 | AX8: =IF(AX$2=$A8,0,IF(HLOOKUP(AX$2,Recipes!$H:$GI,'Production Calculator'!$A8+2,FALSE)=0,0,HLOOKUP(AX$2,Recipes!$H:$GI,'Production Calculator'!$A8+2,FALSE)*$AK8))+IF($AO8=AX$3,$AM8/VLOOKUP($AO8,Data!$A$50:$B$56,2,FALSE),0) -> 0 | ... HR8: =IF(HR$2=$A8,0,IF(HLOOKUP(HR$2,Recipes!$H:$GI,'Production Calculator'!$A8+2,FALSE)=0,0,HLOOKUP(HR$2,Recipes!$H:$GI,'Production Calculator'!$A8+2,FALSE)*$AK8))+IF($AO8=HR$3,$AM8/VLOOKUP($AO8,Data!$A$50:$B$56,2,FALSE),0) -> 0
A9: 160 | B9: =VLOOKUP(A9,Recipes!A:B,2) -> Stone | C9: 0 | D9: =HLOOKUP(A9,$AQ$2:$HR$202,$A$202-1,FALSE)+C9 -> 0 | E9: Electric Mining Drill | F9: =VLOOKUP(A9,Recipes!$A$3:$G$186,6,FALSE) -> 0 | G9: =VLOOKUP(A9,Recipes!$A$3:$G$186,7,FALSE) -> 0 | H9: =ROUNDUP(D9/AL9,0) -> 0 | I9: =VLOOKUP(E9,Data!$A$2:$C$26,3, FALSE) -> 0 | J9: 0 | K9: 0 | L9: 0 | M9: 0 | N9: 0 | O9: 0 | P9: 0 | Q9: 0 | R9: 0 | S9: =J9*$H9 -> 0 | T9: =K9*$H9 -> 0 | U9: =L9*$H9 -> 0 | V9: =M9*$H9 -> 0 | W9: =N9*$H9 -> 0 | X9: =O9*$H9 -> 0 | Y9: =P9*$H9 -> 0 | Z9: =Q9*$H9 -> 0 | AA9: =R9*$H9 -> 0 | AB9: =VLOOKUP(B9,Data!$A$28:$C$31,2,FALSE) -> 2 | AC9: =VLOOKUP(B9,Data!$A$28:$C$31,3,FALSE) -> 0.4 | AD9: =(VLOOKUP(E9,Data!$A$6:$F$7,6,FALSE)-AC9)/AB9 -> 1.3 | AE9: =VLOOKUP(E9,Data!$A$2:$F$26,5,FALSE) -> 0 | AF9: =VLOOKUP(E9,Data!$A$2:$F$26,4,FALSE) -> 90 | AG9: =VLOOKUP(E9,Data!$A$6:$F$7,2,FALSE) -> 0.5 | AH9: =1+VLOOKUP($J$3,Data!$A$40:$D$48,2,FALSE)*$J9+VLOOKUP($K$3,Data!$A$40:$D$48,2,FALSE)*$K9+VLOOKUP($L$3,Data!$A$40:$D$48,2,FALSE)*$L9+VLOOKUP($M$3,Data!$A$40:$D$48,2,FALSE)*$M9+VLOOKUP($N$3,Data!$A$40:$D$48,2,FALSE)*$N9+VLOOKUP($O$3,Data!$A$40:$D$48,2,FALSE)*$O9+VLOOKUP($P$3,Data!$A$40:$D$48,2,FALSE)*$P9+VLOOKUP($Q$3,Data!$A$40:$D$48,2,FALSE)*$Q9+VLOOKUP($R$3,Data!$A$40:$D$48,2,FALSE)*$R9 -> 1 | AI9: =MAX(1+VLOOKUP($J$3,Data!$A$40:$D$48,3,FALSE)*$J9+VLOOKUP($K$3,Data!$A$40:$D$48,3,FALSE)*$K9+VLOOKUP($L$3,Data!$A$40:$D$48,3,FALSE)*$L9+VLOOKUP($M$3,Data!$A$40:$D$48,3,FALSE)*$M9+VLOOKUP($N$3,Data!$A$40:$D$48,3,FALSE)*$N9+VLOOKUP($O$3,Data!$A$40:$D$48,3,FALSE)*$O9+VLOOKUP($P$3,Data!$A$40:$D$48,3,FALSE)*$P9+VLOOKUP($Q$3,Data!$A$40:$D$48,3,FALSE)*$Q9+VLOOKUP($R$3,Data!$A$40:$D$48,3,FALSE)*$R9,0) -> 1 | AJ9: =MAX(1-(VLOOKUP($J$3,Data!$A$40:$D$48,4,FALSE)*$J9+VLOOKUP($K$3,Data!$A$40:$D$48,4,FALSE)*$K9+VLOOKUP($L$3,Data!$A$40:$D$48,4,FALSE)*$L9+VLOOKUP($M$3,Data!$A$40:$D$48,4,FALSE)*$M9+VLOOKUP($N$3,Data!$A$40:$D$48,4,FALSE)*$N9+VLOOKUP($O$3,Data!$A$40:$D$48,4,FALSE)*$O9+VLOOKUP($P$3,Data!$A$40:$D$48,4,FALSE)*$P9+VLOOKUP($Q$3,Data!$A$40:$D$48,4,FALSE)*$Q9+VLOOKUP($R$3,Data!$A$40:$D$48,4,FALSE)*$R9),0.2) -> 1 | AK9: =D9*AC9/(AD9*AH9) -> 0 | AL9: =AD9*AG9*AH9*AI9 -> 0.65 | AM9: =AE9*H9*AJ9 -> 0 | AN9: =AF9*H9*AJ9 -> 0 | AO9: None | AQ9: =IF(AQ$2=$A9,0,IF(HLOOKUP(AQ$2,Recipes!$H:$GI,'Production Calculator'!$A9+2,FALSE)=0,0,HLOOKUP(AQ$2,Recipes!$H:$GI,'Production Calculator'!$A9+2,FALSE)*$AK9))+IF($AO9=AQ$3,$AM9/VLOOKUP($AO9,Data!$A$50:$B$56,2,FALSE),0) -> 0 | AR9: =IF(AR$2=$A9,0,IF(HLOOKUP(AR$2,Recipes!$H:$GI,'Production Calculator'!$A9+2,FALSE)=0,0,HLOOKUP(AR$2,Recipes!$H:$GI,'Production Calculator'!$A9+2,FALSE)*$AK9))+IF($AO9=AR$3,$AM9/VLOOKUP($AO9,Data!$A$50:$B$56,2,FALSE),0) -> 0 | AS9: =IF(AS$2=$A9,0,IF(HLOOKUP(AS$2,Recipes!$H:$GI,'Production Calculator'!$A9+2,FALSE)=0,0,HLOOKUP(AS$2,Recipes!$H:$GI,'Production Calculator'!$A9+2,FALSE)*$AK9))+IF($AO9=AS$3,$AM9/VLOOKUP($AO9,Data!$A$50:$B$56,2,FALSE),0) -> 0 | AT9: =IF(AT$2=$A9,0,IF(HLOOKUP(AT$2,Recipes!$H:$GI,'Production Calculator'!$A9+2,FALSE)=0,0,HLOOKUP(AT$2,Recipes!$H:$GI,'Production Calculator'!$A9+2,FALSE)*$AK9))+IF($AO9=AT$3,$AM9/VLOOKUP($AO9,Data!$A$50:$B$56,2,FALSE),0) -> 0 | AU9: =IF(AU$2=$A9,0,IF(HLOOKUP(AU$2,Recipes!$H:$GI,'Production Calculator'!$A9+2,FALSE)=0,0,HLOOKUP(AU$2,Recipes!$H:$GI,'Production Calculator'!$A9+2,FALSE)*$AK9))+IF($AO9=AU$3,$AM9/VLOOKUP($AO9,Data!$A$50:$B$56,2,FALSE),0) -> 0 | AV9: =IF(AV$2=$A9,0,IF(HLOOKUP(AV$2,Recipes!$H:$GI,'Production Calculator'!$A9+2,FALSE)=0,0,HLOOKUP(AV$2,Recipes!$H:$GI,'Production Calculator'!$A9+2,FALSE)*$AK9))+IF($AO9=AV$3,$AM9/VLOOKUP($AO9,Data!$A$50:$B$56,2,FALSE),0) -> 0 | AW9: =IF(AW$2=$A9,0,IF(HLOOKUP(AW$2,Recipes!$H:$GI,'Production Calculator'!$A9+2,FALSE)=0,0,HLOOKUP(AW$2,Recipes!$H:$GI,'Production Calculator'!$A9+2,FALSE)*$AK9))+IF($AO9=AW$3,$AM9/VLOOKUP($AO9,Data!$A$50:$B$56,2,FALSE),0) -> 0 | AX9: =IF(AX$2=$A9,0,IF(HLOOKUP(AX$2,Recipes!$H:$GI,'Production Calculator'!$A9+2,FALSE)=0,0,HLOOKUP(AX$2,Recipes!$H:$GI,'Production Calculator'!$A9+2,FALSE)*$AK9))+IF($AO9=AX$3,$AM9/VLOOKUP($AO9,Data!$A$50:$B$56,2,FALSE),0) -> 0 | ... HR9: =IF(HR$2=$A9,0,IF(HLOOKUP(HR$2,Recipes!$H:$GI,'Production Calculator'!$A9+2,FALSE)=0,0,HLOOKUP(HR$2,Recipes!$H:$GI,'Production Calculator'!$A9+2,FALSE)*$AK9))+IF($AO9=HR$3,$AM9/VLOOKUP($AO9,Data!$A$50:$B$56,2,FALSE),0) -> 0
A10: 161 | B10: =VLOOKUP(A10,Recipes!A:B,2) -> Alien Artifact | C10: 0 | D10: =HLOOKUP(A10,$AQ$2:$HR$202,$A$202-1,FALSE)+C10 -> 0 | E10: 0 | F10: 0 | G10: 0 | H10: 0 | I10: 0 | J10: 0 | K10: 0 | L10: 0 | M10: 0 | N10: 0 | O10: 0 | P10: 0 | Q10: 0 | R10: 0 | S10: =J10*$H10 -> 0 | T10: =K10*$H10 -> 0 | U10: =L10*$H10 -> 0 | V10: =M10*$H10 -> 0 | W10: =N10*$H10 -> 0 | X10: =O10*$H10 -> 0 | Y10: =P10*$H10 -> 0 | Z10: =Q10*$H10 -> 0 | AA10: =R10*$H10 -> 0 | AB10: =VLOOKUP($A10,Recipes!$A:$G,4) -> 0 | AC10: =VLOOKUP($A10,Recipes!$A:$G,5) -> 0 | AD10: 0 | AE10: 0 | AF10: 0 | AG10: 0 | AH10: 0 | AI10: 0 | AJ10: 0 | AK10: 0 | AL10: =AD10*AG10*AH10*AI10 -> 0 | AM10: =AE10*H10*AJ10 -> 0 | AN10: =AF10*H10*AJ10 -> 0 | AO10: None | AQ10: =IF(AQ$2=$A10,0,IF(HLOOKUP(AQ$2,Recipes!$H:$GI,'Production Calculator'!$A10+2,FALSE)=0,0,HLOOKUP(AQ$2,Recipes!$H:$GI,'Production Calculator'!$A10+2,FALSE)*$AK10))+IF($AO10=AQ$3,$AM10/VLOOKUP($AO10,Data!$A$50:$B$56,2,FALSE),0) -> 0 | AR10: =IF(AR$2=$A10,0,IF(HLOOKUP(AR$2,Recipes!$H:$GI,'Production Calculator'!$A10+2,FALSE)=0,0,HLOOKUP(AR$2,Recipes!$H:$GI,'Production Calculator'!$A10+2,FALSE)*$AK10))+IF($AO10=AR$3,$AM10/VLOOKUP($AO10,Data!$A$50:$B$56,2,FALSE),0) -> 0 | AS10: =IF(AS$2=$A10,0,IF(HLOOKUP(AS$2,Recipes!$H:$GI,'Production Calculator'!$A10+2,FALSE)=0,0,HLOOKUP(AS$2,Recipes!$H:$GI,'Production Calculator'!$A10+2,FALSE)*$AK10))+IF($AO10=AS$3,$AM10/VLOOKUP($AO10,Data!$A$50:$B$56,2,FALSE),0) -> 0 | AT10: =IF(AT$2=$A10,0,IF(HLOOKUP(AT$2,Recipes!$H:$GI,'Production Calculator'!$A10+2,FALSE)=0,0,HLOOKUP(AT$2,Recipes!$H:$GI,'Production Calculator'!$A10+2,FALSE)*$AK10))+IF($AO10=AT$3,$AM10/VLOOKUP($AO10,Data!$A$50:$B$56,2,FALSE),0) -> 0 | AU10: =IF(AU$2=$A10,0,IF(HLOOKUP(AU$2,Recipes!$H:$GI,'Production Calculator'!$A10+2,FALSE)=0,0,HLOOKUP(AU$2,Recipes!$H:$GI,'Production Calculator'!$A10+2,FALSE)*$AK10))+IF($AO10=AU$3,$AM10/VLOOKUP($AO10,Data!$A$50:$B$56,2,FALSE),0) -> 0 | AV10: =IF(AV$2=$A10,0,IF(HLOOKUP(AV$2,Recipes!$H:$GI,'Production Calculator'!$A10+2,FALSE)=0,0,HLOOKUP(AV$2,Recipes!$H:$GI,'Production Calculator'!$A10+2,FALSE)*$AK10))+IF($AO10=AV$3,$AM10/VLOOKUP($AO10,Data!$A$50:$B$56,2,FALSE),0) -> 0 | AW10: =IF(AW$2=$A10,0,IF(HLOOKUP(AW$2,Recipes!$H:$GI,'Production Calculator'!$A10+2,FALSE)=0,0,HLOOKUP(AW$2,Recipes!$H:$GI,'Production Calculator'!$A10+2,FALSE)*$AK10))+IF($AO10=AW$3,$AM10/VLOOKUP($AO10,Data!$A$50:$B$56,2,FALSE),0) -> 0 | AX10: =IF(AX$2=$A10,0,IF(HLOOKUP(AX$2,Recipes!$H:$GI,'Production Calculator'!$A10+2,FALSE)=0,0,HLOOKUP(AX$2,Recipes!$H:$GI,'Production Calculator'!$A10+2,FALSE)*$AK10))+IF($AO10=AX$3,$AM10/VLOOKUP($AO10,Data!$A$50:$B$56,2,FALSE),0) -> 0 | ... HR10: =IF(HR$2=$A10,0,IF(HLOOKUP(HR$2,Recipes!$H:$GI,'Production Calculator'!$A10+2,FALSE)=0,0,HLOOKUP(HR$2,Recipes!$H:$GI,'Production Calculator'!$A10+2,FALSE)*$AK10))+IF($AO10=HR$3,$AM10/VLOOKUP($AO10,Data!$A$50:$B$56,2,FALSE),0) -> 0
B11: Base Materials
A12: 1 | B12: =VLOOKUP(A12,Recipes!A:B,2) -> Copper plate | C12: 0 | D12: =HLOOKUP(A12,$AQ$2:$HR$202,$A$202-1,FALSE)+C12 -> 0 | E12: Electric Furnace | F12: =VLOOKUP(A12,Recipes!$A$3:$G$186,6,FALSE) -> 1 | G12: =VLOOKUP(A12,Recipes!$A$3:$G$186,7,FALSE) -> 0 | H12: =ROUNDUP(D12/AL12,0) -> 0 | I12: =VLOOKUP(E12,Data!$A$2:$C$26,3, FALSE) -> 2 | J12: 0 | K12: 0 | L12: 0 | M12: 0 | N12: 0 | O12: 0 | P12: 0 | Q12: 0 | R12: 0 | S12: =J12*$H12 -> 0 | T12: =K12*$H12 -> 0 | U12: =L12*$H12 -> 0 | V12: =M12*$H12 -> 0 | W12: =N12*$H12 -> 0 | X12: =O12*$H12 -> 0 | Y12: =P12*$H12 -> 0 | Z12: =Q12*$H12 -> 0 | AA12: =R12*$H12 -> 0 | AB12: =VLOOKUP($A12,Recipes!$A:$G,4) -> 3.5 | AC12: =VLOOKUP($A12,Recipes!$A:$G,5) -> 1 | AD12: =AC12/AB12 -> 0.28571429 | AE12: =VLOOKUP(E12,Data!$A$2:$F$26,5,FALSE) -> 0 | AF12: =VLOOKUP(E12,Data!$A$2:$F$26,4,FALSE) -> 180 | AG12: =VLOOKUP(E12,Data!$A$2:$B$26,2, FALSE) -> 2 | AH12: =1+VLOOKUP($J$3,Data!$A$40:$D$48,2,FALSE)*$J12+VLOOKUP($K$3,Data!$A$40:$D$48,2,FALSE)*$K12+VLOOKUP($L$3,Data!$A$40:$D$48,2,FALSE)*$L12+VLOOKUP($M$3,Data!$A$40:$D$48,2,FALSE)*$M12+VLOOKUP($N$3,Data!$A$40:$D$48,2,FALSE)*$N12+VLOOKUP($O$3,Data!$A$40:$D$48,2,FALSE)*$O12+VLOOKUP($P$3,Data!$A$40:$D$48,2,FALSE)*$P12+VLOOKUP($Q$3,Data!$A$40:$D$48,2,FALSE)*$Q12+VLOOKUP($R$3,Data!$A$40:$D$48,2,FALSE)*$R12 -> 1 | AI12: =MAX(1+VLOOKUP($J$3,Data!$A$40:$D$48,3,FALSE)*$J12+VLOOKUP($K$3,Data!$A$40:$D$48,3,FALSE)*$K12+VLOOKUP($L$3,Data!$A$40:$D$48,3,FALSE)*$L12+VLOOKUP($M$3,Data!$A$40:$D$48,3,FALSE)*$M12+VLOOKUP($N$3,Data!$A$40:$D$48,3,FALSE)*$N12+VLOOKUP($O$3,Data!$A$40:$D$48,3,FALSE)*$O12+VLOOKUP($P$3,Data!$A$40:$D$48,3,FALSE)*$P12+VLOOKUP($Q$3,Data!$A$40:$D$48,3,FALSE)*$Q12+VLOOKUP($R$3,Data!$A$40:$D$48,3,FALSE)*$R12,0) -> 1 | AJ12: =MAX(1-(VLOOKUP($J$3,Data!$A$40:$D$48,4,FALSE)*$J12+VLOOKUP($K$3,Data!$A$40:$D$48,4,FALSE)*$K12+VLOOKUP($L$3,Data!$A$40:$D$48,4,FALSE)*$L12+VLOOKUP($M$3,Data!$A$40:$D$48,4,FALSE)*$M12+VLOOKUP($N$3,Data!$A$40:$D$48,4,FALSE)*$N12+VLOOKUP($O$3,Data!$A$40:$D$48,4,FALSE)*$O12+VLOOKUP($P$3,Data!$A$40:$D$48,4,FALSE)*$P12+VLOOKUP($Q$3,Data!$A$40:$D$48,4,FALSE)*$Q12+VLOOKUP($R$3,Data!$A$40:$D$48,4,FALSE)*$R12),0.2) -> 1 | AK12: =D12/(AC12*AH12) -> 0 | AL12: =AD12*AG12*AH12*AI12 -> 0.57142857 | AM12: =AE12*H12*AJ12 -> 0 | AN12: =AF12*H12*AJ12 -> 0 | AO12: None | AQ12: =IF(AQ$2=$A12,0,IF(HLOOKUP(AQ$2,Recipes!$H:$GI,'Production Calculator'!$A12+2,FALSE)=0,0,HLOOKUP(AQ$2,Recipes!$H:$GI,'Production Calculator'!$A12+2,FALSE)*$AK12))+IF($AO12=AQ$3,$AM12/VLOOKUP($AO12,Data!$A$50:$B$56,2,FALSE),0) -> 0 | AR12: =IF(AR$2=$A12,0,IF(HLOOKUP(AR$2,Recipes!$H:$GI,'Production Calculator'!$A12+2,FALSE)=0,0,HLOOKUP(AR$2,Recipes!$H:$GI,'Production Calculator'!$A12+2,FALSE)*$AK12))+IF($AO12=AR$3,$AM12/VLOOKUP($AO12,Data!$A$50:$B$56,2,FALSE),0) -> 0 | AS12: =IF(AS$2=$A12,0,IF(HLOOKUP(AS$2,Recipes!$H:$GI,'Production Calculator'!$A12+2,FALSE)=0,0,HLOOKUP(AS$2,Recipes!$H:$GI,'Production Calculator'!$A12+2,FALSE)*$AK12))+IF($AO12=AS$3,$AM12/VLOOKUP($AO12,Data!$A$50:$B$56,2,FALSE),0) -> 0 | AT12: =IF(AT$2=$A12,0,IF(HLOOKUP(AT$2,Recipes!$H:$GI,'Production Calculator'!$A12+2,FALSE)=0,0,HLOOKUP(AT$2,Recipes!$H:$GI,'Production Calculator'!$A12+2,FALSE)*$AK12))+IF($AO12=AT$3,$AM12/VLOOKUP($AO12,Data!$A$50:$B$56,2,FALSE),0) -> 0 | AU12: =IF(AU$2=$A12,0,IF(HLOOKUP(AU$2,Recipes!$H:$GI,'Production Calculator'!$A12+2,FALSE)=0,0,HLOOKUP(AU$2,Recipes!$H:$GI,'Production Calculator'!$A12+2,FALSE)*$AK12))+IF($AO12=AU$3,$AM12/VLOOKUP($AO12,Data!$A$50:$B$56,2,FALSE),0) -> 0 | AV12: =IF(AV$2=$A12,0,IF(HLOOKUP(AV$2,Recipes!$H:$GI,'Production Calculator'!$A12+2,FALSE)=0,0,HLOOKUP(AV$2,Recipes!$H:$GI,'Production Calculator'!$A12+2,FALSE)*$AK12))+IF($AO12=AV$3,$AM12/VLOOKUP($AO12,Data!$A$50:$B$56,2,FALSE),0) -> 0 | AW12: =IF(AW$2=$A12,0,IF(HLOOKUP(AW$2,Recipes!$H:$GI,'Production Calculator'!$A12+2,FALSE)=0,0,HLOOKUP(AW$2,Recipes!$H:$GI,'Production Calculator'!$A12+2,FALSE)*$AK12))+IF($AO12=AW$3,$AM12/VLOOKUP($AO12,Data!$A$50:$B$56,2,FALSE),0) -> 0 | AX12: =IF(AX$2=$A12,0,IF(HLOOKUP(AX$2,Recipes!$H:$GI,'Production Calculator'!$A12+2,FALSE)=0,0,HLOOKUP(AX$2,Recipes!$H:$GI,'Production Calculator'!$A12+2,FALSE)*$AK12))+IF($AO12=AX$3,$AM12/VLOOKUP($AO12,Data!$A$50:$B$56,2,FALSE),0) -> 0 | ... HR12: =IF(HR$2=$A12,0,IF(HLOOKUP(HR$2,Recipes!$H:$GI,'Production Calculator'!$A12+2,FALSE)=0,0,HLOOKUP(HR$2,Recipes!$H:$GI,'Production Calculator'!$A12+2,FALSE)*$AK12))+IF($AO12=HR$3,$AM12/VLOOKUP($AO12,Data!$A$50:$B$56,2,FALSE),0) -> 0
A13: 2 | B13: =VLOOKUP(A13,Recipes!A:B,2) -> Iron plate | C13: 0 | D13: =HLOOKUP(A13,$AQ$2:$HR$202,$A$202-1,FALSE)+C13 -> 0 | E13: Electric Furnace | F13: =VLOOKUP(A13,Recipes!$A$3:$G$186,6,FALSE) -> 1 | G13: =VLOOKUP(A13,Recipes!$A$3:$G$186,7,FALSE) -> 0 | H13: =ROUNDUP(D13/AL13,0) -> 0 | I13: =VLOOKUP(E13,Data!$A$2:$C$26,3, FALSE) -> 2 | J13: 0 | K13: 0 | L13: 0 | M13: 0 | N13: 0 | O13: 0 | P13: 0 | Q13: 0 | R13: 0 | S13: =J13*$H13 -> 0 | T13: =K13*$H13 -> 0 | U13: =L13*$H13 -> 0 | V13: =M13*$H13 -> 0 | W13: =N13*$H13 -> 0 | X13: =O13*$H13 -> 0 | Y13: =P13*$H13 -> 0 | Z13: =Q13*$H13 -> 0 | AA13: =R13*$H13 -> 0 | AB13: =VLOOKUP($A13,Recipes!$A:$G,4) -> 3.5 | AC13: =VLOOKUP($A13,Recipes!$A:$G,5) -> 1 | AD13: =AC13/AB13 -> 0.28571429 | AE13: =VLOOKUP(E13,Data!$A$2:$F$26,5,FALSE) -> 0 | AF13: =VLOOKUP(E13,Data!$A$2:$F$26,4,FALSE) -> 180 | AG13: =VLOOKUP(E13,Data!$A$2:$B$26,2, FALSE) -> 2 | AH13: =1+VLOOKUP($J$3,Data!$A$40:$D$48,2,FALSE)*$J13+VLOOKUP($K$3,Data!$A$40:$D$48,2,FALSE)*$K13+VLOOKUP($L$3,Data!$A$40:$D$48,2,FALSE)*$L13+VLOOKUP($M$3,Data!$A$40:$D$48,2,FALSE)*$M13+VLOOKUP($N$3,Data!$A$40:$D$48,2,FALSE)*$N13+VLOOKUP($O$3,Data!$A$40:$D$48,2,FALSE)*$O13+VLOOKUP($P$3,Data!$A$40:$D$48,2,FALSE)*$P13+VLOOKUP($Q$3,Data!$A$40:$D$48,2,FALSE)*$Q13+VLOOKUP($R$3,Data!$A$40:$D$48,2,FALSE)*$R13 -> 1 | AI13: =MAX(1+VLOOKUP($J$3,Data!$A$40:$D$48,3,FALSE)*$J13+VLOOKUP($K$3,Data!$A$40:$D$48,3,FALSE)*$K13+VLOOKUP($L$3,Data!$A$40:$D$48,3,FALSE)*$L13+VLOOKUP($M$3,Data!$A$40:$D$48,3,FALSE)*$M13+VLOOKUP($N$3,Data!$A$40:$D$48,3,FALSE)*$N13+VLOOKUP($O$3,Data!$A$40:$D$48,3,FALSE)*$O13+VLOOKUP($P$3,Data!$A$40:$D$48,3,FALSE)*$P13+VLOOKUP($Q$3,Data!$A$40:$D$48,3,FALSE)*$Q13+VLOOKUP($R$3,Data!$A$40:$D$48,3,FALSE)*$R13,0) -> 1 | AJ13: =MAX(1-(VLOOKUP($J$3,Data!$A$40:$D$48,4,FALSE)*$J13+VLOOKUP($K$3,Data!$A$40:$D$48,4,FALSE)*$K13+VLOOKUP($L$3,Data!$A$40:$D$48,4,FALSE)*$L13+VLOOKUP($M$3,Data!$A$40:$D$48,4,FALSE)*$M13+VLOOKUP($N$3,Data!$A$40:$D$48,4,FALSE)*$N13+VLOOKUP($O$3,Data!$A$40:$D$48,4,FALSE)*$O13+VLOOKUP($P$3,Data!$A$40:$D$48,4,FALSE)*$P13+VLOOKUP($Q$3,Data!$A$40:$D$48,4,FALSE)*$Q13+VLOOKUP($R$3,Data!$A$40:$D$48,4,FALSE)*$R13),0.2) -> 1 | AK13: =D13/(AC13*AH13) -> 0 | AL13: =AD13*AG13*AH13*AI13 -> 0.57142857 | AM13: =AE13*H13*AJ13 -> 0 | AN13: =AF13*H13*AJ13 -> 0 | AO13: None | AQ13: =IF(AQ$2=$A13,0,IF(HLOOKUP(AQ$2,Recipes!$H:$GI,'Production Calculator'!$A13+2,FALSE)=0,0,HLOOKUP(AQ$2,Recipes!$H:$GI,'Production Calculator'!$A13+2,FALSE)*$AK13))+IF($AO13=AQ$3,$AM13/VLOOKUP($AO13,Data!$A$50:$B$56,2,FALSE),0) -> 0 | AR13: =IF(AR$2=$A13,0,IF(HLOOKUP(AR$2,Recipes!$H:$GI,'Production Calculator'!$A13+2,FALSE)=0,0,HLOOKUP(AR$2,Recipes!$H:$GI,'Production Calculator'!$A13+2,FALSE)*$AK13))+IF($AO13=AR$3,$AM13/VLOOKUP($AO13,Data!$A$50:$B$56,2,FALSE),0) -> 0 | AS13: =IF(AS$2=$A13,0,IF(HLOOKUP(AS$2,Recipes!$H:$GI,'Production Calculator'!$A13+2,FALSE)=0,0,HLOOKUP(AS$2,Recipes!$H:$GI,'Production Calculator'!$A13+2,FALSE)*$AK13))+IF($AO13=AS$3,$AM13/VLOOKUP($AO13,Data!$A$50:$B$56,2,FALSE),0) -> 0 | AT13: =IF(AT$2=$A13,0,IF(HLOOKUP(AT$2,Recipes!$H:$GI,'Production Calculator'!$A13+2,FALSE)=0,0,HLOOKUP(AT$2,Recipes!$H:$GI,'Production Calculator'!$A13+2,FALSE)*$AK13))+IF($AO13=AT$3,$AM13/VLOOKUP($AO13,Data!$A$50:$B$56,2,FALSE),0) -> 0 | AU13: =IF(AU$2=$A13,0,IF(HLOOKUP(AU$2,Recipes!$H:$GI,'Production Calculator'!$A13+2,FALSE)=0,0,HLOOKUP(AU$2,Recipes!$H:$GI,'Production Calculator'!$A13+2,FALSE)*$AK13))+IF($AO13=AU$3,$AM13/VLOOKUP($AO13,Data!$A$50:$B$56,2,FALSE),0) -> 0 | AV13: =IF(AV$2=$A13,0,IF(HLOOKUP(AV$2,Recipes!$H:$GI,'Production Calculator'!$A13+2,FALSE)=0,0,HLOOKUP(AV$2,Recipes!$H:$GI,'Production Calculator'!$A13+2,FALSE)*$AK13))+IF($AO13=AV$3,$AM13/VLOOKUP($AO13,Data!$A$50:$B$56,2,FALSE),0) -> 0 | AW13: =IF(AW$2=$A13,0,IF(HLOOKUP(AW$2,Recipes!$H:$GI,'Production Calculator'!$A13+2,FALSE)=0,0,HLOOKUP(AW$2,Recipes!$H:$GI,'Production Calculator'!$A13+2,FALSE)*$AK13))+IF($AO13=AW$3,$AM13/VLOOKUP($AO13,Data!$A$50:$B$56,2,FALSE),0) -> 0 | AX13: =IF(AX$2=$A13,0,IF(HLOOKUP(AX$2,Recipes!$H:$GI,'Production Calculator'!$A13+2,FALSE)=0,0,HLOOKUP(AX$2,Recipes!$H:$GI,'Production Calculator'!$A13+2,FALSE)*$AK13))+IF($AO13=AX$3,$AM13/VLOOKUP($AO13,Data!$A$50:$B$56,2,FALSE),0) -> 0 | ... HR13: =IF(HR$2=$A13,0,IF(HLOOKUP(HR$2,Recipes!$H:$GI,'Production Calculator'!$A13+2,FALSE)=0,0,HLOOKUP(HR$2,Recipes!$H:$GI,'Production Calculator'!$A13+2,FALSE)*$AK13))+IF($AO13=HR$3,$AM13/VLOOKUP($AO13,Data!$A$50:$B$56,2,FALSE),0) -> 0
A14: 3 | B14: =VLOOKUP(A14,Recipes!A:B,2) -> Steel plate | C14: 0 | D14: =HLOOKUP(A14,$AQ$2:$HR$202,$A$202-1,FALSE)+C14 -> 0 | E14: Electric Furnace | F14: =VLOOKUP(A14,Recipes!$A$3:$G$186,6,FALSE) -> 1 | G14: =VLOOKUP(A14,Recipes!$A$3:$G$186,7,FALSE) -> 0 | H14: =ROUNDUP(D14/AL14,0) -> 0 | I14: =VLOOKUP(E14,Data!$A$2:$C$26,3, FALSE) -> 2 | J14: 0 | K14: 0 | L14: 0 | M14: 0 | N14: 0 | O14: 0 | P14: 0 | Q14: 0 | R14: 0 | S14: =J14*$H14 -> 0 | T14: =K14*$H14 -> 0 | U14: =L14*$H14 -> 0 | V14: =M14*$H14 -> 0 | W14: =N14*$H14 -> 0 | X14: =O14*$H14 -> 0 | Y14: =P14*$H14 -> 0 | Z14: =Q14*$H14 -> 0 | AA14: =R14*$H14 -> 0 | AB14: =VLOOKUP($A14,Recipes!$A:$G,4) -> 17.5 | AC14: =VLOOKUP($A14,Recipes!$A:$G,5) -> 1 | AD14: =AC14/AB14 -> 0.057142857 | AE14: =VLOOKUP(E14,Data!$A$2:$F$26,5,FALSE) -> 0 | AF14: =VLOOKUP(E14,Data!$A$2:$F$26,4,FALSE) -> 180 | AG14: =VLOOKUP(E14,Data!$A$2:$B$26,2, FALSE) -> 2 | AH14: =1+VLOOKUP($J$3,Data!$A$40:$D$48,2,FALSE)*$J14+VLOOKUP($K$3,Data!$A$40:$D$48,2,FALSE)*$K14+VLOOKUP($L$3,Data!$A$40:$D$48,2,FALSE)*$L14+VLOOKUP($M$3,Data!$A$40:$D$48,2,FALSE)*$M14+VLOOKUP($N$3,Data!$A$40:$D$48,2,FALSE)*$N14+VLOOKUP($O$3,Data!$A$40:$D$48,2,FALSE)*$O14+VLOOKUP($P$3,Data!$A$40:$D$48,2,FALSE)*$P14+VLOOKUP($Q$3,Data!$A$40:$D$48,2,FALSE)*$Q14+VLOOKUP($R$3,Data!$A$40:$D$48,2,FALSE)*$R14 -> 1 | AI14: =MAX(1+VLOOKUP($J$3,Data!$A$40:$D$48,3,FALSE)*$J14+VLOOKUP($K$3,Data!$A$40:$D$48,3,FALSE)*$K14+VLOOKUP($L$3,Data!$A$40:$D$48,3,FALSE)*$L14+VLOOKUP($M$3,Data!$A$40:$D$48,3,FALSE)*$M14+VLOOKUP($N$3,Data!$A$40:$D$48,3,FALSE)*$N14+VLOOKUP($O$3,Data!$A$40:$D$48,3,FALSE)*$O14+VLOOKUP($P$3,Data!$A$40:$D$48,3,FALSE)*$P14+VLOOKUP($Q$3,Data!$A$40:$D$48,3,FALSE)*$Q14+VLOOKUP($R$3,Data!$A$40:$D$48,3,FALSE)*$R14,0) -> 1 | AJ14: =MAX(1-(VLOOKUP($J$3,Data!$A$40:$D$48,4,FALSE)*$J14+VLOOKUP($K$3,Data!$A$40:$D$48,4,FALSE)*$K14+VLOOKUP($L$3,Data!$A$40:$D$48,4,FALSE)*$L14+VLOOKUP($M$3,Data!$A$40:$D$48,4,FALSE)*$M14+VLOOKUP($N$3,Data!$A$40:$D$48,4,FALSE)*$N14+VLOOKUP($O$3,Data!$A$40:$D$48,4,FALSE)*$O14+VLOOKUP($P$3,Data!$A$40:$D$48,4,FALSE)*$P14+VLOOKUP($Q$3,Data!$A$40:$D$48,4,FALSE)*$Q14+VLOOKUP($R$3,Data!$A$40:$D$48,4,FALSE)*$R14),0.2) -> 1 | AK14: =D14/(AC14*AH14) -> 0 | AL14: =AD14*AG14*AH14*AI14 -> 0.11428571 | AM14: =AE14*H14*AJ14 -> 0 | AN14: =AF14*H14*AJ14 -> 0 | AO14: None | AQ14: =IF(AQ$2=$A14,0,IF(HLOOKUP(AQ$2,Recipes!$H:$GI,'Production Calculator'!$A14+2,FALSE)=0,0,HLOOKUP(AQ$2,Recipes!$H:$GI,'Production Calculator'!$A14+2,FALSE)*$AK14))+IF($AO14=AQ$3,$AM14/VLOOKUP($AO14,Data!$A$50:$B$56,2,FALSE),0) -> 0 | AR14: =IF(AR$2=$A14,0,IF(HLOOKUP(AR$2,Recipes!$H:$GI,'Production Calculator'!$A14+2,FALSE)=0,0,HLOOKUP(AR$2,Recipes!$H:$GI,'Production Calculator'!$A14+2,FALSE)*$AK14))+IF($AO14=AR$3,$AM14/VLOOKUP($AO14,Data!$A$50:$B$56,2,FALSE),0) -> 0 | AS14: =IF(AS$2=$A14,0,IF(HLOOKUP(AS$2,Recipes!$H:$GI,'Production Calculator'!$A14+2,FALSE)=0,0,HLOOKUP(AS$2,Recipes!$H:$GI,'Production Calculator'!$A14+2,FALSE)*$AK14))+IF($AO14=AS$3,$AM14/VLOOKUP($AO14,Data!$A$50:$B$56,2,FALSE),0) -> 0 | AT14: =IF(AT$2=$A14,0,IF(HLOOKUP(AT$2,Recipes!$H:$GI,'Production Calculator'!$A14+2,FALSE)=0,0,HLOOKUP(AT$2,Recipes!$H:$GI,'Production Calculator'!$A14+2,FALSE)*$AK14))+IF($AO14=AT$3,$AM14/VLOOKUP($AO14,Data!$A$50:$B$56,2,FALSE),0) -> 0 | AU14: =IF(AU$2=$A14,0,IF(HLOOKUP(AU$2,Recipes!$H:$GI,'Production Calculator'!$A14+2,FALSE)=0,0,HLOOKUP(AU$2,Recipes!$H:$GI,'Production Calculator'!$A14+2,FALSE)*$AK14))+IF($AO14=AU$3,$AM14/VLOOKUP($AO14,Data!$A$50:$B$56,2,FALSE),0) -> 0 | AV14: =IF(AV$2=$A14,0,IF(HLOOKUP(AV$2,Recipes!$H:$GI,'Production Calculator'!$A14+2,FALSE)=0,0,HLOOKUP(AV$2,Recipes!$H:$GI,'Production Calculator'!$A14+2,FALSE)*$AK14))+IF($AO14=AV$3,$AM14/VLOOKUP($AO14,Data!$A$50:$B$56,2,FALSE),0) -> 0 | AW14: =IF(AW$2=$A14,0,IF(HLOOKUP(AW$2,Recipes!$H:$GI,'Production Calculator'!$A14+2,FALSE)=0,0,HLOOKUP(AW$2,Recipes!$H:$GI,'Production Calculator'!$A14+2,FALSE)*$AK14))+IF($AO14=AW$3,$AM14/VLOOKUP($AO14,Data!$A$50:$B$56,2,FALSE),0) -> 0 | AX14: =IF(AX$2=$A14,0,IF(HLOOKUP(AX$2,Recipes!$H:$GI,'Production Calculator'!$A14+2,FALSE)=0,0,HLOOKUP(AX$2,Recipes!$H:$GI,'Production Calculator'!$A14+2,FALSE)*$AK14))+IF($AO14=AX$3,$AM14/VLOOKUP($AO14,Data!$A$50:$B$56,2,FALSE),0) -> 0 | ... HR14: =IF(HR$2=$A14,0,IF(HLOOKUP(HR$2,Recipes!$H:$GI,'Production Calculator'!$A14+2,FALSE)=0,0,HLOOKUP(HR$2,Recipes!$H:$GI,'Production Calculator'!$A14+2,FALSE)*$AK14))+IF($AO14=HR$3,$AM14/VLOOKUP($AO14,Data!$A$50:$B$56,2,FALSE),0) -> 0
A15: 4 | B15: =VLOOKUP(A15,Recipes!A:B,2) -> Stone brick | C15: 0 | D15: =HLOOKUP(A15,$AQ$2:$HR$202,$A$202-1,FALSE)+C15 -> 0 | E15: Electric Furnace | F15: =VLOOKUP(A15,Recipes!$A$3:$G$186,6,FALSE) -> 1 | G15: =VLOOKUP(A15,Recipes!$A$3:$G$186,7,FALSE) -> 0 | H15: =ROUNDUP(D15/AL15,0) -> 0 | I15: =VLOOKUP(E15,Data!$A$2:$C$26,3, FALSE) -> 2 | J15: 0 | K15: 0 | L15: 0 | M15: 0 | N15: 0 | O15: 0 | P15: 0 | Q15: 0 | R15: 0 | S15: =J15*$H15 -> 0 | T15: =K15*$H15 -> 0 | U15: =L15*$H15 -> 0 | V15: =M15*$H15 -> 0 | W15: =N15*$H15 -> 0 | X15: =O15*$H15 -> 0 | Y15: =P15*$H15 -> 0 | Z15: =Q15*$H15 -> 0 | AA15: =R15*$H15 -> 0 | AB15: =VLOOKUP($A15,Recipes!$A:$G,4) -> 3.5 | AC15: =VLOOKUP($A15,Recipes!$A:$G,5) -> 1 | AD15: =AC15/AB15 -> 0.28571429 | AE15: =VLOOKUP(E15,Data!$A$2:$F$26,5,FALSE) -> 0 | AF15: =VLOOKUP(E15,Data!$A$2:$F$26,4,FALSE) -> 180 | AG15: =VLOOKUP(E15,Data!$A$2:$B$26,2, FALSE) -> 2 | AH15: =1+VLOOKUP($J$3,Data!$A$40:$D$48,2,FALSE)*$J15+VLOOKUP($K$3,Data!$A$40:$D$48,2,FALSE)*$K15+VLOOKUP($L$3,Data!$A$40:$D$48,2,FALSE)*$L15+VLOOKUP($M$3,Data!$A$40:$D$48,2,FALSE)*$M15+VLOOKUP($N$3,Data!$A$40:$D$48,2,FALSE)*$N15+VLOOKUP($O$3,Data!$A$40:$D$48,2,FALSE)*$O15+VLOOKUP($P$3,Data!$A$40:$D$48,2,FALSE)*$P15+VLOOKUP($Q$3,Data!$A$40:$D$48,2,FALSE)*$Q15+VLOOKUP($R$3,Data!$A$40:$D$48,2,FALSE)*$R15 -> 1 | AI15: =MAX(1+VLOOKUP($J$3,Data!$A$40:$D$48,3,FALSE)*$J15+VLOOKUP($K$3,Data!$A$40:$D$48,3,FALSE)*$K15+VLOOKUP($L$3,Data!$A$40:$D$48,3,FALSE)*$L15+VLOOKUP($M$3,Data!$A$40:$D$48,3,FALSE)*$M15+VLOOKUP($N$3,Data!$A$40:$D$48,3,FALSE)*$N15+VLOOKUP($O$3,Data!$A$40:$D$48,3,FALSE)*$O15+VLOOKUP($P$3,Data!$A$40:$D$48,3,FALSE)*$P15+VLOOKUP($Q$3,Data!$A$40:$D$48,3,FALSE)*$Q15+VLOOKUP($R$3,Data!$A$40:$D$48,3,FALSE)*$R15,0) -> 1 | AJ15: =MAX(1-(VLOOKUP($J$3,Data!$A$40:$D$48,4,FALSE)*$J15+VLOOKUP($K$3,Data!$A$40:$D$48,4,FALSE)*$K15+VLOOKUP($L$3,Data!$A$40:$D$48,4,FALSE)*$L15+VLOOKUP($M$3,Data!$A$40:$D$48,4,FALSE)*$M15+VLOOKUP($N$3,Data!$A$40:$D$48,4,FALSE)*$N15+VLOOKUP($O$3,Data!$A$40:$D$48,4,FALSE)*$O15+VLOOKUP($P$3,Data!$A$40:$D$48,4,FALSE)*$P15+VLOOKUP($Q$3,Data!$A$40:$D$48,4,FALSE)*$Q15+VLOOKUP($R$3,Data!$A$40:$D$48,4,FALSE)*$R15),0.2) -> 1 | AK15: =D15/(AC15*AH15) -> 0 | AL15: =AD15*AG15*AH15*AI15 -> 0.57142857 | AM15: =AE15*H15*AJ15 -> 0 | AN15: =AF15*H15*AJ15 -> 0 | AO15: None | AQ15: =IF(AQ$2=$A15,0,IF(HLOOKUP(AQ$2,Recipes!$H:$GI,'Production Calculator'!$A15+2,FALSE)=0,0,HLOOKUP(AQ$2,Recipes!$H:$GI,'Production Calculator'!$A15+2,FALSE)*$AK15))+IF($AO15=AQ$3,$AM15/VLOOKUP($AO15,Data!$A$50:$B$56,2,FALSE),0) -> 0 | AR15: =IF(AR$2=$A15,0,IF(HLOOKUP(AR$2,Recipes!$H:$GI,'Production Calculator'!$A15+2,FALSE)=0,0,HLOOKUP(AR$2,Recipes!$H:$GI,'Production Calculator'!$A15+2,FALSE)*$AK15))+IF($AO15=AR$3,$AM15/VLOOKUP($AO15,Data!$A$50:$B$56,2,FALSE),0) -> 0 | AS15: =IF(AS$2=$A15,0,IF(HLOOKUP(AS$2,Recipes!$H:$GI,'Production Calculator'!$A15+2,FALSE)=0,0,HLOOKUP(AS$2,Recipes!$H:$GI,'Production Calculator'!$A15+2,FALSE)*$AK15))+IF($AO15=AS$3,$AM15/VLOOKUP($AO15,Data!$A$50:$B$56,2,FALSE),0) -> 0 | AT15: =IF(AT$2=$A15,0,IF(HLOOKUP(AT$2,Recipes!$H:$GI,'Production Calculator'!$A15+2,FALSE)=0,0,HLOOKUP(AT$2,Recipes!$H:$GI,'Production Calculator'!$A15+2,FALSE)*$AK15))+IF($AO15=AT$3,$AM15/VLOOKUP($AO15,Data!$A$50:$B$56,2,FALSE),0) -> 0 | AU15: =IF(AU$2=$A15,0,IF(HLOOKUP(AU$2,Recipes!$H:$GI,'Production Calculator'!$A15+2,FALSE)=0,0,HLOOKUP(AU$2,Recipes!$H:$GI,'Production Calculator'!$A15+2,FALSE)*$AK15))+IF($AO15=AU$3,$AM15/VLOOKUP($AO15,Data!$A$50:$B$56,2,FALSE),0) -> 0 | AV15: =IF(AV$2=$A15,0,IF(HLOOKUP(AV$2,Recipes!$H:$GI,'Production Calculator'!$A15+2,FALSE)=0,0,HLOOKUP(AV$2,Recipes!$H:$GI,'Production Calculator'!$A15+2,FALSE)*$AK15))+IF($AO15=AV$3,$AM15/VLOOKUP($AO15,Data!$A$50:$B$56,2,FALSE),0) -> 0 | AW15: =IF(AW$2=$A15,0,IF(HLOOKUP(AW$2,Recipes!$H:$GI,'Production Calculator'!$A15+2,FALSE)=0,0,HLOOKUP(AW$2,Recipes!$H:$GI,'Production Calculator'!$A15+2,FALSE)*$AK15))+IF($AO15=AW$3,$AM15/VLOOKUP($AO15,Data!$A$50:$B$56,2,FALSE),0) -> 0 | AX15: =IF(AX$2=$A15,0,IF(HLOOKUP(AX$2,Recipes!$H:$GI,'Production Calculator'!$A15+2,FALSE)=0,0,HLOOKUP(AX$2,Recipes!$H:$GI,'Production Calculator'!$A15+2,FALSE)*$AK15))+IF($AO15=AX$3,$AM15/VLOOKUP($AO15,Data!$A$50:$B$56,2,FALSE),0) -> 0 | ... HR15: =IF(HR$2=$A15,0,IF(HLOOKUP(HR$2,Recipes!$H:$GI,'Production Calculator'!$A15+2,FALSE)=0,0,HLOOKUP(HR$2,Recipes!$H:$GI,'Production Calculator'!$A15+2,FALSE)*$AK15))+IF($AO15=HR$3,$AM15/VLOOKUP($AO15,Data!$A$50:$B$56,2,FALSE),0) -> 0
B16: Construction
A17: 5 | B17: =VLOOKUP(A17,Recipes!A:B,2) -> Concrete | C17: 0 | D17: =HLOOKUP(A17,$AQ$2:$HR$202,$A$202-1,FALSE)+C17 -> 0 | E17: Assembly Machine III | F17: =VLOOKUP(A17,Recipes!$A$3:$G$186,6,FALSE) -> 3 | G17: =VLOOKUP(A17,Recipes!$A$3:$G$186,7,FALSE) -> 0 | H17: =ROUNDUP(D17/AL17,0) -> 0 | I17: =VLOOKUP(E17,Data!$A$2:$C$26,3, FALSE) -> 4 | J17: 0 | K17: 0 | L17: 0 | M17: 0 | N17: 0 | O17: 0 | P17: 0 | Q17: 0 | R17: 0 | S17: =J17*$H17 -> 0 | T17: =K17*$H17 -> 0 | U17: =L17*$H17 -> 0 | V17: =M17*$H17 -> 0 | W17: =N17*$H17 -> 0 | X17: =O17*$H17 -> 0 | Y17: =P17*$H17 -> 0 | Z17: =Q17*$H17 -> 0 | AA17: =R17*$H17 -> 0 | AB17: =VLOOKUP($A17,Recipes!$A:$G,4) -> 10 | AC17: =VLOOKUP($A17,Recipes!$A:$G,5) -> 10 | AD17: =AC17/AB17 -> 1 | AE17: =VLOOKUP(E17,Data!$A$2:$F$26,5,FALSE) -> 0 | AF17: =VLOOKUP(E17,Data!$A$2:$F$26,4,FALSE) -> 210 | AG17: =VLOOKUP(E17,Data!$A$2:$B$26,2, FALSE) -> 1.25 | AH17: =1+VLOOKUP($J$3,Data!$A$40:$D$48,2,FALSE)*$J17+VLOOKUP($K$3,Data!$A$40:$D$48,2,FALSE)*$K17+VLOOKUP($L$3,Data!$A$40:$D$48,2,FALSE)*$L17+VLOOKUP($M$3,Data!$A$40:$D$48,2,FALSE)*$M17+VLOOKUP($N$3,Data!$A$40:$D$48,2,FALSE)*$N17+VLOOKUP($O$3,Data!$A$40:$D$48,2,FALSE)*$O17+VLOOKUP($P$3,Data!$A$40:$D$48,2,FALSE)*$P17+VLOOKUP($Q$3,Data!$A$40:$D$48,2,FALSE)*$Q17+VLOOKUP($R$3,Data!$A$40:$D$48,2,FALSE)*$R17 -> 1 | AI17: =MAX(1+VLOOKUP($J$3,Data!$A$40:$D$48,3,FALSE)*$J17+VLOOKUP($K$3,Data!$A$40:$D$48,3,FALSE)*$K17+VLOOKUP($L$3,Data!$A$40:$D$48,3,FALSE)*$L17+VLOOKUP($M$3,Data!$A$40:$D$48,3,FALSE)*$M17+VLOOKUP($N$3,Data!$A$40:$D$48,3,FALSE)*$N17+VLOOKUP($O$3,Data!$A$40:$D$48,3,FALSE)*$O17+VLOOKUP($P$3,Data!$A$40:$D$48,3,FALSE)*$P17+VLOOKUP($Q$3,Data!$A$40:$D$48,3,FALSE)*$Q17+VLOOKUP($R$3,Data!$A$40:$D$48,3,FALSE)*$R17,0) -> 1 | AJ17: =MAX(1-(VLOOKUP($J$3,Data!$A$40:$D$48,4,FALSE)*$J17+VLOOKUP($K$3,Data!$A$40:$D$48,4,FALSE)*$K17+VLOOKUP($L$3,Data!$A$40:$D$48,4,FALSE)*$L17+VLOOKUP($M$3,Data!$A$40:$D$48,4,FALSE)*$M17+VLOOKUP($N$3,Data!$A$40:$D$48,4,FALSE)*$N17+VLOOKUP($O$3,Data!$A$40:$D$48,4,FALSE)*$O17+VLOOKUP($P$3,Data!$A$40:$D$48,4,FALSE)*$P17+VLOOKUP($Q$3,Data!$A$40:$D$48,4,FALSE)*$Q17+VLOOKUP($R$3,Data!$A$40:$D$48,4,FALSE)*$R17),0.2) -> 1 | AK17: =D17/(AC17*AH17) -> 0 | AL17: =AD17*AG17*AH17*AI17 -> 1.25 | AM17: =AE17*H17*AJ17 -> 0 | AN17: =AF17*H17*AJ17 -> 0 | AO17: None | AQ17: =IF(AQ$2=$A17,0,IF(HLOOKUP(AQ$2,Recipes!$H:$GI,'Production Calculator'!$A17+2,FALSE)=0,0,HLOOKUP(AQ$2,Recipes!$H:$GI,'Production Calculator'!$A17+2,FALSE)*$AK17))+IF($AO17=AQ$3,$AM17/VLOOKUP($AO17,Data!$A$50:$B$56,2,FALSE),0) -> 0 | AR17: =IF(AR$2=$A17,0,IF(HLOOKUP(AR$2,Recipes!$H:$GI,'Production Calculator'!$A17+2,FALSE)=0,0,HLOOKUP(AR$2,Recipes!$H:$GI,'Production Calculator'!$A17+2,FALSE)*$AK17))+IF($AO17=AR$3,$AM17/VLOOKUP($AO17,Data!$A$50:$B$56,2,FALSE),0) -> 0 | AS17: =IF(AS$2=$A17,0,IF(HLOOKUP(AS$2,Recipes!$H:$GI,'Production Calculator'!$A17+2,FALSE)=0,0,HLOOKUP(AS$2,Recipes!$H:$GI,'Production Calculator'!$A17+2,FALSE)*$AK17))+IF($AO17=AS$3,$AM17/VLOOKUP($AO17,Data!$A$50:$B$56,2,FALSE),0) -> 0 | AT17: =IF(AT$2=$A17,0,IF(HLOOKUP(AT$2,Recipes!$H:$GI,'Production Calculator'!$A17+2,FALSE)=0,0,HLOOKUP(AT$2,Recipes!$H:$GI,'Production Calculator'!$A17+2,FALSE)*$AK17))+IF($AO17=AT$3,$AM17/VLOOKUP($AO17,Data!$A$50:$B$56,2,FALSE),0) -> 0 | AU17: =IF(AU$2=$A17,0,IF(HLOOKUP(AU$2,Recipes!$H:$GI,'Production Calculator'!$A17+2,FALSE)=0,0,HLOOKUP(AU$2,Recipes!$H:$GI,'Production Calculator'!$A17+2,FALSE)*$AK17))+IF($AO17=AU$3,$AM17/VLOOKUP($AO17,Data!$A$50:$B$56,2,FALSE),0) -> 0 | AV17: =IF(AV$2=$A17,0,IF(HLOOKUP(AV$2,Recipes!$H:$GI,'Production Calculator'!$A17+2,FALSE)=0,0,HLOOKUP(AV$2,Recipes!$H:$GI,'Production Calculator'!$A17+2,FALSE)*$AK17))+IF($AO17=AV$3,$AM17/VLOOKUP($AO17,Data!$A$50:$B$56,2,FALSE),0) -> 0 | AW17: =IF(AW$2=$A17,0,IF(HLOOKUP(AW$2,Recipes!$H:$GI,'Production Calculator'!$A17+2,FALSE)=0,0,HLOOKUP(AW$2,Recipes!$H:$GI,'Production Calculator'!$A17+2,FALSE)*$AK17))+IF($AO17=AW$3,$AM17/VLOOKUP($AO17,Data!$A$50:$B$56,2,FALSE),0) -> 0 | AX17: =IF(AX$2=$A17,0,IF(HLOOKUP(AX$2,Recipes!$H:$GI,'Production Calculator'!$A17+2,FALSE)=0,0,HLOOKUP(AX$2,Recipes!$H:$GI,'Production Calculator'!$A17+2,FALSE)*$AK17))+IF($AO17=AX$3,$AM17/VLOOKUP($AO17,Data!$A$50:$B$56,2,FALSE),0) -> 0 | ... HR17: =IF(HR$2=$A17,0,IF(HLOOKUP(HR$2,Recipes!$H:$GI,'Production Calculator'!$A17+2,FALSE)=0,0,HLOOKUP(HR$2,Recipes!$H:$GI,'Production Calculator'!$A17+2,FALSE)*$AK17))+IF($AO17=HR$3,$AM17/VLOOKUP($AO17,Data!$A$50:$B$56,2,FALSE),0) -> 0
A18: 6 | B18: =VLOOKUP(A18,Recipes!A:B,2) -> Hazard concrete | C18: 0 | D18: =HLOOKUP(A18,$AQ$2:$HR$202,$A$202-1,FALSE)+C18 -> 0 | E18: Assembly Machine III | F18: =VLOOKUP(A18,Recipes!$A$3:$G$186,6,FALSE) -> 1 | G18: =VLOOKUP(A18,Recipes!$A$3:$G$186,7,FALSE) -> 0 | H18: =ROUNDUP(D18/AL18,0) -> 0 | I18: =VLOOKUP(E18,Data!$A$2:$C$26,3, FALSE) -> 4 | J18: 0 | K18: 0 | L18: 0 | M18: 0 | N18: 0 | O18: 0 | P18: 0 | Q18: 0 | R18: 0 | S18: =J18*$H18 -> 0 | T18: =K18*$H18 -> 0 | U18: =L18*$H18 -> 0 | V18: =M18*$H18 -> 0 | W18: =N18*$H18 -> 0 | X18: =O18*$H18 -> 0 | Y18: =P18*$H18 -> 0 | Z18: =Q18*$H18 -> 0 | AA18: =R18*$H18 -> 0 | AB18: =VLOOKUP($A18,Recipes!$A:$G,4) -> 0.25 | AC18: =VLOOKUP($A18,Recipes!$A:$G,5) -> 10 | AD18: =AC18/AB18 -> 40 | AE18: =VLOOKUP(E18,Data!$A$2:$F$26,5,FALSE) -> 0 | AF18: =VLOOKUP(E18,Data!$A$2:$F$26,4,FALSE) -> 210 | AG18: =VLOOKUP(E18,Data!$A$2:$B$26,2, FALSE) -> 1.25 | AH18: =1+VLOOKUP($J$3,Data!$A$40:$D$48,2,FALSE)*$J18+VLOOKUP($K$3,Data!$A$40:$D$48,2,FALSE)*$K18+VLOOKUP($L$3,Data!$A$40:$D$48,2,FALSE)*$L18+VLOOKUP($M$3,Data!$A$40:$D$48,2,FALSE)*$M18+VLOOKUP($N$3,Data!$A$40:$D$48,2,FALSE)*$N18+VLOOKUP($O$3,Data!$A$40:$D$48,2,FALSE)*$O18+VLOOKUP($P$3,Data!$A$40:$D$48,2,FALSE)*$P18+VLOOKUP($Q$3,Data!$A$40:$D$48,2,FALSE)*$Q18+VLOOKUP($R$3,Data!$A$40:$D$48,2,FALSE)*$R18 -> 1 | AI18: =MAX(1+VLOOKUP($J$3,Data!$A$40:$D$48,3,FALSE)*$J18+VLOOKUP($K$3,Data!$A$40:$D$48,3,FALSE)*$K18+VLOOKUP($L$3,Data!$A$40:$D$48,3,FALSE)*$L18+VLOOKUP($M$3,Data!$A$40:$D$48,3,FALSE)*$M18+VLOOKUP($N$3,Data!$A$40:$D$48,3,FALSE)*$N18+VLOOKUP($O$3,Data!$A$40:$D$48,3,FALSE)*$O18+VLOOKUP($P$3,Data!$A$40:$D$48,3,FALSE)*$P18+VLOOKUP($Q$3,Data!$A$40:$D$48,3,FALSE)*$Q18+VLOOKUP($R$3,Data!$A$40:$D$48,3,FALSE)*$R18,0) -> 1 | AJ18: =MAX(1-(VLOOKUP($J$3,Data!$A$40:$D$48,4,FALSE)*$J18+VLOOKUP($K$3,Data!$A$40:$D$48,4,FALSE)*$K18+VLOOKUP($L$3,Data!$A$40:$D$48,4,FALSE)*$L18+VLOOKUP($M$3,Data!$A$40:$D$48,4,FALSE)*$M18+VLOOKUP($N$3,Data!$A$40:$D$48,4,FALSE)*$N18+VLOOKUP($O$3,Data!$A$40:$D$48,4,FALSE)*$O18+VLOOKUP($P$3,Data!$A$40:$D$48,4,FALSE)*$P18+VLOOKUP($Q$3,Data!$A$40:$D$48,4,FALSE)*$Q18+VLOOKUP($R$3,Data!$A$40:$D$48,4,FALSE)*$R18),0.2) -> 1 | AK18: =D18/(AC18*AH18) -> 0 | AL18: =AD18*AG18*AH18*AI18 -> 50 | AM18: =AE18*H18*AJ18 -> 0 | AN18: =AF18*H18*AJ18 -> 0 | AO18: None | AQ18: =IF(AQ$2=$A18,0,IF(HLOOKUP(AQ$2,Recipes!$H:$GI,'Production Calculator'!$A18+2,FALSE)=0,0,HLOOKUP(AQ$2,Recipes!$H:$GI,'Production Calculator'!$A18+2,FALSE)*$AK18))+IF($AO18=AQ$3,$AM18/VLOOKUP($AO18,Data!$A$50:$B$56,2,FALSE),0) -> 0 | AR18: =IF(AR$2=$A18,0,IF(HLOOKUP(AR$2,Recipes!$H:$GI,'Production Calculator'!$A18+2,FALSE)=0,0,HLOOKUP(AR$2,Recipes!$H:$GI,'Production Calculator'!$A18+2,FALSE)*$AK18))+IF($AO18=AR$3,$AM18/VLOOKUP($AO18,Data!$A$50:$B$56,2,FALSE),0) -> 0 | AS18: =IF(AS$2=$A18,0,IF(HLOOKUP(AS$2,Recipes!$H:$GI,'Production Calculator'!$A18+2,FALSE)=0,0,HLOOKUP(AS$2,Recipes!$H:$GI,'Production Calculator'!$A18+2,FALSE)*$AK18))+IF($AO18=AS$3,$AM18/VLOOKUP($AO18,Data!$A$50:$B$56,2,FALSE),0) -> 0 | AT18: =IF(AT$2=$A18,0,IF(HLOOKUP(AT$2,Recipes!$H:$GI,'Production Calculator'!$A18+2,FALSE)=0,0,HLOOKUP(AT$2,Recipes!$H:$GI,'Production Calculator'!$A18+2,FALSE)*$AK18))+IF($AO18=AT$3,$AM18/VLOOKUP($AO18,Data!$A$50:$B$56,2,FALSE),0) -> 0 | AU18: =IF(AU$2=$A18,0,IF(HLOOKUP(AU$2,Recipes!$H:$GI,'Production Calculator'!$A18+2,FALSE)=0,0,HLOOKUP(AU$2,Recipes!$H:$GI,'Production Calculator'!$A18+2,FALSE)*$AK18))+IF($AO18=AU$3,$AM18/VLOOKUP($AO18,Data!$A$50:$B$56,2,FALSE),0) -> 0 | AV18: =IF(AV$2=$A18,0,IF(HLOOKUP(AV$2,Recipes!$H:$GI,'Production Calculator'!$A18+2,FALSE)=0,0,HLOOKUP(AV$2,Recipes!$H:$GI,'Production Calculator'!$A18+2,FALSE)*$AK18))+IF($AO18=AV$3,$AM18/VLOOKUP($AO18,Data!$A$50:$B$56,2,FALSE),0) -> 0 | AW18: =IF(AW$2=$A18,0,IF(HLOOKUP(AW$2,Recipes!$H:$GI,'Production Calculator'!$A18+2,FALSE)=0,0,HLOOKUP(AW$2,Recipes!$H:$GI,'Production Calculator'!$A18+2,FALSE)*$AK18))+IF($AO18=AW$3,$AM18/VLOOKUP($AO18,Data!$A$50:$B$56,2,FALSE),0) -> 0 | AX18: =IF(AX$2=$A18,0,IF(HLOOKUP(AX$2,Recipes!$H:$GI,'Production Calculator'!$A18+2,FALSE)=0,0,HLOOKUP(AX$2,Recipes!$H:$GI,'Production Calculator'!$A18+2,FALSE)*$AK18))+IF($AO18=AX$3,$AM18/VLOOKUP($AO18,Data!$A$50:$B$56,2,FALSE),0) -> 0 | ... HR18: =IF(HR$2=$A18,0,IF(HLOOKUP(HR$2,Recipes!$H:$GI,'Production Calculator'!$A18+2,FALSE)=0,0,HLOOKUP(HR$2,Recipes!$H:$GI,'Production Calculator'!$A18+2,FALSE)*$AK18))+IF($AO18=HR$3,$AM18/VLOOKUP($AO18,Data!$A$50:$B$56,2,FALSE),0) -> 0
A19: 7 | B19: =VLOOKUP(A19,Recipes!A:B,2) -> Lamp | C19: 0 | D19: =HLOOKUP(A19,$AQ$2:$HR$202,$A$202-1,FALSE)+C19 -> 0 | E19: Assembly Machine III | F19: =VLOOKUP(A19,Recipes!$A$3:$G$186,6,FALSE) -> 3 | G19: =VLOOKUP(A19,Recipes!$A$3:$G$186,7,FALSE) -> 0 | H19: =ROUNDUP(D19/AL19,0) -> 0 | I19: =VLOOKUP(E19,Data!$A$2:$C$26,3, FALSE) -> 4 | J19: 0 | K19: 0 | L19: 0 | M19: 0 | N19: 0 | O19: 0 | P19: 0 | Q19: 0 | R19: 0 | S19: =J19*$H19 -> 0 | T19: =K19*$H19 -> 0 | U19: =L19*$H19 -> 0 | V19: =M19*$H19 -> 0 | W19: =N19*$H19 -> 0 | X19: =O19*$H19 -> 0 | Y19: =P19*$H19 -> 0 | Z19: =Q19*$H19 -> 0 | AA19: =R19*$H19 -> 0 | AB19: =VLOOKUP($A19,Recipes!$A:$G,4) -> 0.5 | AC19: =VLOOKUP($A19,Recipes!$A:$G,5) -> 1 | AD19: =AC19/AB19 -> 2 | AE19: =VLOOKUP(E19,Data!$A$2:$F$26,5,FALSE) -> 0 | AF19: =VLOOKUP(E19,Data!$A$2:$F$26,4,FALSE) -> 210 | AG19: =VLOOKUP(E19,Data!$A$2:$B$26,2, FALSE) -> 1.25 | AH19: =1+VLOOKUP($J$3,Data!$A$40:$D$48,2,FALSE)*$J19+VLOOKUP($K$3,Data!$A$40:$D$48,2,FALSE)*$K19+VLOOKUP($L$3,Data!$A$40:$D$48,2,FALSE)*$L19+VLOOKUP($M$3,Data!$A$40:$D$48,2,FALSE)*$M19+VLOOKUP($N$3,Data!$A$40:$D$48,2,FALSE)*$N19+VLOOKUP($O$3,Data!$A$40:$D$48,2,FALSE)*$O19+VLOOKUP($P$3,Data!$A$40:$D$48,2,FALSE)*$P19+VLOOKUP($Q$3,Data!$A$40:$D$48,2,FALSE)*$Q19+VLOOKUP($R$3,Data!$A$40:$D$48,2,FALSE)*$R19 -> 1 | AI19: =MAX(1+VLOOKUP($J$3,Data!$A$40:$D$48,3,FALSE)*$J19+VLOOKUP($K$3,Data!$A$40:$D$48,3,FALSE)*$K19+VLOOKUP($L$3,Data!$A$40:$D$48,3,FALSE)*$L19+VLOOKUP($M$3,Data!$A$40:$D$48,3,FALSE)*$M19+VLOOKUP($N$3,Data!$A$40:$D$48,3,FALSE)*$N19+VLOOKUP($O$3,Data!$A$40:$D$48,3,FALSE)*$O19+VLOOKUP($P$3,Data!$A$40:$D$48,3,FALSE)*$P19+VLOOKUP($Q$3,Data!$A$40:$D$48,3,FALSE)*$Q19+VLOOKUP($R$3,Data!$A$40:$D$48,3,FALSE)*$R19,0) -> 1 | AJ19: =MAX(1-(VLOOKUP($J$3,Data!$A$40:$D$48,4,FALSE)*$J19+VLOOKUP($K$3,Data!$A$40:$D$48,4,FALSE)*$K19+VLOOKUP($L$3,Data!$A$40:$D$48,4,FALSE)*$L19+VLOOKUP($M$3,Data!$A$40:$D$48,4,FALSE)*$M19+VLOOKUP($N$3,Data!$A$40:$D$48,4,FALSE)*$N19+VLOOKUP($O$3,Data!$A$40:$D$48,4,FALSE)*$O19+VLOOKUP($P$3,Data!$A$40:$D$48,4,FALSE)*$P19+VLOOKUP($Q$3,Data!$A$40:$D$48,4,FALSE)*$Q19+VLOOKUP($R$3,Data!$A$40:$D$48,4,FALSE)*$R19),0.2) -> 1 | AK19: =D19/(AC19*AH19) -> 0 | AL19: =AD19*AG19*AH19*AI19 -> 2.5 | AM19: =AE19*H19*AJ19 -> 0 | AN19: =AF19*H19*AJ19 -> 0 | AO19: None | AQ19: =IF(AQ$2=$A19,0,IF(HLOOKUP(AQ$2,Recipes!$H:$GI,'Production Calculator'!$A19+2,FALSE)=0,0,HLOOKUP(AQ$2,Recipes!$H:$GI,'Production Calculator'!$A19+2,FALSE)*$AK19))+IF($AO19=AQ$3,$AM19/VLOOKUP($AO19,Data!$A$50:$B$56,2,FALSE),0) -> 0 | AR19: =IF(AR$2=$A19,0,IF(HLOOKUP(AR$2,Recipes!$H:$GI,'Production Calculator'!$A19+2,FALSE)=0,0,HLOOKUP(AR$2,Recipes!$H:$GI,'Production Calculator'!$A19+2,FALSE)*$AK19))+IF($AO19=AR$3,$AM19/VLOOKUP($AO19,Data!$A$50:$B$56,2,FALSE),0) -> 0 | AS19: =IF(AS$2=$A19,0,IF(HLOOKUP(AS$2,Recipes!$H:$GI,'Production Calculator'!$A19+2,FALSE)=0,0,HLOOKUP(AS$2,Recipes!$H:$GI,'Production Calculator'!$A19+2,FALSE)*$AK19))+IF($AO19=AS$3,$AM19/VLOOKUP($AO19,Data!$A$50:$B$56,2,FALSE),0) -> 0 | AT19: =IF(AT$2=$A19,0,IF(HLOOKUP(AT$2,Recipes!$H:$GI,'Production Calculator'!$A19+2,FALSE)=0,0,HLOOKUP(AT$2,Recipes!$H:$GI,'Production Calculator'!$A19+2,FALSE)*$AK19))+IF($AO19=AT$3,$AM19/VLOOKUP($AO19,Data!$A$50:$B$56,2,FALSE),0) -> 0 | AU19: =IF(AU$2=$A19,0,IF(HLOOKUP(AU$2,Recipes!$H:$GI,'Production Calculator'!$A19+2,FALSE)=0,0,HLOOKUP(AU$2,Recipes!$H:$GI,'Production Calculator'!$A19+2,FALSE)*$AK19))+IF($AO19=AU$3,$AM19/VLOOKUP($AO19,Data!$A$50:$B$56,2,FALSE),0) -> 0 | AV19: =IF(AV$2=$A19,0,IF(HLOOKUP(AV$2,Recipes!$H:$GI,'Production Calculator'!$A19+2,FALSE)=0,0,HLOOKUP(AV$2,Recipes!$H:$GI,'Production Calculator'!$A19+2,FALSE)*$AK19))+IF($AO19=AV$3,$AM19/VLOOKUP($AO19,Data!$A$50:$B$56,2,FALSE),0) -> 0 | AW19: =IF(AW$2=$A19,0,IF(HLOOKUP(AW$2,Recipes!$H:$GI,'Production Calculator'!$A19+2,FALSE)=0,0,HLOOKUP(AW$2,Recipes!$H:$GI,'Production Calculator'!$A19+2,FALSE)*$AK19))+IF($AO19=AW$3,$AM19/VLOOKUP($AO19,Data!$A$50:$B$56,2,FALSE),0) -> 0 | AX19: =IF(AX$2=$A19,0,IF(HLOOKUP(AX$2,Recipes!$H:$GI,'Production Calculator'!$A19+2,FALSE)=0,0,HLOOKUP(AX$2,Recipes!$H:$GI,'Production Calculator'!$A19+2,FALSE)*$AK19))+IF($AO19=AX$3,$AM19/VLOOKUP($AO19,Data!$A$50:$B$56,2,FALSE),0) -> 0 | ... HR19: =IF(HR$2=$A19,0,IF(HLOOKUP(HR$2,Recipes!$H:$GI,'Production Calculator'!$A19+2,FALSE)=0,0,HLOOKUP(HR$2,Recipes!$H:$GI,'Production Calculator'!$A19+2,FALSE)*$AK19))+IF($AO19=HR$3,$AM19/VLOOKUP($AO19,Data!$A$50:$B$56,2,FALSE),0) -> 0
A20: 8 | B20: =VLOOKUP(A20,Recipes!A:B,2) -> Landfill | C20: 0 | D20: =HLOOKUP(A20,$AQ$2:$HR$202,$A$202-1,FALSE)+C20 -> 0 | E20: Assembly Machine III | F20: =VLOOKUP(A20,Recipes!$A$3:$G$186,6,FALSE) -> 1 | G20: =VLOOKUP(A20,Recipes!$A$3:$G$186,7,FALSE) -> 0 | H20: =ROUNDUP(D20/AL20,0) -> 0 | I20: =VLOOKUP(E20,Data!$A$2:$C$26,3, FALSE) -> 4 | J20: 0 | K20: 0 | L20: 0 | M20: 0 | N20: 0 | O20: 0 | P20: 0 | Q20: 0 | R20: 0 | S20: =J20*$H20 -> 0 | T20: =K20*$H20 -> 0 | U20: =L20*$H20 -> 0 | V20: =M20*$H20 -> 0 | W20: =N20*$H20 -> 0 | X20: =O20*$H20 -> 0 | Y20: =P20*$H20 -> 0 | Z20: =Q20*$H20 -> 0 | AA20: =R20*$H20 -> 0 | AB20: =VLOOKUP($A20,Recipes!$A:$G,4) -> 0.5 | AC20: =VLOOKUP($A20,Recipes!$A:$G,5) -> 1 | AD20: =AC20/AB20 -> 2 | AE20: =VLOOKUP(E20,Data!$A$2:$F$26,5,FALSE) -> 0 | AF20: =VLOOKUP(E20,Data!$A$2:$F$26,4,FALSE) -> 210 | AG20: =VLOOKUP(E20,Data!$A$2:$B$26,2, FALSE) -> 1.25 | AH20: =1+VLOOKUP($J$3,Data!$A$40:$D$48,2,FALSE)*$J20+VLOOKUP($K$3,Data!$A$40:$D$48,2,FALSE)*$K20+VLOOKUP($L$3,Data!$A$40:$D$48,2,FALSE)*$L20+VLOOKUP($M$3,Data!$A$40:$D$48,2,FALSE)*$M20+VLOOKUP($N$3,Data!$A$40:$D$48,2,FALSE)*$N20+VLOOKUP($O$3,Data!$A$40:$D$48,2,FALSE)*$O20+VLOOKUP($P$3,Data!$A$40:$D$48,2,FALSE)*$P20+VLOOKUP($Q$3,Data!$A$40:$D$48,2,FALSE)*$Q20+VLOOKUP($R$3,Data!$A$40:$D$48,2,FALSE)*$R20 -> 1 | AI20: =MAX(1+VLOOKUP($J$3,Data!$A$40:$D$48,3,FALSE)*$J20+VLOOKUP($K$3,Data!$A$40:$D$48,3,FALSE)*$K20+VLOOKUP($L$3,Data!$A$40:$D$48,3,FALSE)*$L20+VLOOKUP($M$3,Data!$A$40:$D$48,3,FALSE)*$M20+VLOOKUP($N$3,Data!$A$40:$D$48,3,FALSE)*$N20+VLOOKUP($O$3,Data!$A$40:$D$48,3,FALSE)*$O20+VLOOKUP($P$3,Data!$A$40:$D$48,3,FALSE)*$P20+VLOOKUP($Q$3,Data!$A$40:$D$48,3,FALSE)*$Q20+VLOOKUP($R$3,Data!$A$40:$D$48,3,FALSE)*$R20,0) -> 1 | AJ20: =MAX(1-(VLOOKUP($J$3,Data!$A$40:$D$48,4,FALSE)*$J20+VLOOKUP($K$3,Data!$A$40:$D$48,4,FALSE)*$K20+VLOOKUP($L$3,Data!$A$40:$D$48,4,FALSE)*$L20+VLOOKUP($M$3,Data!$A$40:$D$48,4,FALSE)*$M20+VLOOKUP($N$3,Data!$A$40:$D$48,4,FALSE)*$N20+VLOOKUP($O$3,Data!$A$40:$D$48,4,FALSE)*$O20+VLOOKUP($P$3,Data!$A$40:$D$48,4,FALSE)*$P20+VLOOKUP($Q$3,Data!$A$40:$D$48,4,FALSE)*$Q20+VLOOKUP($R$3,Data!$A$40:$D$48,4,FALSE)*$R20),0.2) -> 1 | AK20: =D20/(AC20*AH20) -> 0 | AL20: =AD20*AG20*AH20*AI20 -> 2.5 | AM20: =AE20*H20*AJ20 -> 0 | AN20: =AF20*H20*AJ20 -> 0 | AO20: None | AQ20: =IF(AQ$2=$A20,0,IF(HLOOKUP(AQ$2,Recipes!$H:$GI,'Production Calculator'!$A20+2,FALSE)=0,0,HLOOKUP(AQ$2,Recipes!$H:$GI,'Production Calculator'!$A20+2,FALSE)*$AK20))+IF($AO20=AQ$3,$AM20/VLOOKUP($AO20,Data!$A$50:$B$56,2,FALSE),0) -> 0 | AR20: =IF(AR$2=$A20,0,IF(HLOOKUP(AR$2,Recipes!$H:$GI,'Production Calculator'!$A20+2,FALSE)=0,0,HLOOKUP(AR$2,Recipes!$H:$GI,'Production Calculator'!$A20+2,FALSE)*$AK20))+IF($AO20=AR$3,$AM20/VLOOKUP($AO20,Data!$A$50:$B$56,2,FALSE),0) -> 0 | AS20: =IF(AS$2=$A20,0,IF(HLOOKUP(AS$2,Recipes!$H:$GI,'Production Calculator'!$A20+2,FALSE)=0,0,HLOOKUP(AS$2,Recipes!$H:$GI,'Production Calculator'!$A20+2,FALSE)*$AK20))+IF($AO20=AS$3,$AM20/VLOOKUP($AO20,Data!$A$50:$B$56,2,FALSE),0) -> 0 | AT20: =IF(AT$2=$A20,0,IF(HLOOKUP(AT$2,Recipes!$H:$GI,'Production Calculator'!$A20+2,FALSE)=0,0,HLOOKUP(AT$2,Recipes!$H:$GI,'Production Calculator'!$A20+2,FALSE)*$AK20))+IF($AO20=AT$3,$AM20/VLOOKUP($AO20,Data!$A$50:$B$56,2,FALSE),0) -> 0 | AU20: =IF(AU$2=$A20,0,IF(HLOOKUP(AU$2,Recipes!$H:$GI,'Production Calculator'!$A20+2,FALSE)=0,0,HLOOKUP(AU$2,Recipes!$H:$GI,'Production Calculator'!$A20+2,FALSE)*$AK20))+IF($AO20=AU$3,$AM20/VLOOKUP($AO20,Data!$A$50:$B$56,2,FALSE),0) -> 0 | AV20: =IF(AV$2=$A20,0,IF(HLOOKUP(AV$2,Recipes!$H:$GI,'Production Calculator'!$A20+2,FALSE)=0,0,HLOOKUP(AV$2,Recipes!$H:$GI,'Production Calculator'!$A20+2,FALSE)*$AK20))+IF($AO20=AV$3,$AM20/VLOOKUP($AO20,Data!$A$50:$B$56,2,FALSE),0) -> 0 | AW20: =IF(AW$2=$A20,0,IF(HLOOKUP(AW$2,Recipes!$H:$GI,'Production Calculator'!$A20+2,FALSE)=0,0,HLOOKUP(AW$2,Recipes!$H:$GI,'Production Calculator'!$A20+2,FALSE)*$AK20))+IF($AO20=AW$3,$AM20/VLOOKUP($AO20,Data!$A$50:$B$56,2,FALSE),0) -> 0 | AX20: =IF(AX$2=$A20,0,IF(HLOOKUP(AX$2,Recipes!$H:$GI,'Production Calculator'!$A20+2,FALSE)=0,0,HLOOKUP(AX$2,Recipes!$H:$GI,'Production Calculator'!$A20+2,FALSE)*$AK20))+IF($AO20=AX$3,$AM20/VLOOKUP($AO20,Data!$A$50:$B$56,2,FALSE),0) -> 0 | ... HR20: =IF(HR$2=$A20,0,IF(HLOOKUP(HR$2,Recipes!$H:$GI,'Production Calculator'!$A20+2,FALSE)=0,0,HLOOKUP(HR$2,Recipes!$H:$GI,'Production Calculator'!$A20+2,FALSE)*$AK20))+IF($AO20=HR$3,$AM20/VLOOKUP($AO20,Data!$A$50:$B$56,2,FALSE),0) -> 0
A21: 9 | B21: =VLOOKUP(A21,Recipes!A:B,2) -> Repair pack | C21: 0 | D21: =HLOOKUP(A21,$AQ$2:$HR$202,$A$202-1,FALSE)+C21 -> 0 | E21: Assembly Machine III | F21: =VLOOKUP(A21,Recipes!$A$3:$G$186,6,FALSE) -> 2 | G21: =VLOOKUP(A21,Recipes!$A$3:$G$186,7,FALSE) -> 0 | H21: =ROUNDUP(D21/AL21,0) -> 0 | I21: =VLOOKUP(E21,Data!$A$2:$C$26,3, FALSE) -> 4 | J21: 0 | K21: 0 | L21: 0 | M21: 0 | N21: 0 | O21: 0 | P21: 0 | Q21: 0 | R21: 0 | S21: =J21*$H21 -> 0 | T21: =K21*$H21 -> 0 | U21: =L21*$H21 -> 0 | V21: =M21*$H21 -> 0 | W21: =N21*$H21 -> 0 | X21: =O21*$H21 -> 0 | Y21: =P21*$H21 -> 0 | Z21: =Q21*$H21 -> 0 | AA21: =R21*$H21 -> 0 | AB21: =VLOOKUP($A21,Recipes!$A:$G,4) -> 0.5 | AC21: =VLOOKUP($A21,Recipes!$A:$G,5) -> 1 | AD21: =AC21/AB21 -> 2 | AE21: =VLOOKUP(E21,Data!$A$2:$F$26,5,FALSE) -> 0 | AF21: =VLOOKUP(E21,Data!$A$2:$F$26,4,FALSE) -> 210 | AG21: =VLOOKUP(E21,Data!$A$2:$B$26,2, FALSE) -> 1.25 | AH21: =1+VLOOKUP($J$3,Data!$A$40:$D$48,2,FALSE)*$J21+VLOOKUP($K$3,Data!$A$40:$D$48,2,FALSE)*$K21+VLOOKUP($L$3,Data!$A$40:$D$48,2,FALSE)*$L21+VLOOKUP($M$3,Data!$A$40:$D$48,2,FALSE)*$M21+VLOOKUP($N$3,Data!$A$40:$D$48,2,FALSE)*$N21+VLOOKUP($O$3,Data!$A$40:$D$48,2,FALSE)*$O21+VLOOKUP($P$3,Data!$A$40:$D$48,2,FALSE)*$P21+VLOOKUP($Q$3,Data!$A$40:$D$48,2,FALSE)*$Q21+VLOOKUP($R$3,Data!$A$40:$D$48,2,FALSE)*$R21 -> 1 | AI21: =MAX(1+VLOOKUP($J$3,Data!$A$40:$D$48,3,FALSE)*$J21+VLOOKUP($K$3,Data!$A$40:$D$48,3,FALSE)*$K21+VLOOKUP($L$3,Data!$A$40:$D$48,3,FALSE)*$L21+VLOOKUP($M$3,Data!$A$40:$D$48,3,FALSE)*$M21+VLOOKUP($N$3,Data!$A$40:$D$48,3,FALSE)*$N21+VLOOKUP($O$3,Data!$A$40:$D$48,3,FALSE)*$O21+VLOOKUP($P$3,Data!$A$40:$D$48,3,FALSE)*$P21+VLOOKUP($Q$3,Data!$A$40:$D$48,3,FALSE)*$Q21+VLOOKUP($R$3,Data!$A$40:$D$48,3,FALSE)*$R21,0) -> 1 | AJ21: =MAX(1-(VLOOKUP($J$3,Data!$A$40:$D$48,4,FALSE)*$J21+VLOOKUP($K$3,Data!$A$40:$D$48,4,FALSE)*$K21+VLOOKUP($L$3,Data!$A$40:$D$48,4,FALSE)*$L21+VLOOKUP($M$3,Data!$A$40:$D$48,4,FALSE)*$M21+VLOOKUP($N$3,Data!$A$40:$D$48,4,FALSE)*$N21+VLOOKUP($O$3,Data!$A$40:$D$48,4,FALSE)*$O21+VLOOKUP($P$3,Data!$A$40:$D$48,4,FALSE)*$P21+VLOOKUP($Q$3,Data!$A$40:$D$48,4,FALSE)*$Q21+VLOOKUP($R$3,Data!$A$40:$D$48,4,FALSE)*$R21),0.2) -> 1 | AK21: =D21/(AC21*AH21) -> 0 | AL21: =AD21*AG21*AH21*AI21 -> 2.5 | AM21: =AE21*H21*AJ21 -> 0 | AN21: =AF21*H21*AJ21 -> 0 | AO21: None | AQ21: =IF(AQ$2=$A21,0,IF(HLOOKUP(AQ$2,Recipes!$H:$GI,'Production Calculator'!$A21+2,FALSE)=0,0,HLOOKUP(AQ$2,Recipes!$H:$GI,'Production Calculator'!$A21+2,FALSE)*$AK21))+IF($AO21=AQ$3,$AM21/VLOOKUP($AO21,Data!$A$50:$B$56,2,FALSE),0) -> 0 | AR21: =IF(AR$2=$A21,0,IF(HLOOKUP(AR$2,Recipes!$H:$GI,'Production Calculator'!$A21+2,FALSE)=0,0,HLOOKUP(AR$2,Recipes!$H:$GI,'Production Calculator'!$A21+2,FALSE)*$AK21))+IF($AO21=AR$3,$AM21/VLOOKUP($AO21,Data!$A$50:$B$56,2,FALSE),0) -> 0 | AS21: =IF(AS$2=$A21,0,IF(HLOOKUP(AS$2,Recipes!$H:$GI,'Production Calculator'!$A21+2,FALSE)=0,0,HLOOKUP(AS$2,Recipes!$H:$GI,'Production Calculator'!$A21+2,FALSE)*$AK21))+IF($AO21=AS$3,$AM21/VLOOKUP($AO21,Data!$A$50:$B$56,2,FALSE),0) -> 0 | AT21: =IF(AT$2=$A21,0,IF(HLOOKUP(AT$2,Recipes!$H:$GI,'Production Calculator'!$A21+2,FALSE)=0,0,HLOOKUP(AT$2,Recipes!$H:$GI,'Production Calculator'!$A21+2,FALSE)*$AK21))+IF($AO21=AT$3,$AM21/VLOOKUP($AO21,Data!$A$50:$B$56,2,FALSE),0) -> 0 | AU21: =IF(AU$2=$A21,0,IF(HLOOKUP(AU$2,Recipes!$H:$GI,'Production Calculator'!$A21+2,FALSE)=0,0,HLOOKUP(AU$2,Recipes!$H:$GI,'Production Calculator'!$A21+2,FALSE)*$AK21))+IF($AO21=AU$3,$AM21/VLOOKUP($AO21,Data!$A$50:$B$56,2,FALSE),0) -> 0 | AV21: =IF(AV$2=$A21,0,IF(HLOOKUP(AV$2,Recipes!$H:$GI,'Production Calculator'!$A21+2,FALSE)=0,0,HLOOKUP(AV$2,Recipes!$H:$GI,'Production Calculator'!$A21+2,FALSE)*$AK21))+IF($AO21=AV$3,$AM21/VLOOKUP($AO21,Data!$A$50:$B$56,2,FALSE),0) -> 0 | AW21: =IF(AW$2=$A21,0,IF(HLOOKUP(AW$2,Recipes!$H:$GI,'Production Calculator'!$A21+2,FALSE)=0,0,HLOOKUP(AW$2,Recipes!$H:$GI,'Production Calculator'!$A21+2,FALSE)*$AK21))+IF($AO21=AW$3,$AM21/VLOOKUP($AO21,Data!$A$50:$B$56,2,FALSE),0) -> 0 | AX21: =IF(AX$2=$A21,0,IF(HLOOKUP(AX$2,Recipes!$H:$GI,'Production Calculator'!$A21+2,FALSE)=0,0,HLOOKUP(AX$2,Recipes!$H:$GI,'Production Calculator'!$A21+2,FALSE)*$AK21))+IF($AO21=AX$3,$AM21/VLOOKUP($AO21,Data!$A$50:$B$56,2,FALSE),0) -> 0 | ... HR21: =IF(HR$2=$A21,0,IF(HLOOKUP(HR$2,Recipes!$H:$GI,'Production Calculator'!$A21+2,FALSE)=0,0,HLOOKUP(HR$2,Recipes!$H:$GI,'Production Calculator'!$A21+2,FALSE)*$AK21))+IF($AO21=HR$3,$AM21/VLOOKUP($AO21,Data!$A$50:$B$56,2,FALSE),0) -> 0
B22: Equipment
A23: 10 | B23: =VLOOKUP(A23,Recipes!A:B,2) -> Battery (equipment) | C23: 0 | D23: =HLOOKUP(A23,$AQ$2:$HR$202,$A$202-1,FALSE)+C23 -> 0 | E23: Assembly Machine III | F23: =VLOOKUP(A23,Recipes!$A$3:$G$186,6,FALSE) -> 2 | G23: =VLOOKUP(A23,Recipes!$A$3:$G$186,7,FALSE) -> 0 | H23: =ROUNDUP(D23/AL23,0) -> 0 | I23: =VLOOKUP(E23,Data!$A$2:$C$26,3, FALSE) -> 4 | J23: 0 | K23: 0 | L23: 0 | M23: 0 | N23: 0 | O23: 0 | P23: 0 | Q23: 0 | R23: 0 | S23: =J23*$H23 -> 0 | T23: =K23*$H23 -> 0 | U23: =L23*$H23 -> 0 | V23: =M23*$H23 -> 0 | W23: =N23*$H23 -> 0 | X23: =O23*$H23 -> 0 | Y23: =P23*$H23 -> 0 | Z23: =Q23*$H23 -> 0 | AA23: =R23*$H23 -> 0 | AB23: =VLOOKUP($A23,Recipes!$A:$G,4) -> 10 | AC23: =VLOOKUP($A23,Recipes!$A:$G,5) -> 1 | AD23: =AC23/AB23 -> 0.1 | AE23: =VLOOKUP(E23,Data!$A$2:$F$26,5,FALSE) -> 0 | AF23: =VLOOKUP(E23,Data!$A$2:$F$26,4,FALSE) -> 210 | AG23: =VLOOKUP(E23,Data!$A$2:$B$26,2, FALSE) -> 1.25 | AH23: =1+VLOOKUP($J$3,Data!$A$40:$D$48,2,FALSE)*$J23+VLOOKUP($K$3,Data!$A$40:$D$48,2,FALSE)*$K23+VLOOKUP($L$3,Data!$A$40:$D$48,2,FALSE)*$L23+VLOOKUP($M$3,Data!$A$40:$D$48,2,FALSE)*$M23+VLOOKUP($N$3,Data!$A$40:$D$48,2,FALSE)*$N23+VLOOKUP($O$3,Data!$A$40:$D$48,2,FALSE)*$O23+VLOOKUP($P$3,Data!$A$40:$D$48,2,FALSE)*$P23+VLOOKUP($Q$3,Data!$A$40:$D$48,2,FALSE)*$Q23+VLOOKUP($R$3,Data!$A$40:$D$48,2,FALSE)*$R23 -> 1 | AI23: =MAX(1+VLOOKUP($J$3,Data!$A$40:$D$48,3,FALSE)*$J23+VLOOKUP($K$3,Data!$A$40:$D$48,3,FALSE)*$K23+VLOOKUP($L$3,Data!$A$40:$D$48,3,FALSE)*$L23+VLOOKUP($M$3,Data!$A$40:$D$48,3,FALSE)*$M23+VLOOKUP($N$3,Data!$A$40:$D$48,3,FALSE)*$N23+VLOOKUP($O$3,Data!$A$40:$D$48,3,FALSE)*$O23+VLOOKUP($P$3,Data!$A$40:$D$48,3,FALSE)*$P23+VLOOKUP($Q$3,Data!$A$40:$D$48,3,FALSE)*$Q23+VLOOKUP($R$3,Data!$A$40:$D$48,3,FALSE)*$R23,0) -> 1 | AJ23: =MAX(1-(VLOOKUP($J$3,Data!$A$40:$D$48,4,FALSE)*$J23+VLOOKUP($K$3,Data!$A$40:$D$48,4,FALSE)*$K23+VLOOKUP($L$3,Data!$A$40:$D$48,4,FALSE)*$L23+VLOOKUP($M$3,Data!$A$40:$D$48,4,FALSE)*$M23+VLOOKUP($N$3,Data!$A$40:$D$48,4,FALSE)*$N23+VLOOKUP($O$3,Data!$A$40:$D$48,4,FALSE)*$O23+VLOOKUP($P$3,Data!$A$40:$D$48,4,FALSE)*$P23+VLOOKUP($Q$3,Data!$A$40:$D$48,4,FALSE)*$Q23+VLOOKUP($R$3,Data!$A$40:$D$48,4,FALSE)*$R23),0.2) -> 1 | AK23: =D23/(AC23*AH23) -> 0 | AL23: =AD23*AG23*AH23*AI23 -> 0.125 | AM23: =AE23*H23*AJ23 -> 0 | AN23: =AF23*H23*AJ23 -> 0 | AO23: None | AQ23: =IF(AQ$2=$A23,0,IF(HLOOKUP(AQ$2,Recipes!$H:$GI,'Production Calculator'!$A23+2,FALSE)=0,0,HLOOKUP(AQ$2,Recipes!$H:$GI,'Production Calculator'!$A23+2,FALSE)*$AK23))+IF($AO23=AQ$3,$AM23/VLOOKUP($AO23,Data!$A$50:$B$56,2,FALSE),0) -> 0 | AR23: =IF(AR$2=$A23,0,IF(HLOOKUP(AR$2,Recipes!$H:$GI,'Production Calculator'!$A23+2,FALSE)=0,0,HLOOKUP(AR$2,Recipes!$H:$GI,'Production Calculator'!$A23+2,FALSE)*$AK23))+IF($AO23=AR$3,$AM23/VLOOKUP($AO23,Data!$A$50:$B$56,2,FALSE),0) -> 0 | AS23: =IF(AS$2=$A23,0,IF(HLOOKUP(AS$2,Recipes!$H:$GI,'Production Calculator'!$A23+2,FALSE)=0,0,HLOOKUP(AS$2,Recipes!$H:$GI,'Production Calculator'!$A23+2,FALSE)*$AK23))+IF($AO23=AS$3,$AM23/VLOOKUP($AO23,Data!$A$50:$B$56,2,FALSE),0) -> 0 | AT23: =IF(AT$2=$A23,0,IF(HLOOKUP(AT$2,Recipes!$H:$GI,'Production Calculator'!$A23+2,FALSE)=0,0,HLOOKUP(AT$2,Recipes!$H:$GI,'Production Calculator'!$A23+2,FALSE)*$AK23))+IF($AO23=AT$3,$AM23/VLOOKUP($AO23,Data!$A$50:$B$56,2,FALSE),0) -> 0 | AU23: =IF(AU$2=$A23,0,IF(HLOOKUP(AU$2,Recipes!$H:$GI,'Production Calculator'!$A23+2,FALSE)=0,0,HLOOKUP(AU$2,Recipes!$H:$GI,'Production Calculator'!$A23+2,FALSE)*$AK23))+IF($AO23=AU$3,$AM23/VLOOKUP($AO23,Data!$A$50:$B$56,2,FALSE),0) -> 0 | AV23: =IF(AV$2=$A23,0,IF(HLOOKUP(AV$2,Recipes!$H:$GI,'Production Calculator'!$A23+2,FALSE)=0,0,HLOOKUP(AV$2,Recipes!$H:$GI,'Production Calculator'!$A23+2,FALSE)*$AK23))+IF($AO23=AV$3,$AM23/VLOOKUP($AO23,Data!$A$50:$B$56,2,FALSE),0) -> 0 | AW23: =IF(AW$2=$A23,0,IF(HLOOKUP(AW$2,Recipes!$H:$GI,'Production Calculator'!$A23+2,FALSE)=0,0,HLOOKUP(AW$2,Recipes!$H:$GI,'Production Calculator'!$A23+2,FALSE)*$AK23))+IF($AO23=AW$3,$AM23/VLOOKUP($AO23,Data!$A$50:$B$56,2,FALSE),0) -> 0 | AX23: =IF(AX$2=$A23,0,IF(HLOOKUP(AX$2,Recipes!$H:$GI,'Production Calculator'!$A23+2,FALSE)=0,0,HLOOKUP(AX$2,Recipes!$H:$GI,'Production Calculator'!$A23+2,FALSE)*$AK23))+IF($AO23=AX$3,$AM23/VLOOKUP($AO23,Data!$A$50:$B$56,2,FALSE),0) -> 0 | ... HR23: =IF(HR$2=$A23,0,IF(HLOOKUP(HR$2,Recipes!$H:$GI,'Production Calculator'!$A23+2,FALSE)=0,0,HLOOKUP(HR$2,Recipes!$H:$GI,'Production Calculator'!$A23+2,FALSE)*$AK23))+IF($AO23=HR$3,$AM23/VLOOKUP($AO23,Data!$A$50:$B$56,2,FALSE),0) -> 0
A24: 11 | B24: =VLOOKUP(A24,Recipes!A:B,2) -> Battery MK2 | C24: 0 | D24: =HLOOKUP(A24,$AQ$2:$HR$202,$A$202-1,FALSE)+C24 -> 0 | E24: Assembly Machine III | F24: =VLOOKUP(A24,Recipes!$A$3:$G$186,6,FALSE) -> 2 | G24: =VLOOKUP(A24,Recipes!$A$3:$G$186,7,FALSE) -> 0 | H24: =ROUNDUP(D24/AL24,0) -> 0 | I24: =VLOOKUP(E24,Data!$A$2:$C$26,3, FALSE) -> 4 | J24: 0 | K24: 0 | L24: 0 | M24: 0 | N24: 0 | O24: 0 | P24: 0 | Q24: 0 | R24: 0 | S24: =J24*$H24 -> 0 | T24: =K24*$H24 -> 0 | U24: =L24*$H24 -> 0 | V24: =M24*$H24 -> 0 | W24: =N24*$H24 -> 0 | X24: =O24*$H24 -> 0 | Y24: =P24*$H24 -> 0 | Z24: =Q24*$H24 -> 0 | AA24: =R24*$H24 -> 0 | AB24: =VLOOKUP($A24,Recipes!$A:$G,4) -> 10 | AC24: =VLOOKUP($A24,Recipes!$A:$G,5) -> 1 | AD24: =AC24/AB24 -> 0.1 | AE24: =VLOOKUP(E24,Data!$A$2:$F$26,5,FALSE) -> 0 | AF24: =VLOOKUP(E24,Data!$A$2:$F$26,4,FALSE) -> 210 | AG24: =VLOOKUP(E24,Data!$A$2:$B$26,2, FALSE) -> 1.25 | AH24: =1+VLOOKUP($J$3,Data!$A$40:$D$48,2,FALSE)*$J24+VLOOKUP($K$3,Data!$A$40:$D$48,2,FALSE)*$K24+VLOOKUP($L$3,Data!$A$40:$D$48,2,FALSE)*$L24+VLOOKUP($M$3,Data!$A$40:$D$48,2,FALSE)*$M24+VLOOKUP($N$3,Data!$A$40:$D$48,2,FALSE)*$N24+VLOOKUP($O$3,Data!$A$40:$D$48,2,FALSE)*$O24+VLOOKUP($P$3,Data!$A$40:$D$48,2,FALSE)*$P24+VLOOKUP($Q$3,Data!$A$40:$D$48,2,FALSE)*$Q24+VLOOKUP($R$3,Data!$A$40:$D$48,2,FALSE)*$R24 -> 1 | AI24: =MAX(1+VLOOKUP($J$3,Data!$A$40:$D$48,3,FALSE)*$J24+VLOOKUP($K$3,Data!$A$40:$D$48,3,FALSE)*$K24+VLOOKUP($L$3,Data!$A$40:$D$48,3,FALSE)*$L24+VLOOKUP($M$3,Data!$A$40:$D$48,3,FALSE)*$M24+VLOOKUP($N$3,Data!$A$40:$D$48,3,FALSE)*$N24+VLOOKUP($O$3,Data!$A$40:$D$48,3,FALSE)*$O24+VLOOKUP($P$3,Data!$A$40:$D$48,3,FALSE)*$P24+VLOOKUP($Q$3,Data!$A$40:$D$48,3,FALSE)*$Q24+VLOOKUP($R$3,Data!$A$40:$D$48,3,FALSE)*$R24,0) -> 1 | AJ24: =MAX(1-(VLOOKUP($J$3,Data!$A$40:$D$48,4,FALSE)*$J24+VLOOKUP($K$3,Data!$A$40:$D$48,4,FALSE)*$K24+VLOOKUP($L$3,Data!$A$40:$D$48,4,FALSE)*$L24+VLOOKUP($M$3,Data!$A$40:$D$48,4,FALSE)*$M24+VLOOKUP($N$3,Data!$A$40:$D$48,4,FALSE)*$N24+VLOOKUP($O$3,Data!$A$40:$D$48,4,FALSE)*$O24+VLOOKUP($P$3,Data!$A$40:$D$48,4,FALSE)*$P24+VLOOKUP($Q$3,Data!$A$40:$D$48,4,FALSE)*$Q24+VLOOKUP($R$3,Data!$A$40:$D$48,4,FALSE)*$R24),0.2) -> 1 | AK24: =D24/(AC24*AH24) -> 0 | AL24: =AD24*AG24*AH24*AI24 -> 0.125 | AM24: =AE24*H24*AJ24 -> 0 | AN24: =AF24*H24*AJ24 -> 0 | AO24: None | AQ24: =IF(AQ$2=$A24,0,IF(HLOOKUP(AQ$2,Recipes!$H:$GI,'Production Calculator'!$A24+2,FALSE)=0,0,HLOOKUP(AQ$2,Recipes!$H:$GI,'Production Calculator'!$A24+2,FALSE)*$AK24))+IF($AO24=AQ$3,$AM24/VLOOKUP($AO24,Data!$A$50:$B$56,2,FALSE),0) -> 0 | AR24: =IF(AR$2=$A24,0,IF(HLOOKUP(AR$2,Recipes!$H:$GI,'Production Calculator'!$A24+2,FALSE)=0,0,HLOOKUP(AR$2,Recipes!$H:$GI,'Production Calculator'!$A24+2,FALSE)*$AK24))+IF($AO24=AR$3,$AM24/VLOOKUP($AO24,Data!$A$50:$B$56,2,FALSE),0) -> 0 | AS24: =IF(AS$2=$A24,0,IF(HLOOKUP(AS$2,Recipes!$H:$GI,'Production Calculator'!$A24+2,FALSE)=0,0,HLOOKUP(AS$2,Recipes!$H:$GI,'Production Calculator'!$A24+2,FALSE)*$AK24))+IF($AO24=AS$3,$AM24/VLOOKUP($AO24,Data!$A$50:$B$56,2,FALSE),0) -> 0 | AT24: =IF(AT$2=$A24,0,IF(HLOOKUP(AT$2,Recipes!$H:$GI,'Production Calculator'!$A24+2,FALSE)=0,0,HLOOKUP(AT$2,Recipes!$H:$GI,'Production Calculator'!$A24+2,FALSE)*$AK24))+IF($AO24=AT$3,$AM24/VLOOKUP($AO24,Data!$A$50:$B$56,2,FALSE),0) -> 0 | AU24: =IF(AU$2=$A24,0,IF(HLOOKUP(AU$2,Recipes!$H:$GI,'Production Calculator'!$A24+2,FALSE)=0,0,HLOOKUP(AU$2,Recipes!$H:$GI,'Production Calculator'!$A24+2,FALSE)*$AK24))+IF($AO24=AU$3,$AM24/VLOOKUP($AO24,Data!$A$50:$B$56,2,FALSE),0) -> 0 | AV24: =IF(AV$2=$A24,0,IF(HLOOKUP(AV$2,Recipes!$H:$GI,'Production Calculator'!$A24+2,FALSE)=0,0,HLOOKUP(AV$2,Recipes!$H:$GI,'Production Calculator'!$A24+2,FALSE)*$AK24))+IF($AO24=AV$3,$AM24/VLOOKUP($AO24,Data!$A$50:$B$56,2,FALSE),0) -> 0 | AW24: =IF(AW$2=$A24,0,IF(HLOOKUP(AW$2,Recipes!$H:$GI,'Production Calculator'!$A24+2,FALSE)=0,0,HLOOKUP(AW$2,Recipes!$H:$GI,'Production Calculator'!$A24+2,FALSE)*$AK24))+IF($AO24=AW$3,$AM24/VLOOKUP($AO24,Data!$A$50:$B$56,2,FALSE),0) -> 0 | AX24: =IF(AX$2=$A24,0,IF(HLOOKUP(AX$2,Recipes!$H:$GI,'Production Calculator'!$A24+2,FALSE)=0,0,HLOOKUP(AX$2,Recipes!$H:$GI,'Production Calculator'!$A24+2,FALSE)*$AK24))+IF($AO24=AX$3,$AM24/VLOOKUP($AO24,Data!$A$50:$B$56,2,FALSE),0) -> 0 | ... HR24: =IF(HR$2=$A24,0,IF(HLOOKUP(HR$2,Recipes!$H:$GI,'Production Calculator'!$A24+2,FALSE)=0,0,HLOOKUP(HR$2,Recipes!$H:$GI,'Production Calculator'!$A24+2,FALSE)*$AK24))+IF($AO24=HR$3,$AM24/VLOOKUP($AO24,Data!$A$50:$B$56,2,FALSE),0) -> 0
A25: 12 | B25: =VLOOKUP(A25,Recipes!A:B,2) -> Blueprint | C25: 0 | D25: =HLOOKUP(A25,$AQ$2:$HR$202,$A$202-1,FALSE)+C25 -> 0 | E25: Assembly Machine III | F25: =VLOOKUP(A25,Recipes!$A$3:$G$186,6,FALSE) -> 1 | G25: =VLOOKUP(A25,Recipes!$A$3:$G$186,7,FALSE) -> 0 | H25: =ROUNDUP(D25/AL25,0) -> 0 | I25: =VLOOKUP(E25,Data!$A$2:$C$26,3, FALSE) -> 4 | J25: 0 | K25: 0 | L25: 0 | M25: 0 | N25: 0 | O25: 0 | P25: 0 | Q25: 0 | R25: 0 | S25: =J25*$H25 -> 0 | T25: =K25*$H25 -> 0 | U25: =L25*$H25 -> 0 | V25: =M25*$H25 -> 0 | W25: =N25*$H25 -> 0 | X25: =O25*$H25 -> 0 | Y25: =P25*$H25 -> 0 | Z25: =Q25*$H25 -> 0 | AA25: =R25*$H25 -> 0 | AB25: =VLOOKUP($A25,Recipes!$A:$G,4) -> 1 | AC25: =VLOOKUP($A25,Recipes!$A:$G,5) -> 1 | AD25: =AC25/AB25 -> 1 | AE25: =VLOOKUP(E25,Data!$A$2:$F$26,5,FALSE) -> 0 | AF25: =VLOOKUP(E25,Data!$A$2:$F$26,4,FALSE) -> 210 | AG25: =VLOOKUP(E25,Data!$A$2:$B$26,2, FALSE) -> 1.25 | AH25: =1+VLOOKUP($J$3,Data!$A$40:$D$48,2,FALSE)*$J25+VLOOKUP($K$3,Data!$A$40:$D$48,2,FALSE)*$K25+VLOOKUP($L$3,Data!$A$40:$D$48,2,FALSE)*$L25+VLOOKUP($M$3,Data!$A$40:$D$48,2,FALSE)*$M25+VLOOKUP($N$3,Data!$A$40:$D$48,2,FALSE)*$N25+VLOOKUP($O$3,Data!$A$40:$D$48,2,FALSE)*$O25+VLOOKUP($P$3,Data!$A$40:$D$48,2,FALSE)*$P25+VLOOKUP($Q$3,Data!$A$40:$D$48,2,FALSE)*$Q25+VLOOKUP($R$3,Data!$A$40:$D$48,2,FALSE)*$R25 -> 1 | AI25: =MAX(1+VLOOKUP($J$3,Data!$A$40:$D$48,3,FALSE)*$J25+VLOOKUP($K$3,Data!$A$40:$D$48,3,FALSE)*$K25+VLOOKUP($L$3,Data!$A$40:$D$48,3,FALSE)*$L25+VLOOKUP($M$3,Data!$A$40:$D$48,3,FALSE)*$M25+VLOOKUP($N$3,Data!$A$40:$D$48,3,FALSE)*$N25+VLOOKUP($O$3,Data!$A$40:$D$48,3,FALSE)*$O25+VLOOKUP($P$3,Data!$A$40:$D$48,3,FALSE)*$P25+VLOOKUP($Q$3,Data!$A$40:$D$48,3,FALSE)*$Q25+VLOOKUP($R$3,Data!$A$40:$D$48,3,FALSE)*$R25,0) -> 1 | AJ25: =MAX(1-(VLOOKUP($J$3,Data!$A$40:$D$48,4,FALSE)*$J25+VLOOKUP($K$3,Data!$A$40:$D$48,4,FALSE)*$K25+VLOOKUP($L$3,Data!$A$40:$D$48,4,FALSE)*$L25+VLOOKUP($M$3,Data!$A$40:$D$48,4,FALSE)*$M25+VLOOKUP($N$3,Data!$A$40:$D$48,4,FALSE)*$N25+VLOOKUP($O$3,Data!$A$40:$D$48,4,FALSE)*$O25+VLOOKUP($P$3,Data!$A$40:$D$48,4,FALSE)*$P25+VLOOKUP($Q$3,Data!$A$40:$D$48,4,FALSE)*$Q25+VLOOKUP($R$3,Data!$A$40:$D$48,4,FALSE)*$R25),0.2) -> 1 | AK25: =D25/(AC25*AH25) -> 0 | AL25: =AD25*AG25*AH25*AI25 -> 1.25 | AM25: =AE25*H25*AJ25 -> 0 | AN25: =AF25*H25*AJ25 -> 0 | AO25: None | AQ25: =IF(AQ$2=$A25,0,IF(HLOOKUP(AQ$2,Recipes!$H:$GI,'Production Calculator'!$A25+2,FALSE)=0,0,HLOOKUP(AQ$2,Recipes!$H:$GI,'Production Calculator'!$A25+2,FALSE)*$AK25))+IF($AO25=AQ$3,$AM25/VLOOKUP($AO25,Data!$A$50:$B$56,2,FALSE),0) -> 0 | AR25: =IF(AR$2=$A25,0,IF(HLOOKUP(AR$2,Recipes!$H:$GI,'Production Calculator'!$A25+2,FALSE)=0,0,HLOOKUP(AR$2,Recipes!$H:$GI,'Production Calculator'!$A25+2,FALSE)*$AK25))+IF($AO25=AR$3,$AM25/VLOOKUP($AO25,Data!$A$50:$B$56,2,FALSE),0) -> 0 | AS25: =IF(AS$2=$A25,0,IF(HLOOKUP(AS$2,Recipes!$H:$GI,'Production Calculator'!$A25+2,FALSE)=0,0,HLOOKUP(AS$2,Recipes!$H:$GI,'Production Calculator'!$A25+2,FALSE)*$AK25))+IF($AO25=AS$3,$AM25/VLOOKUP($AO25,Data!$A$50:$B$56,2,FALSE),0) -> 0 | AT25: =IF(AT$2=$A25,0,IF(HLOOKUP(AT$2,Recipes!$H:$GI,'Production Calculator'!$A25+2,FALSE)=0,0,HLOOKUP(AT$2,Recipes!$H:$GI,'Production Calculator'!$A25+2,FALSE)*$AK25))+IF($AO25=AT$3,$AM25/VLOOKUP($AO25,Data!$A$50:$B$56,2,FALSE),0) -> 0 | AU25: =IF(AU$2=$A25,0,IF(HLOOKUP(AU$2,Recipes!$H:$GI,'Production Calculator'!$A25+2,FALSE)=0,0,HLOOKUP(AU$2,Recipes!$H:$GI,'Production Calculator'!$A25+2,FALSE)*$AK25))+IF($AO25=AU$3,$AM25/VLOOKUP($AO25,Data!$A$50:$B$56,2,FALSE),0) -> 0 | AV25: =IF(AV$2=$A25,0,IF(HLOOKUP(AV$2,Recipes!$H:$GI,'Production Calculator'!$A25+2,FALSE)=0,0,HLOOKUP(AV$2,Recipes!$H:$GI,'Production Calculator'!$A25+2,FALSE)*$AK25))+IF($AO25=AV$3,$AM25/VLOOKUP($AO25,Data!$A$50:$B$56,2,FALSE),0) -> 0 | AW25: =IF(AW$2=$A25,0,IF(HLOOKUP(AW$2,Recipes!$H:$GI,'Production Calculator'!$A25+2,FALSE)=0,0,HLOOKUP(AW$2,Recipes!$H:$GI,'Production Calculator'!$A25+2,FALSE)*$AK25))+IF($AO25=AW$3,$AM25/VLOOKUP($AO25,Data!$A$50:$B$56,2,FALSE),0) -> 0 | AX25: =IF(AX$2=$A25,0,IF(HLOOKUP(AX$2,Recipes!$H:$GI,'Production Calculator'!$A25+2,FALSE)=0,0,HLOOKUP(AX$2,Recipes!$H:$GI,'Production Calculator'!$A25+2,FALSE)*$AK25))+IF($AO25=AX$3,$AM25/VLOOKUP($AO25,Data!$A$50:$B$56,2,FALSE),0) -> 0 | ... HR25: =IF(HR$2=$A25,0,IF(HLOOKUP(HR$2,Recipes!$H:$GI,'Production Calculator'!$A25+2,FALSE)=0,0,HLOOKUP(HR$2,Recipes!$H:$GI,'Production Calculator'!$A25+2,FALSE)*$AK25))+IF($AO25=HR$3,$AM25/VLOOKUP($AO25,Data!$A$50:$B$56,2,FALSE),0) -> 0
A26: 13 | B26: =VLOOKUP(A26,Recipes!A:B,2) -> Blueprint book | C26: 0 | D26: =HLOOKUP(A26,$AQ$2:$HR$202,$A$202-1,FALSE)+C26 -> 0 | E26: Assembly Machine III | F26: =VLOOKUP(A26,Recipes!$A$3:$G$186,6,FALSE) -> 1 | G26: =VLOOKUP(A26,Recipes!$A$3:$G$186,7,FALSE) -> 0 | H26: =ROUNDUP(D26/AL26,0) -> 0 | I26: =VLOOKUP(E26,Data!$A$2:$C$26,3, FALSE) -> 4 | J26: 0 | K26: 0 | L26: 0 | M26: 0 | N26: 0 | O26: 0 | P26: 0 | Q26: 0 | R26: 0 | S26: =J26*$H26 -> 0 | T26: =K26*$H26 -> 0 | U26: =L26*$H26 -> 0 | V26: =M26*$H26 -> 0 | W26: =N26*$H26 -> 0 | X26: =O26*$H26 -> 0 | Y26: =P26*$H26 -> 0 | Z26: =Q26*$H26 -> 0 | AA26: =R26*$H26 -> 0 | AB26: =VLOOKUP($A26,Recipes!$A:$G,4) -> 5 | AC26: =VLOOKUP($A26,Recipes!$A:$G,5) -> 1 | AD26: =AC26/AB26 -> 0.2 | AE26: =VLOOKUP(E26,Data!$A$2:$F$26,5,FALSE) -> 0 | AF26: =VLOOKUP(E26,Data!$A$2:$F$26,4,FALSE) -> 210 | AG26: =VLOOKUP(E26,Data!$A$2:$B$26,2, FALSE) -> 1.25 | AH26: =1+VLOOKUP($J$3,Data!$A$40:$D$48,2,FALSE)*$J26+VLOOKUP($K$3,Data!$A$40:$D$48,2,FALSE)*$K26+VLOOKUP($L$3,Data!$A$40:$D$48,2,FALSE)*$L26+VLOOKUP($M$3,Data!$A$40:$D$48,2,FALSE)*$M26+VLOOKUP($N$3,Data!$A$40:$D$48,2,FALSE)*$N26+VLOOKUP($O$3,Data!$A$40:$D$48,2,FALSE)*$O26+VLOOKUP($P$3,Data!$A$40:$D$48,2,FALSE)*$P26+VLOOKUP($Q$3,Data!$A$40:$D$48,2,FALSE)*$Q26+VLOOKUP($R$3,Data!$A$40:$D$48,2,FALSE)*$R26 -> 1 | AI26: =MAX(1+VLOOKUP($J$3,Data!$A$40:$D$48,3,FALSE)*$J26+VLOOKUP($K$3,Data!$A$40:$D$48,3,FALSE)*$K26+VLOOKUP($L$3,Data!$A$40:$D$48,3,FALSE)*$L26+VLOOKUP($M$3,Data!$A$40:$D$48,3,FALSE)*$M26+VLOOKUP($N$3,Data!$A$40:$D$48,3,FALSE)*$N26+VLOOKUP($O$3,Data!$A$40:$D$48,3,FALSE)*$O26+VLOOKUP($P$3,Data!$A$40:$D$48,3,FALSE)*$P26+VLOOKUP($Q$3,Data!$A$40:$D$48,3,FALSE)*$Q26+VLOOKUP($R$3,Data!$A$40:$D$48,3,FALSE)*$R26,0) -> 1 | AJ26: =MAX(1-(VLOOKUP($J$3,Data!$A$40:$D$48,4,FALSE)*$J26+VLOOKUP($K$3,Data!$A$40:$D$48,4,FALSE)*$K26+VLOOKUP($L$3,Data!$A$40:$D$48,4,FALSE)*$L26+VLOOKUP($M$3,Data!$A$40:$D$48,4,FALSE)*$M26+VLOOKUP($N$3,Data!$A$40:$D$48,4,FALSE)*$N26+VLOOKUP($O$3,Data!$A$40:$D$48,4,FALSE)*$O26+VLOOKUP($P$3,Data!$A$40:$D$48,4,FALSE)*$P26+VLOOKUP($Q$3,Data!$A$40:$D$48,4,FALSE)*$Q26+VLOOKUP($R$3,Data!$A$40:$D$48,4,FALSE)*$R26),0.2) -> 1 | AK26: =D26/(AC26*AH26) -> 0 | AL26: =AD26*AG26*AH26*AI26 -> 0.25 | AM26: =AE26*H26*AJ26 -> 0 | AN26: =AF26*H26*AJ26 -> 0 | AO26: None | AQ26: =IF(AQ$2=$A26,0,IF(HLOOKUP(AQ$2,Recipes!$H:$GI,'Production Calculator'!$A26+2,FALSE)=0,0,HLOOKUP(AQ$2,Recipes!$H:$GI,'Production Calculator'!$A26+2,FALSE)*$AK26))+IF($AO26=AQ$3,$AM26/VLOOKUP($AO26,Data!$A$50:$B$56,2,FALSE),0) -> 0 | AR26: =IF(AR$2=$A26,0,IF(HLOOKUP(AR$2,Recipes!$H:$GI,'Production Calculator'!$A26+2,FALSE)=0,0,HLOOKUP(AR$2,Recipes!$H:$GI,'Production Calculator'!$A26+2,FALSE)*$AK26))+IF($AO26=AR$3,$AM26/VLOOKUP($AO26,Data!$A$50:$B$56,2,FALSE),0) -> 0 | AS26: =IF(AS$2=$A26,0,IF(HLOOKUP(AS$2,Recipes!$H:$GI,'Production Calculator'!$A26+2,FALSE)=0,0,HLOOKUP(AS$2,Recipes!$H:$GI,'Production Calculator'!$A26+2,FALSE)*$AK26))+IF($AO26=AS$3,$AM26/VLOOKUP($AO26,Data!$A$50:$B$56,2,FALSE),0) -> 0 | AT26: =IF(AT$2=$A26,0,IF(HLOOKUP(AT$2,Recipes!$H:$GI,'Production Calculator'!$A26+2,FALSE)=0,0,HLOOKUP(AT$2,Recipes!$H:$GI,'Production Calculator'!$A26+2,FALSE)*$AK26))+IF($AO26=AT$3,$AM26/VLOOKUP($AO26,Data!$A$50:$B$56,2,FALSE),0) -> 0 | AU26: =IF(AU$2=$A26,0,IF(HLOOKUP(AU$2,Recipes!$H:$GI,'Production Calculator'!$A26+2,FALSE)=0,0,HLOOKUP(AU$2,Recipes!$H:$GI,'Production Calculator'!$A26+2,FALSE)*$AK26))+IF($AO26=AU$3,$AM26/VLOOKUP($AO26,Data!$A$50:$B$56,2,FALSE),0) -> 0 | AV26: =IF(AV$2=$A26,0,IF(HLOOKUP(AV$2,Recipes!$H:$GI,'Production Calculator'!$A26+2,FALSE)=0,0,HLOOKUP(AV$2,Recipes!$H:$GI,'Production Calculator'!$A26+2,FALSE)*$AK26))+IF($AO26=AV$3,$AM26/VLOOKUP($AO26,Data!$A$50:$B$56,2,FALSE),0) -> 0 | AW26: =IF(AW$2=$A26,0,IF(HLOOKUP(AW$2,Recipes!$H:$GI,'Production Calculator'!$A26+2,FALSE)=0,0,HLOOKUP(AW$2,Recipes!$H:$GI,'Production Calculator'!$A26+2,FALSE)*$AK26))+IF($AO26=AW$3,$AM26/VLOOKUP($AO26,Data!$A$50:$B$56,2,FALSE),0) -> 0 | AX26: =IF(AX$2=$A26,0,IF(HLOOKUP(AX$2,Recipes!$H:$GI,'Production Calculator'!$A26+2,FALSE)=0,0,HLOOKUP(AX$2,Recipes!$H:$GI,'Production Calculator'!$A26+2,FALSE)*$AK26))+IF($AO26=AX$3,$AM26/VLOOKUP($AO26,Data!$A$50:$B$56,2,FALSE),0) -> 0 | ... HR26: =IF(HR$2=$A26,0,IF(HLOOKUP(HR$2,Recipes!$H:$GI,'Production Calculator'!$A26+2,FALSE)=0,0,HLOOKUP(HR$2,Recipes!$H:$GI,'Production Calculator'!$A26+2,FALSE)*$AK26))+IF($AO26=HR$3,$AM26/VLOOKUP($AO26,Data!$A$50:$B$56,2,FALSE),0) -> 0
A27: 14 | B27: =VLOOKUP(A27,Recipes!A:B,2) -> Deconstruction planner | C27: 0 | D27: =HLOOKUP(A27,$AQ$2:$HR$202,$A$202-1,FALSE)+C27 -> 0 | E27: Assembly Machine III | F27: =VLOOKUP(A27,Recipes!$A$3:$G$186,6,FALSE) -> 1 | G27: =VLOOKUP(A27,Recipes!$A$3:$G$186,7,FALSE) -> 0 | H27: =ROUNDUP(D27/AL27,0) -> 0 | I27: =VLOOKUP(E27,Data!$A$2:$C$26,3, FALSE) -> 4 | J27: 0 | K27: 0 | L27: 0 | M27: 0 | N27: 0 | O27: 0 | P27: 0 | Q27: 0 | R27: 0 | S27: =J27*$H27 -> 0 | T27: =K27*$H27 -> 0 | U27: =L27*$H27 -> 0 | V27: =M27*$H27 -> 0 | W27: =N27*$H27 -> 0 | X27: =O27*$H27 -> 0 | Y27: =P27*$H27 -> 0 | Z27: =Q27*$H27 -> 0 | AA27: =R27*$H27 -> 0 | AB27: =VLOOKUP($A27,Recipes!$A:$G,4) -> 1 | AC27: =VLOOKUP($A27,Recipes!$A:$G,5) -> 1 | AD27: =AC27/AB27 -> 1 | AE27: =VLOOKUP(E27,Data!$A$2:$F$26,5,FALSE) -> 0 | AF27: =VLOOKUP(E27,Data!$A$2:$F$26,4,FALSE) -> 210 | AG27: =VLOOKUP(E27,Data!$A$2:$B$26,2, FALSE) -> 1.25 | AH27: =1+VLOOKUP($J$3,Data!$A$40:$D$48,2,FALSE)*$J27+VLOOKUP($K$3,Data!$A$40:$D$48,2,FALSE)*$K27+VLOOKUP($L$3,Data!$A$40:$D$48,2,FALSE)*$L27+VLOOKUP($M$3,Data!$A$40:$D$48,2,FALSE)*$M27+VLOOKUP($N$3,Data!$A$40:$D$48,2,FALSE)*$N27+VLOOKUP($O$3,Data!$A$40:$D$48,2,FALSE)*$O27+VLOOKUP($P$3,Data!$A$40:$D$48,2,FALSE)*$P27+VLOOKUP($Q$3,Data!$A$40:$D$48,2,FALSE)*$Q27+VLOOKUP($R$3,Data!$A$40:$D$48,2,FALSE)*$R27 -> 1 | AI27: =MAX(1+VLOOKUP($J$3,Data!$A$40:$D$48,3,FALSE)*$J27+VLOOKUP($K$3,Data!$A$40:$D$48,3,FALSE)*$K27+VLOOKUP($L$3,Data!$A$40:$D$48,3,FALSE)*$L27+VLOOKUP($M$3,Data!$A$40:$D$48,3,FALSE)*$M27+VLOOKUP($N$3,Data!$A$40:$D$48,3,FALSE)*$N27+VLOOKUP($O$3,Data!$A$40:$D$48,3,FALSE)*$O27+VLOOKUP($P$3,Data!$A$40:$D$48,3,FALSE)*$P27+VLOOKUP($Q$3,Data!$A$40:$D$48,3,FALSE)*$Q27+VLOOKUP($R$3,Data!$A$40:$D$48,3,FALSE)*$R27,0) -> 1 | AJ27: =MAX(1-(VLOOKUP($J$3,Data!$A$40:$D$48,4,FALSE)*$J27+VLOOKUP($K$3,Data!$A$40:$D$48,4,FALSE)*$K27+VLOOKUP($L$3,Data!$A$40:$D$48,4,FALSE)*$L27+VLOOKUP($M$3,Data!$A$40:$D$48,4,FALSE)*$M27+VLOOKUP($N$3,Data!$A$40:$D$48,4,FALSE)*$N27+VLOOKUP($O$3,Data!$A$40:$D$48,4,FALSE)*$O27+VLOOKUP($P$3,Data!$A$40:$D$48,4,FALSE)*$P27+VLOOKUP($Q$3,Data!$A$40:$D$48,4,FALSE)*$Q27+VLOOKUP($R$3,Data!$A$40:$D$48,4,FALSE)*$R27),0.2) -> 1 | AK27: =D27/(AC27*AH27) -> 0 | AL27: =AD27*AG27*AH27*AI27 -> 1.25 | AM27: =AE27*H27*AJ27 -> 0 | AN27: =AF27*H27*AJ27 -> 0 | AO27: None | AQ27: =IF(AQ$2=$A27,0,IF(HLOOKUP(AQ$2,Recipes!$H:$GI,'Production Calculator'!$A27+2,FALSE)=0,0,HLOOKUP(AQ$2,Recipes!$H:$GI,'Production Calculator'!$A27+2,FALSE)*$AK27))+IF($AO27=AQ$3,$AM27/VLOOKUP($AO27,Data!$A$50:$B$56,2,FALSE),0) -> 0 | AR27: =IF(AR$2=$A27,0,IF(HLOOKUP(AR$2,Recipes!$H:$GI,'Production Calculator'!$A27+2,FALSE)=0,0,HLOOKUP(AR$2,Recipes!$H:$GI,'Production Calculator'!$A27+2,FALSE)*$AK27))+IF($AO27=AR$3,$AM27/VLOOKUP($AO27,Data!$A$50:$B$56,2,FALSE),0) -> 0 | AS27: =IF(AS$2=$A27,0,IF(HLOOKUP(AS$2,Recipes!$H:$GI,'Production Calculator'!$A27+2,FALSE)=0,0,HLOOKUP(AS$2,Recipes!$H:$GI,'Production Calculator'!$A27+2,FALSE)*$AK27))+IF($AO27=AS$3,$AM27/VLOOKUP($AO27,Data!$A$50:$B$56,2,FALSE),0) -> 0 | AT27: =IF(AT$2=$A27,0,IF(HLOOKUP(AT$2,Recipes!$H:$GI,'Production Calculator'!$A27+2,FALSE)=0,0,HLOOKUP(AT$2,Recipes!$H:$GI,'Production Calculator'!$A27+2,FALSE)*$AK27))+IF($AO27=AT$3,$AM27/VLOOKUP($AO27,Data!$A$50:$B$56,2,FALSE),0) -> 0 | AU27: =IF(AU$2=$A27,0,IF(HLOOKUP(AU$2,Recipes!$H:$GI,'Production Calculator'!$A27+2,FALSE)=0,0,HLOOKUP(AU$2,Recipes!$H:$GI,'Production Calculator'!$A27+2,FALSE)*$AK27))+IF($AO27=AU$3,$AM27/VLOOKUP($AO27,Data!$A$50:$B$56,2,FALSE),0) -> 0 | AV27: =IF(AV$2=$A27,0,IF(HLOOKUP(AV$2,Recipes!$H:$GI,'Production Calculator'!$A27+2,FALSE)=0,0,HLOOKUP(AV$2,Recipes!$H:$GI,'Production Calculator'!$A27+2,FALSE)*$AK27))+IF($AO27=AV$3,$AM27/VLOOKUP($AO27,Data!$A$50:$B$56,2,FALSE),0) -> 0 | AW27: =IF(AW$2=$A27,0,IF(HLOOKUP(AW$2,Recipes!$H:$GI,'Production Calculator'!$A27+2,FALSE)=0,0,HLOOKUP(AW$2,Recipes!$H:$GI,'Production Calculator'!$A27+2,FALSE)*$AK27))+IF($AO27=AW$3,$AM27/VLOOKUP($AO27,Data!$A$50:$B$56,2,FALSE),0) -> 0 | AX27: =IF(AX$2=$A27,0,IF(HLOOKUP(AX$2,Recipes!$H:$GI,'Production Calculator'!$A27+2,FALSE)=0,0,HLOOKUP(AX$2,Recipes!$H:$GI,'Production Calculator'!$A27+2,FALSE)*$AK27))+IF($AO27=AX$3,$AM27/VLOOKUP($AO27,Data!$A$50:$B$56,2,FALSE),0) -> 0 | ... HR27: =IF(HR$2=$A27,0,IF(HLOOKUP(HR$2,Recipes!$H:$GI,'Production Calculator'!$A27+2,FALSE)=0,0,HLOOKUP(HR$2,Recipes!$H:$GI,'Production Calculator'!$A27+2,FALSE)*$AK27))+IF($AO27=HR$3,$AM27/VLOOKUP($AO27,Data!$A$50:$B$56,2,FALSE),0) -> 0
A28: 15 | B28: =VLOOKUP(A28,Recipes!A:B,2) -> Discharge defense | C28: 0 | D28: =HLOOKUP(A28,$AQ$2:$HR$202,$A$202-1,FALSE)+C28 -> 0 | E28: Assembly Machine III | F28: =VLOOKUP(A28,Recipes!$A$3:$G$186,6,FALSE) -> 3 | G28: =VLOOKUP(A28,Recipes!$A$3:$G$186,7,FALSE) -> 0 | H28: =ROUNDUP(D28/AL28,0) -> 0 | I28: =VLOOKUP(E28,Data!$A$2:$C$26,3, FALSE) -> 4 | J28: 0 | K28: 0 | L28: 0 | M28: 0 | N28: 0 | O28: 0 | P28: 0 | Q28: 0 | R28: 0 | S28: =J28*$H28 -> 0 | T28: =K28*$H28 -> 0 | U28: =L28*$H28 -> 0 | V28: =M28*$H28 -> 0 | W28: =N28*$H28 -> 0 | X28: =O28*$H28 -> 0 | Y28: =P28*$H28 -> 0 | Z28: =Q28*$H28 -> 0 | AA28: =R28*$H28 -> 0 | AB28: =VLOOKUP($A28,Recipes!$A:$G,4) -> 10 | AC28: =VLOOKUP($A28,Recipes!$A:$G,5) -> 1 | AD28: =AC28/AB28 -> 0.1 | AE28: =VLOOKUP(E28,Data!$A$2:$F$26,5,FALSE) -> 0 | AF28: =VLOOKUP(E28,Data!$A$2:$F$26,4,FALSE) -> 210 | AG28: =VLOOKUP(E28,Data!$A$2:$B$26,2, FALSE) -> 1.25 | AH28: =1+VLOOKUP($J$3,Data!$A$40:$D$48,2,FALSE)*$J28+VLOOKUP($K$3,Data!$A$40:$D$48,2,FALSE)*$K28+VLOOKUP($L$3,Data!$A$40:$D$48,2,FALSE)*$L28+VLOOKUP($M$3,Data!$A$40:$D$48,2,FALSE)*$M28+VLOOKUP($N$3,Data!$A$40:$D$48,2,FALSE)*$N28+VLOOKUP($O$3,Data!$A$40:$D$48,2,FALSE)*$O28+VLOOKUP($P$3,Data!$A$40:$D$48,2,FALSE)*$P28+VLOOKUP($Q$3,Data!$A$40:$D$48,2,FALSE)*$Q28+VLOOKUP($R$3,Data!$A$40:$D$48,2,FALSE)*$R28 -> 1 | AI28: =MAX(1+VLOOKUP($J$3,Data!$A$40:$D$48,3,FALSE)*$J28+VLOOKUP($K$3,Data!$A$40:$D$48,3,FALSE)*$K28+VLOOKUP($L$3,Data!$A$40:$D$48,3,FALSE)*$L28+VLOOKUP($M$3,Data!$A$40:$D$48,3,FALSE)*$M28+VLOOKUP($N$3,Data!$A$40:$D$48,3,FALSE)*$N28+VLOOKUP($O$3,Data!$A$40:$D$48,3,FALSE)*$O28+VLOOKUP($P$3,Data!$A$40:$D$48,3,FALSE)*$P28+VLOOKUP($Q$3,Data!$A$40:$D$48,3,FALSE)*$Q28+VLOOKUP($R$3,Data!$A$40:$D$48,3,FALSE)*$R28,0) -> 1 | AJ28: =MAX(1-(VLOOKUP($J$3,Data!$A$40:$D$48,4,FALSE)*$J28+VLOOKUP($K$3,Data!$A$40:$D$48,4,FALSE)*$K28+VLOOKUP($L$3,Data!$A$40:$D$48,4,FALSE)*$L28+VLOOKUP($M$3,Data!$A$40:$D$48,4,FALSE)*$M28+VLOOKUP($N$3,Data!$A$40:$D$48,4,FALSE)*$N28+VLOOKUP($O$3,Data!$A$40:$D$48,4,FALSE)*$O28+VLOOKUP($P$3,Data!$A$40:$D$48,4,FALSE)*$P28+VLOOKUP($Q$3,Data!$A$40:$D$48,4,FALSE)*$Q28+VLOOKUP($R$3,Data!$A$40:$D$48,4,FALSE)*$R28),0.2) -> 1 | AK28: =D28/(AC28*AH28) -> 0 | AL28: =AD28*AG28*AH28*AI28 -> 0.125 | AM28: =AE28*H28*AJ28 -> 0 | AN28: =AF28*H28*AJ28 -> 0 | AO28: None | AQ28: =IF(AQ$2=$A28,0,IF(HLOOKUP(AQ$2,Recipes!$H:$GI,'Production Calculator'!$A28+2,FALSE)=0,0,HLOOKUP(AQ$2,Recipes!$H:$GI,'Production Calculator'!$A28+2,FALSE)*$AK28))+IF($AO28=AQ$3,$AM28/VLOOKUP($AO28,Data!$A$50:$B$56,2,FALSE),0) -> 0 | AR28: =IF(AR$2=$A28,0,IF(HLOOKUP(AR$2,Recipes!$H:$GI,'Production Calculator'!$A28+2,FALSE)=0,0,HLOOKUP(AR$2,Recipes!$H:$GI,'Production Calculator'!$A28+2,FALSE)*$AK28))+IF($AO28=AR$3,$AM28/VLOOKUP($AO28,Data!$A$50:$B$56,2,FALSE),0) -> 0 | AS28: =IF(AS$2=$A28,0,IF(HLOOKUP(AS$2,Recipes!$H:$GI,'Production Calculator'!$A28+2,FALSE)=0,0,HLOOKUP(AS$2,Recipes!$H:$GI,'Production Calculator'!$A28+2,FALSE)*$AK28))+IF($AO28=AS$3,$AM28/VLOOKUP($AO28,Data!$A$50:$B$56,2,FALSE),0) -> 0 | AT28: =IF(AT$2=$A28,0,IF(HLOOKUP(AT$2,Recipes!$H:$GI,'Production Calculator'!$A28+2,FALSE)=0,0,HLOOKUP(AT$2,Recipes!$H:$GI,'Production Calculator'!$A28+2,FALSE)*$AK28))+IF($AO28=AT$3,$AM28/VLOOKUP($AO28,Data!$A$50:$B$56,2,FALSE),0) -> 0 | AU28: =IF(AU$2=$A28,0,IF(HLOOKUP(AU$2,Recipes!$H:$GI,'Production Calculator'!$A28+2,FALSE)=0,0,HLOOKUP(AU$2,Recipes!$H:$GI,'Production Calculator'!$A28+2,FALSE)*$AK28))+IF($AO28=AU$3,$AM28/VLOOKUP($AO28,Data!$A$50:$B$56,2,FALSE),0) -> 0 | AV28: =IF(AV$2=$A28,0,IF(HLOOKUP(AV$2,Recipes!$H:$GI,'Production Calculator'!$A28+2,FALSE)=0,0,HLOOKUP(AV$2,Recipes!$H:$GI,'Production Calculator'!$A28+2,FALSE)*$AK28))+IF($AO28=AV$3,$AM28/VLOOKUP($AO28,Data!$A$50:$B$56,2,FALSE),0) -> 0 | AW28: =IF(AW$2=$A28,0,IF(HLOOKUP(AW$2,Recipes!$H:$GI,'Production Calculator'!$A28+2,FALSE)=0,0,HLOOKUP(AW$2,Recipes!$H:$GI,'Production Calculator'!$A28+2,FALSE)*$AK28))+IF($AO28=AW$3,$AM28/VLOOKUP($AO28,Data!$A$50:$B$56,2,FALSE),0) -> 0 | AX28: =IF(AX$2=$A28,0,IF(HLOOKUP(AX$2,Recipes!$H:$GI,'Production Calculator'!$A28+2,FALSE)=0,0,HLOOKUP(AX$2,Recipes!$H:$GI,'Production Calculator'!$A28+2,FALSE)*$AK28))+IF($AO28=AX$3,$AM28/VLOOKUP($AO28,Data!$A$50:$B$56,2,FALSE),0) -> 0 | ... HR28: =IF(HR$2=$A28,0,IF(HLOOKUP(HR$2,Recipes!$H:$GI,'Production Calculator'!$A28+2,FALSE)=0,0,HLOOKUP(HR$2,Recipes!$H:$GI,'Production Calculator'!$A28+2,FALSE)*$AK28))+IF($AO28=HR$3,$AM28/VLOOKUP($AO28,Data!$A$50:$B$56,2,FALSE),0) -> 0
A29: 16 | B29: =VLOOKUP(A29,Recipes!A:B,2) -> Discharge defense remote | C29: 0 | D29: =HLOOKUP(A29,$AQ$2:$HR$202,$A$202-1,FALSE)+C29 -> 0 | E29: Assembly Machine III | F29: =VLOOKUP(A29,Recipes!$A$3:$G$186,6,FALSE) -> 1 | G29: =VLOOKUP(A29,Recipes!$A$3:$G$186,7,FALSE) -> 0 | H29: =ROUNDUP(D29/AL29,0) -> 0 | I29: =VLOOKUP(E29,Data!$A$2:$C$26,3, FALSE) -> 4 | J29: 0 | K29: 0 | L29: 0 | M29: 0 | N29: 0 | O29: 0 | P29: 0 | Q29: 0 | R29: 0 | S29: =J29*$H29 -> 0 | T29: =K29*$H29 -> 0 | U29: =L29*$H29 -> 0 | V29: =M29*$H29 -> 0 | W29: =N29*$H29 -> 0 | X29: =O29*$H29 -> 0 | Y29: =P29*$H29 -> 0 | Z29: =Q29*$H29 -> 0 | AA29: =R29*$H29 -> 0 | AB29: =VLOOKUP($A29,Recipes!$A:$G,4) -> 0.5 | AC29: =VLOOKUP($A29,Recipes!$A:$G,5) -> 1 | AD29: =AC29/AB29 -> 2 | AE29: =VLOOKUP(E29,Data!$A$2:$F$26,5,FALSE) -> 0 | AF29: =VLOOKUP(E29,Data!$A$2:$F$26,4,FALSE) -> 210 | AG29: =VLOOKUP(E29,Data!$A$2:$B$26,2, FALSE) -> 1.25 | AH29: =1+VLOOKUP($J$3,Data!$A$40:$D$48,2,FALSE)*$J29+VLOOKUP($K$3,Data!$A$40:$D$48,2,FALSE)*$K29+VLOOKUP($L$3,Data!$A$40:$D$48,2,FALSE)*$L29+VLOOKUP($M$3,Data!$A$40:$D$48,2,FALSE)*$M29+VLOOKUP($N$3,Data!$A$40:$D$48,2,FALSE)*$N29+VLOOKUP($O$3,Data!$A$40:$D$48,2,FALSE)*$O29+VLOOKUP($P$3,Data!$A$40:$D$48,2,FALSE)*$P29+VLOOKUP($Q$3,Data!$A$40:$D$48,2,FALSE)*$Q29+VLOOKUP($R$3,Data!$A$40:$D$48,2,FALSE)*$R29 -> 1 | AI29: =MAX(1+VLOOKUP($J$3,Data!$A$40:$D$48,3,FALSE)*$J29+VLOOKUP($K$3,Data!$A$40:$D$48,3,FALSE)*$K29+VLOOKUP($L$3,Data!$A$40:$D$48,3,FALSE)*$L29+VLOOKUP($M$3,Data!$A$40:$D$48,3,FALSE)*$M29+VLOOKUP($N$3,Data!$A$40:$D$48,3,FALSE)*$N29+VLOOKUP($O$3,Data!$A$40:$D$48,3,FALSE)*$O29+VLOOKUP($P$3,Data!$A$40:$D$48,3,FALSE)*$P29+VLOOKUP($Q$3,Data!$A$40:$D$48,3,FALSE)*$Q29+VLOOKUP($R$3,Data!$A$40:$D$48,3,FALSE)*$R29,0) -> 1 | AJ29: =MAX(1-(VLOOKUP($J$3,Data!$A$40:$D$48,4,FALSE)*$J29+VLOOKUP($K$3,Data!$A$40:$D$48,4,FALSE)*$K29+VLOOKUP($L$3,Data!$A$40:$D$48,4,FALSE)*$L29+VLOOKUP($M$3,Data!$A$40:$D$48,4,FALSE)*$M29+VLOOKUP($N$3,Data!$A$40:$D$48,4,FALSE)*$N29+VLOOKUP($O$3,Data!$A$40:$D$48,4,FALSE)*$O29+VLOOKUP($P$3,Data!$A$40:$D$48,4,FALSE)*$P29+VLOOKUP($Q$3,Data!$A$40:$D$48,4,FALSE)*$Q29+VLOOKUP($R$3,Data!$A$40:$D$48,4,FALSE)*$R29),0.2) -> 1 | AK29: =D29/(AC29*AH29) -> 0 | AL29: =AD29*AG29*AH29*AI29 -> 2.5 | AM29: =AE29*H29*AJ29 -> 0 | AN29: =AF29*H29*AJ29 -> 0 | AO29: None | AQ29: =IF(AQ$2=$A29,0,IF(HLOOKUP(AQ$2,Recipes!$H:$GI,'Production Calculator'!$A29+2,FALSE)=0,0,HLOOKUP(AQ$2,Recipes!$H:$GI,'Production Calculator'!$A29+2,FALSE)*$AK29))+IF($AO29=AQ$3,$AM29/VLOOKUP($AO29,Data!$A$50:$B$56,2,FALSE),0) -> 0 | AR29: =IF(AR$2=$A29,0,IF(HLOOKUP(AR$2,Recipes!$H:$GI,'Production Calculator'!$A29+2,FALSE)=0,0,HLOOKUP(AR$2,Recipes!$H:$GI,'Production Calculator'!$A29+2,FALSE)*$AK29))+IF($AO29=AR$3,$AM29/VLOOKUP($AO29,Data!$A$50:$B$56,2,FALSE),0) -> 0 | AS29: =IF(AS$2=$A29,0,IF(HLOOKUP(AS$2,Recipes!$H:$GI,'Production Calculator'!$A29+2,FALSE)=0,0,HLOOKUP(AS$2,Recipes!$H:$GI,'Production Calculator'!$A29+2,FALSE)*$AK29))+IF($AO29=AS$3,$AM29/VLOOKUP($AO29,Data!$A$50:$B$56,2,FALSE),0) -> 0 | AT29: =IF(AT$2=$A29,0,IF(HLOOKUP(AT$2,Recipes!$H:$GI,'Production Calculator'!$A29+2,FALSE)=0,0,HLOOKUP(AT$2,Recipes!$H:$GI,'Production Calculator'!$A29+2,FALSE)*$AK29))+IF($AO29=AT$3,$AM29/VLOOKUP($AO29,Data!$A$50:$B$56,2,FALSE),0) -> 0 | AU29: =IF(AU$2=$A29,0,IF(HLOOKUP(AU$2,Recipes!$H:$GI,'Production Calculator'!$A29+2,FALSE)=0,0,HLOOKUP(AU$2,Recipes!$H:$GI,'Production Calculator'!$A29+2,FALSE)*$AK29))+IF($AO29=AU$3,$AM29/VLOOKUP($AO29,Data!$A$50:$B$56,2,FALSE),0) -> 0 | AV29: =IF(AV$2=$A29,0,IF(HLOOKUP(AV$2,Recipes!$H:$GI,'Production Calculator'!$A29+2,FALSE)=0,0,HLOOKUP(AV$2,Recipes!$H:$GI,'Production Calculator'!$A29+2,FALSE)*$AK29))+IF($AO29=AV$3,$AM29/VLOOKUP($AO29,Data!$A$50:$B$56,2,FALSE),0) -> 0 | AW29: =IF(AW$2=$A29,0,IF(HLOOKUP(AW$2,Recipes!$H:$GI,'Production Calculator'!$A29+2,FALSE)=0,0,HLOOKUP(AW$2,Recipes!$H:$GI,'Production Calculator'!$A29+2,FALSE)*$AK29))+IF($AO29=AW$3,$AM29/VLOOKUP($AO29,Data!$A$50:$B$56,2,FALSE),0) -> 0 | AX29: =IF(AX$2=$A29,0,IF(HLOOKUP(AX$2,Recipes!$H:$GI,'Production Calculator'!$A29+2,FALSE)=0,0,HLOOKUP(AX$2,Recipes!$H:$GI,'Production Calculator'!$A29+2,FALSE)*$AK29))+IF($AO29=AX$3,$AM29/VLOOKUP($AO29,Data!$A$50:$B$56,2,FALSE),0) -> 0 | ... HR29: =IF(HR$2=$A29,0,IF(HLOOKUP(HR$2,Recipes!$H:$GI,'Production Calculator'!$A29+2,FALSE)=0,0,HLOOKUP(HR$2,Recipes!$H:$GI,'Production Calculator'!$A29+2,FALSE)*$AK29))+IF($AO29=HR$3,$AM29/VLOOKUP($AO29,Data!$A$50:$B$56,2,FALSE),0) -> 0
A30: 17 | B30: =VLOOKUP(A30,Recipes!A:B,2) -> Energy shield | C30: 0 | D30: =HLOOKUP(A30,$AQ$2:$HR$202,$A$202-1,FALSE)+C30 -> 0 | E30: Assembly Machine III | F30: =VLOOKUP(A30,Recipes!$A$3:$G$186,6,FALSE) -> 2 | G30: =VLOOKUP(A30,Recipes!$A$3:$G$186,7,FALSE) -> 0 | H30: =ROUNDUP(D30/AL30,0) -> 0 | I30: =VLOOKUP(E30,Data!$A$2:$C$26,3, FALSE) -> 4 | J30: 0 | K30: 0 | L30: 0 | M30: 0 | N30: 0 | O30: 0 | P30: 0 | Q30: 0 | R30: 0 | S30: =J30*$H30 -> 0 | T30: =K30*$H30 -> 0 | U30: =L30*$H30 -> 0 | V30: =M30*$H30 -> 0 | W30: =N30*$H30 -> 0 | X30: =O30*$H30 -> 0 | Y30: =P30*$H30 -> 0 | Z30: =Q30*$H30 -> 0 | AA30: =R30*$H30 -> 0 | AB30: =VLOOKUP($A30,Recipes!$A:$G,4) -> 10 | AC30: =VLOOKUP($A30,Recipes!$A:$G,5) -> 1 | AD30: =AC30/AB30 -> 0.1 | AE30: =VLOOKUP(E30,Data!$A$2:$F$26,5,FALSE) -> 0 | AF30: =VLOOKUP(E30,Data!$A$2:$F$26,4,FALSE) -> 210 | AG30: =VLOOKUP(E30,Data!$A$2:$B$26,2, FALSE) -> 1.25 | AH30: =1+VLOOKUP($J$3,Data!$A$40:$D$48,2,FALSE)*$J30+VLOOKUP($K$3,Data!$A$40:$D$48,2,FALSE)*$K30+VLOOKUP($L$3,Data!$A$40:$D$48,2,FALSE)*$L30+VLOOKUP($M$3,Data!$A$40:$D$48,2,FALSE)*$M30+VLOOKUP($N$3,Data!$A$40:$D$48,2,FALSE)*$N30+VLOOKUP($O$3,Data!$A$40:$D$48,2,FALSE)*$O30+VLOOKUP($P$3,Data!$A$40:$D$48,2,FALSE)*$P30+VLOOKUP($Q$3,Data!$A$40:$D$48,2,FALSE)*$Q30+VLOOKUP($R$3,Data!$A$40:$D$48,2,FALSE)*$R30 -> 1 | AI30: =MAX(1+VLOOKUP($J$3,Data!$A$40:$D$48,3,FALSE)*$J30+VLOOKUP($K$3,Data!$A$40:$D$48,3,FALSE)*$K30+VLOOKUP($L$3,Data!$A$40:$D$48,3,FALSE)*$L30+VLOOKUP($M$3,Data!$A$40:$D$48,3,FALSE)*$M30+VLOOKUP($N$3,Data!$A$40:$D$48,3,FALSE)*$N30+VLOOKUP($O$3,Data!$A$40:$D$48,3,FALSE)*$O30+VLOOKUP($P$3,Data!$A$40:$D$48,3,FALSE)*$P30+VLOOKUP($Q$3,Data!$A$40:$D$48,3,FALSE)*$Q30+VLOOKUP($R$3,Data!$A$40:$D$48,3,FALSE)*$R30,0) -> 1 | AJ30: =MAX(1-(VLOOKUP($J$3,Data!$A$40:$D$48,4,FALSE)*$J30+VLOOKUP($K$3,Data!$A$40:$D$48,4,FALSE)*$K30+VLOOKUP($L$3,Data!$A$40:$D$48,4,FALSE)*$L30+VLOOKUP($M$3,Data!$A$40:$D$48,4,FALSE)*$M30+VLOOKUP($N$3,Data!$A$40:$D$48,4,FALSE)*$N30+VLOOKUP($O$3,Data!$A$40:$D$48,4,FALSE)*$O30+VLOOKUP($P$3,Data!$A$40:$D$48,4,FALSE)*$P30+VLOOKUP($Q$3,Data!$A$40:$D$48,4,FALSE)*$Q30+VLOOKUP($R$3,Data!$A$40:$D$48,4,FALSE)*$R30),0.2) -> 1 | AK30: =D30/(AC30*AH30) -> 0 | AL30: =AD30*AG30*AH30*AI30 -> 0.125 | AM30: =AE30*H30*AJ30 -> 0 | AN30: =AF30*H30*AJ30 -> 0 | AO30: None | AQ30: =IF(AQ$2=$A30,0,IF(HLOOKUP(AQ$2,Recipes!$H:$GI,'Production Calculator'!$A30+2,FALSE)=0,0,HLOOKUP(AQ$2,Recipes!$H:$GI,'Production Calculator'!$A30+2,FALSE)*$AK30))+IF($AO30=AQ$3,$AM30/VLOOKUP($AO30,Data!$A$50:$B$56,2,FALSE),0) -> 0 | AR30: =IF(AR$2=$A30,0,IF(HLOOKUP(AR$2,Recipes!$H:$GI,'Production Calculator'!$A30+2,FALSE)=0,0,HLOOKUP(AR$2,Recipes!$H:$GI,'Production Calculator'!$A30+2,FALSE)*$AK30))+IF($AO30=AR$3,$AM30/VLOOKUP($AO30,Data!$A$50:$B$56,2,FALSE),0) -> 0 | AS30: =IF(AS$2=$A30,0,IF(HLOOKUP(AS$2,Recipes!$H:$GI,'Production Calculator'!$A30+2,FALSE)=0,0,HLOOKUP(AS$2,Recipes!$H:$GI,'Production Calculator'!$A30+2,FALSE)*$AK30))+IF($AO30=AS$3,$AM30/VLOOKUP($AO30,Data!$A$50:$B$56,2,FALSE),0) -> 0 | AT30: =IF(AT$2=$A30,0,IF(HLOOKUP(AT$2,Recipes!$H:$GI,'Production Calculator'!$A30+2,FALSE)=0,0,HLOOKUP(AT$2,Recipes!$H:$GI,'Production Calculator'!$A30+2,FALSE)*$AK30))+IF($AO30=AT$3,$AM30/VLOOKUP($AO30,Data!$A$50:$B$56,2,FALSE),0) -> 0 | AU30: =IF(AU$2=$A30,0,IF(HLOOKUP(AU$2,Recipes!$H:$GI,'Production Calculator'!$A30+2,FALSE)=0,0,HLOOKUP(AU$2,Recipes!$H:$GI,'Production Calculator'!$A30+2,FALSE)*$AK30))+IF($AO30=AU$3,$AM30/VLOOKUP($AO30,Data!$A$50:$B$56,2,FALSE),0) -> 0 | AV30: =IF(AV$2=$A30,0,IF(HLOOKUP(AV$2,Recipes!$H:$GI,'Production Calculator'!$A30+2,FALSE)=0,0,HLOOKUP(AV$2,Recipes!$H:$GI,'Production Calculator'!$A30+2,FALSE)*$AK30))+IF($AO30=AV$3,$AM30/VLOOKUP($AO30,Data!$A$50:$B$56,2,FALSE),0) -> 0 | AW30: =IF(AW$2=$A30,0,IF(HLOOKUP(AW$2,Recipes!$H:$GI,'Production Calculator'!$A30+2,FALSE)=0,0,HLOOKUP(AW$2,Recipes!$H:$GI,'Production Calculator'!$A30+2,FALSE)*$AK30))+IF($AO30=AW$3,$AM30/VLOOKUP($AO30,Data!$A$50:$B$56,2,FALSE),0) -> 0 | AX30: =IF(AX$2=$A30,0,IF(HLOOKUP(AX$2,Recipes!$H:$GI,'Production Calculator'!$A30+2,FALSE)=0,0,HLOOKUP(AX$2,Recipes!$H:$GI,'Production Calculator'!$A30+2,FALSE)*$AK30))+IF($AO30=AX$3,$AM30/VLOOKUP($AO30,Data!$A$50:$B$56,2,FALSE),0) -> 0 | ... HR30: =IF(HR$2=$A30,0,IF(HLOOKUP(HR$2,Recipes!$H:$GI,'Production Calculator'!$A30+2,FALSE)=0,0,HLOOKUP(HR$2,Recipes!$H:$GI,'Production Calculator'!$A30+2,FALSE)*$AK30))+IF($AO30=HR$3,$AM30/VLOOKUP($AO30,Data!$A$50:$B$56,2,FALSE),0) -> 0
A31: 18 | B31: =VLOOKUP(A31,Recipes!A:B,2) -> Energy shield MK2 | C31: 0 | D31: =HLOOKUP(A31,$AQ$2:$HR$202,$A$202-1,FALSE)+C31 -> 0 | E31: Assembly Machine III | F31: =VLOOKUP(A31,Recipes!$A$3:$G$186,6,FALSE) -> 2 | G31: =VLOOKUP(A31,Recipes!$A$3:$G$186,7,FALSE) -> 0 | H31: =ROUNDUP(D31/AL31,0) -> 0 | I31: =VLOOKUP(E31,Data!$A$2:$C$26,3, FALSE) -> 4 | J31: 0 | K31: 0 | L31: 0 | M31: 0 | N31: 0 | O31: 0 | P31: 0 | Q31: 0 | R31: 0 | S31: =J31*$H31 -> 0 | T31: =K31*$H31 -> 0 | U31: =L31*$H31 -> 0 | V31: =M31*$H31 -> 0 | W31: =N31*$H31 -> 0 | X31: =O31*$H31 -> 0 | Y31: =P31*$H31 -> 0 | Z31: =Q31*$H31 -> 0 | AA31: =R31*$H31 -> 0 | AB31: =VLOOKUP($A31,Recipes!$A:$G,4) -> 10 | AC31: =VLOOKUP($A31,Recipes!$A:$G,5) -> 1 | AD31: =AC31/AB31 -> 0.1 | AE31: =VLOOKUP(E31,Data!$A$2:$F$26,5,FALSE) -> 0 | AF31: =VLOOKUP(E31,Data!$A$2:$F$26,4,FALSE) -> 210 | AG31: =VLOOKUP(E31,Data!$A$2:$B$26,2, FALSE) -> 1.25 | AH31: =1+VLOOKUP($J$3,Data!$A$40:$D$48,2,FALSE)*$J31+VLOOKUP($K$3,Data!$A$40:$D$48,2,FALSE)*$K31+VLOOKUP($L$3,Data!$A$40:$D$48,2,FALSE)*$L31+VLOOKUP($M$3,Data!$A$40:$D$48,2,FALSE)*$M31+VLOOKUP($N$3,Data!$A$40:$D$48,2,FALSE)*$N31+VLOOKUP($O$3,Data!$A$40:$D$48,2,FALSE)*$O31+VLOOKUP($P$3,Data!$A$40:$D$48,2,FALSE)*$P31+VLOOKUP($Q$3,Data!$A$40:$D$48,2,FALSE)*$Q31+VLOOKUP($R$3,Data!$A$40:$D$48,2,FALSE)*$R31 -> 1 | AI31: =MAX(1+VLOOKUP($J$3,Data!$A$40:$D$48,3,FALSE)*$J31+VLOOKUP($K$3,Data!$A$40:$D$48,3,FALSE)*$K31+VLOOKUP($L$3,Data!$A$40:$D$48,3,FALSE)*$L31+VLOOKUP($M$3,Data!$A$40:$D$48,3,FALSE)*$M31+VLOOKUP($N$3,Data!$A$40:$D$48,3,FALSE)*$N31+VLOOKUP($O$3,Data!$A$40:$D$48,3,FALSE)*$O31+VLOOKUP($P$3,Data!$A$40:$D$48,3,FALSE)*$P31+VLOOKUP($Q$3,Data!$A$40:$D$48,3,FALSE)*$Q31+VLOOKUP($R$3,Data!$A$40:$D$48,3,FALSE)*$R31,0) -> 1 | AJ31: =MAX(1-(VLOOKUP($J$3,Data!$A$40:$D$48,4,FALSE)*$J31+VLOOKUP($K$3,Data!$A$40:$D$48,4,FALSE)*$K31+VLOOKUP($L$3,Data!$A$40:$D$48,4,FALSE)*$L31+VLOOKUP($M$3,Data!$A$40:$D$48,4,FALSE)*$M31+VLOOKUP($N$3,Data!$A$40:$D$48,4,FALSE)*$N31+VLOOKUP($O$3,Data!$A$40:$D$48,4,FALSE)*$O31+VLOOKUP($P$3,Data!$A$40:$D$48,4,FALSE)*$P31+VLOOKUP($Q$3,Data!$A$40:$D$48,4,FALSE)*$Q31+VLOOKUP($R$3,Data!$A$40:$D$48,4,FALSE)*$R31),0.2) -> 1 | AK31: =D31/(AC31*AH31) -> 0 | AL31: =AD31*AG31*AH31*AI31 -> 0.125 | AM31: =AE31*H31*AJ31 -> 0 | AN31: =AF31*H31*AJ31 -> 0 | AO31: None | AQ31: =IF(AQ$2=$A31,0,IF(HLOOKUP(AQ$2,Recipes!$H:$GI,'Production Calculator'!$A31+2,FALSE)=0,0,HLOOKUP(AQ$2,Recipes!$H:$GI,'Production Calculator'!$A31+2,FALSE)*$AK31))+IF($AO31=AQ$3,$AM31/VLOOKUP($AO31,Data!$A$50:$B$56,2,FALSE),0) -> 0 | AR31: =IF(AR$2=$A31,0,IF(HLOOKUP(AR$2,Recipes!$H:$GI,'Production Calculator'!$A31+2,FALSE)=0,0,HLOOKUP(AR$2,Recipes!$H:$GI,'Production Calculator'!$A31+2,FALSE)*$AK31))+IF($AO31=AR$3,$AM31/VLOOKUP($AO31,Data!$A$50:$B$56,2,FALSE),0) -> 0 | AS31: =IF(AS$2=$A31,0,IF(HLOOKUP(AS$2,Recipes!$H:$GI,'Production Calculator'!$A31+2,FALSE)=0,0,HLOOKUP(AS$2,Recipes!$H:$GI,'Production Calculator'!$A31+2,FALSE)*$AK31))+IF($AO31=AS$3,$AM31/VLOOKUP($AO31,Data!$A$50:$B$56,2,FALSE),0) -> 0 | AT31: =IF(AT$2=$A31,0,IF(HLOOKUP(AT$2,Recipes!$H:$GI,'Production Calculator'!$A31+2,FALSE)=0,0,HLOOKUP(AT$2,Recipes!$H:$GI,'Production Calculator'!$A31+2,FALSE)*$AK31))+IF($AO31=AT$3,$AM31/VLOOKUP($AO31,Data!$A$50:$B$56,2,FALSE),0) -> 0 | AU31: =IF(AU$2=$A31,0,IF(HLOOKUP(AU$2,Recipes!$H:$GI,'Production Calculator'!$A31+2,FALSE)=0,0,HLOOKUP(AU$2,Recipes!$H:$GI,'Production Calculator'!$A31+2,FALSE)*$AK31))+IF($AO31=AU$3,$AM31/VLOOKUP($AO31,Data!$A$50:$B$56,2,FALSE),0) -> 0 | AV31: =IF(AV$2=$A31,0,IF(HLOOKUP(AV$2,Recipes!$H:$GI,'Production Calculator'!$A31+2,FALSE)=0,0,HLOOKUP(AV$2,Recipes!$H:$GI,'Production Calculator'!$A31+2,FALSE)*$AK31))+IF($AO31=AV$3,$AM31/VLOOKUP($AO31,Data!$A$50:$B$56,2,FALSE),0) -> 0 | AW31: =IF(AW$2=$A31,0,IF(HLOOKUP(AW$2,Recipes!$H:$GI,'Production Calculator'!$A31+2,FALSE)=0,0,HLOOKUP(AW$2,Recipes!$H:$GI,'Production Calculator'!$A31+2,FALSE)*$AK31))+IF($AO31=AW$3,$AM31/VLOOKUP($AO31,Data!$A$50:$B$56,2,FALSE),0) -> 0 | AX31: =IF(AX$2=$A31,0,IF(HLOOKUP(AX$2,Recipes!$H:$GI,'Production Calculator'!$A31+2,FALSE)=0,0,HLOOKUP(AX$2,Recipes!$H:$GI,'Production Calculator'!$A31+2,FALSE)*$AK31))+IF($AO31=AX$3,$AM31/VLOOKUP($AO31,Data!$A$50:$B$56,2,FALSE),0) -> 0 | ... HR31: =IF(HR$2=$A31,0,IF(HLOOKUP(HR$2,Recipes!$H:$GI,'Production Calculator'!$A31+2,FALSE)=0,0,HLOOKUP(HR$2,Recipes!$H:$GI,'Production Calculator'!$A31+2,FALSE)*$AK31))+IF($AO31=HR$3,$AM31/VLOOKUP($AO31,Data!$A$50:$B$56,2,FALSE),0) -> 0
A32: 19 | B32: =VLOOKUP(A32,Recipes!A:B,2) -> Exoskeleton | C32: 0 | D32: =HLOOKUP(A32,$AQ$2:$HR$202,$A$202-1,FALSE)+C32 -> 0 | E32: Assembly Machine III | F32: =VLOOKUP(A32,Recipes!$A$3:$G$186,6,FALSE) -> 3 | G32: =VLOOKUP(A32,Recipes!$A$3:$G$186,7,FALSE) -> 0 | H32: =ROUNDUP(D32/AL32,0) -> 0 | I32: =VLOOKUP(E32,Data!$A$2:$C$26,3, FALSE) -> 4 | J32: 0 | K32: 0 | L32: 0 | M32: 0 | N32: 0 | O32: 0 | P32: 0 | Q32: 0 | R32: 0 | S32: =J32*$H32 -> 0 | T32: =K32*$H32 -> 0 | U32: =L32*$H32 -> 0 | V32: =M32*$H32 -> 0 | W32: =N32*$H32 -> 0 | X32: =O32*$H32 -> 0 | Y32: =P32*$H32 -> 0 | Z32: =Q32*$H32 -> 0 | AA32: =R32*$H32 -> 0 | AB32: =VLOOKUP($A32,Recipes!$A:$G,4) -> 10 | AC32: =VLOOKUP($A32,Recipes!$A:$G,5) -> 1 | AD32: =AC32/AB32 -> 0.1 | AE32: =VLOOKUP(E32,Data!$A$2:$F$26,5,FALSE) -> 0 | AF32: =VLOOKUP(E32,Data!$A$2:$F$26,4,FALSE) -> 210 | AG32: =VLOOKUP(E32,Data!$A$2:$B$26,2, FALSE) -> 1.25 | AH32: =1+VLOOKUP($J$3,Data!$A$40:$D$48,2,FALSE)*$J32+VLOOKUP($K$3,Data!$A$40:$D$48,2,FALSE)*$K32+VLOOKUP($L$3,Data!$A$40:$D$48,2,FALSE)*$L32+VLOOKUP($M$3,Data!$A$40:$D$48,2,FALSE)*$M32+VLOOKUP($N$3,Data!$A$40:$D$48,2,FALSE)*$N32+VLOOKUP($O$3,Data!$A$40:$D$48,2,FALSE)*$O32+VLOOKUP($P$3,Data!$A$40:$D$48,2,FALSE)*$P32+VLOOKUP($Q$3,Data!$A$40:$D$48,2,FALSE)*$Q32+VLOOKUP($R$3,Data!$A$40:$D$48,2,FALSE)*$R32 -> 1 | AI32: =MAX(1+VLOOKUP($J$3,Data!$A$40:$D$48,3,FALSE)*$J32+VLOOKUP($K$3,Data!$A$40:$D$48,3,FALSE)*$K32+VLOOKUP($L$3,Data!$A$40:$D$48,3,FALSE)*$L32+VLOOKUP($M$3,Data!$A$40:$D$48,3,FALSE)*$M32+VLOOKUP($N$3,Data!$A$40:$D$48,3,FALSE)*$N32+VLOOKUP($O$3,Data!$A$40:$D$48,3,FALSE)*$O32+VLOOKUP($P$3,Data!$A$40:$D$48,3,FALSE)*$P32+VLOOKUP($Q$3,Data!$A$40:$D$48,3,FALSE)*$Q32+VLOOKUP($R$3,Data!$A$40:$D$48,3,FALSE)*$R32,0) -> 1 | AJ32: =MAX(1-(VLOOKUP($J$3,Data!$A$40:$D$48,4,FALSE)*$J32+VLOOKUP($K$3,Data!$A$40:$D$48,4,FALSE)*$K32+VLOOKUP($L$3,Data!$A$40:$D$48,4,FALSE)*$L32+VLOOKUP($M$3,Data!$A$40:$D$48,4,FALSE)*$M32+VLOOKUP($N$3,Data!$A$40:$D$48,4,FALSE)*$N32+VLOOKUP($O$3,Data!$A$40:$D$48,4,FALSE)*$O32+VLOOKUP($P$3,Data!$A$40:$D$48,4,FALSE)*$P32+VLOOKUP($Q$3,Data!$A$40:$D$48,4,FALSE)*$Q32+VLOOKUP($R$3,Data!$A$40:$D$48,4,FALSE)*$R32),0.2) -> 1 | AK32: =D32/(AC32*AH32) -> 0 | AL32: =AD32*AG32*AH32*AI32 -> 0.125 | AM32: =AE32*H32*AJ32 -> 0 | AN32: =AF32*H32*AJ32 -> 0 | AO32: None | AQ32: =IF(AQ$2=$A32,0,IF(HLOOKUP(AQ$2,Recipes!$H:$GI,'Production Calculator'!$A32+2,FALSE)=0,0,HLOOKUP(AQ$2,Recipes!$H:$GI,'Production Calculator'!$A32+2,FALSE)*$AK32))+IF($AO32=AQ$3,$AM32/VLOOKUP($AO32,Data!$A$50:$B$56,2,FALSE),0) -> 0 | AR32: =IF(AR$2=$A32,0,IF(HLOOKUP(AR$2,Recipes!$H:$GI,'Production Calculator'!$A32+2,FALSE)=0,0,HLOOKUP(AR$2,Recipes!$H:$GI,'Production Calculator'!$A32+2,FALSE)*$AK32))+IF($AO32=AR$3,$AM32/VLOOKUP($AO32,Data!$A$50:$B$56,2,FALSE),0) -> 0 | AS32: =IF(AS$2=$A32,0,IF(HLOOKUP(AS$2,Recipes!$H:$GI,'Production Calculator'!$A32+2,FALSE)=0,0,HLOOKUP(AS$2,Recipes!$H:$GI,'Production Calculator'!$A32+2,FALSE)*$AK32))+IF($AO32=AS$3,$AM32/VLOOKUP($AO32,Data!$A$50:$B$56,2,FALSE),0) -> 0 | AT32: =IF(AT$2=$A32,0,IF(HLOOKUP(AT$2,Recipes!$H:$GI,'Production Calculator'!$A32+2,FALSE)=0,0,HLOOKUP(AT$2,Recipes!$H:$GI,'Production Calculator'!$A32+2,FALSE)*$AK32))+IF($AO32=AT$3,$AM32/VLOOKUP($AO32,Data!$A$50:$B$56,2,FALSE),0) -> 0 | AU32: =IF(AU$2=$A32,0,IF(HLOOKUP(AU$2,Recipes!$H:$GI,'Production Calculator'!$A32+2,FALSE)=0,0,HLOOKUP(AU$2,Recipes!$H:$GI,'Production Calculator'!$A32+2,FALSE)*$AK32))+IF($AO32=AU$3,$AM32/VLOOKUP($AO32,Data!$A$50:$B$56,2,FALSE),0) -> 0 | AV32: =IF(AV$2=$A32,0,IF(HLOOKUP(AV$2,Recipes!$H:$GI,'Production Calculator'!$A32+2,FALSE)=0,0,HLOOKUP(AV$2,Recipes!$H:$GI,'Production Calculator'!$A32+2,FALSE)*$AK32))+IF($AO32=AV$3,$AM32/VLOOKUP($AO32,Data!$A$50:$B$56,2,FALSE),0) -> 0 | AW32: =IF(AW$2=$A32,0,IF(HLOOKUP(AW$2,Recipes!$H:$GI,'Production Calculator'!$A32+2,FALSE)=0,0,HLOOKUP(AW$2,Recipes!$H:$GI,'Production Calculator'!$A32+2,FALSE)*$AK32))+IF($AO32=AW$3,$AM32/VLOOKUP($AO32,Data!$A$50:$B$56,2,FALSE),0) -> 0 | AX32: =IF(AX$2=$A32,0,IF(HLOOKUP(AX$2,Recipes!$H:$GI,'Production Calculator'!$A32+2,FALSE)=0,0,HLOOKUP(AX$2,Recipes!$H:$GI,'Production Calculator'!$A32+2,FALSE)*$AK32))+IF($AO32=AX$3,$AM32/VLOOKUP($AO32,Data!$A$50:$B$56,2,FALSE),0) -> 0 | ... HR32: =IF(HR$2=$A32,0,IF(HLOOKUP(HR$2,Recipes!$H:$GI,'Production Calculator'!$A32+2,FALSE)=0,0,HLOOKUP(HR$2,Recipes!$H:$GI,'Production Calculator'!$A32+2,FALSE)*$AK32))+IF($AO32=HR$3,$AM32/VLOOKUP($AO32,Data!$A$50:$B$56,2,FALSE),0) -> 0
A33: 20 | B33: =VLOOKUP(A33,Recipes!A:B,2) -> Heavy armor | C33: 0 | D33: =HLOOKUP(A33,$AQ$2:$HR$202,$A$202-1,FALSE)+C33 -> 0 | E33: Assembly Machine III | F33: =VLOOKUP(A33,Recipes!$A$3:$G$186,6,FALSE) -> 2 | G33: =VLOOKUP(A33,Recipes!$A$3:$G$186,7,FALSE) -> 0 | H33: =ROUNDUP(D33/AL33,0) -> 0 | I33: =VLOOKUP(E33,Data!$A$2:$C$26,3, FALSE) -> 4 | J33: 0 | K33: 0 | L33: 0 | M33: 0 | N33: 0 | O33: 0 | P33: 0 | Q33: 0 | R33: 0 | S33: =J33*$H33 -> 0 | T33: =K33*$H33 -> 0 | U33: =L33*$H33 -> 0 | V33: =M33*$H33 -> 0 | W33: =N33*$H33 -> 0 | X33: =O33*$H33 -> 0 | Y33: =P33*$H33 -> 0 | Z33: =Q33*$H33 -> 0 | AA33: =R33*$H33 -> 0 | AB33: =VLOOKUP($A33,Recipes!$A:$G,4) -> 8 | AC33: =VLOOKUP($A33,Recipes!$A:$G,5) -> 1 | AD33: =AC33/AB33 -> 0.125 | AE33: =VLOOKUP(E33,Data!$A$2:$F$26,5,FALSE) -> 0 | AF33: =VLOOKUP(E33,Data!$A$2:$F$26,4,FALSE) -> 210 | AG33: =VLOOKUP(E33,Data!$A$2:$B$26,2, FALSE) -> 1.25 | AH33: =1+VLOOKUP($J$3,Data!$A$40:$D$48,2,FALSE)*$J33+VLOOKUP($K$3,Data!$A$40:$D$48,2,FALSE)*$K33+VLOOKUP($L$3,Data!$A$40:$D$48,2,FALSE)*$L33+VLOOKUP($M$3,Data!$A$40:$D$48,2,FALSE)*$M33+VLOOKUP($N$3,Data!$A$40:$D$48,2,FALSE)*$N33+VLOOKUP($O$3,Data!$A$40:$D$48,2,FALSE)*$O33+VLOOKUP($P$3,Data!$A$40:$D$48,2,FALSE)*$P33+VLOOKUP($Q$3,Data!$A$40:$D$48,2,FALSE)*$Q33+VLOOKUP($R$3,Data!$A$40:$D$48,2,FALSE)*$R33 -> 1 | AI33: =MAX(1+VLOOKUP($J$3,Data!$A$40:$D$48,3,FALSE)*$J33+VLOOKUP($K$3,Data!$A$40:$D$48,3,FALSE)*$K33+VLOOKUP($L$3,Data!$A$40:$D$48,3,FALSE)*$L33+VLOOKUP($M$3,Data!$A$40:$D$48,3,FALSE)*$M33+VLOOKUP($N$3,Data!$A$40:$D$48,3,FALSE)*$N33+VLOOKUP($O$3,Data!$A$40:$D$48,3,FALSE)*$O33+VLOOKUP($P$3,Data!$A$40:$D$48,3,FALSE)*$P33+VLOOKUP($Q$3,Data!$A$40:$D$48,3,FALSE)*$Q33+VLOOKUP($R$3,Data!$A$40:$D$48,3,FALSE)*$R33,0) -> 1 | AJ33: =MAX(1-(VLOOKUP($J$3,Data!$A$40:$D$48,4,FALSE)*$J33+VLOOKUP($K$3,Data!$A$40:$D$48,4,FALSE)*$K33+VLOOKUP($L$3,Data!$A$40:$D$48,4,FALSE)*$L33+VLOOKUP($M$3,Data!$A$40:$D$48,4,FALSE)*$M33+VLOOKUP($N$3,Data!$A$40:$D$48,4,FALSE)*$N33+VLOOKUP($O$3,Data!$A$40:$D$48,4,FALSE)*$O33+VLOOKUP($P$3,Data!$A$40:$D$48,4,FALSE)*$P33+VLOOKUP($Q$3,Data!$A$40:$D$48,4,FALSE)*$Q33+VLOOKUP($R$3,Data!$A$40:$D$48,4,FALSE)*$R33),0.2) -> 1 | AK33: =D33/(AC33*AH33) -> 0 | AL33: =AD33*AG33*AH33*AI33 -> 0.15625 | AM33: =AE33*H33*AJ33 -> 0 | AN33: =AF33*H33*AJ33 -> 0 | AO33: None | AQ33: =IF(AQ$2=$A33,0,IF(HLOOKUP(AQ$2,Recipes!$H:$GI,'Production Calculator'!$A33+2,FALSE)=0,0,HLOOKUP(AQ$2,Recipes!$H:$GI,'Production Calculator'!$A33+2,FALSE)*$AK33))+IF($AO33=AQ$3,$AM33/VLOOKUP($AO33,Data!$A$50:$B$56,2,FALSE),0) -> 0 | AR33: =IF(AR$2=$A33,0,IF(HLOOKUP(AR$2,Recipes!$H:$GI,'Production Calculator'!$A33+2,FALSE)=0,0,HLOOKUP(AR$2,Recipes!$H:$GI,'Production Calculator'!$A33+2,FALSE)*$AK33))+IF($AO33=AR$3,$AM33/VLOOKUP($AO33,Data!$A$50:$B$56,2,FALSE),0) -> 0 | AS33: =IF(AS$2=$A33,0,IF(HLOOKUP(AS$2,Recipes!$H:$GI,'Production Calculator'!$A33+2,FALSE)=0,0,HLOOKUP(AS$2,Recipes!$H:$GI,'Production Calculator'!$A33+2,FALSE)*$AK33))+IF($AO33=AS$3,$AM33/VLOOKUP($AO33,Data!$A$50:$B$56,2,FALSE),0) -> 0 | AT33: =IF(AT$2=$A33,0,IF(HLOOKUP(AT$2,Recipes!$H:$GI,'Production Calculator'!$A33+2,FALSE)=0,0,HLOOKUP(AT$2,Recipes!$H:$GI,'Production Calculator'!$A33+2,FALSE)*$AK33))+IF($AO33=AT$3,$AM33/VLOOKUP($AO33,Data!$A$50:$B$56,2,FALSE),0) -> 0 | AU33: =IF(AU$2=$A33,0,IF(HLOOKUP(AU$2,Recipes!$H:$GI,'Production Calculator'!$A33+2,FALSE)=0,0,HLOOKUP(AU$2,Recipes!$H:$GI,'Production Calculator'!$A33+2,FALSE)*$AK33))+IF($AO33=AU$3,$AM33/VLOOKUP($AO33,Data!$A$50:$B$56,2,FALSE),0) -> 0 | AV33: =IF(AV$2=$A33,0,IF(HLOOKUP(AV$2,Recipes!$H:$GI,'Production Calculator'!$A33+2,FALSE)=0,0,HLOOKUP(AV$2,Recipes!$H:$GI,'Production Calculator'!$A33+2,FALSE)*$AK33))+IF($AO33=AV$3,$AM33/VLOOKUP($AO33,Data!$A$50:$B$56,2,FALSE),0) -> 0 | AW33: =IF(AW$2=$A33,0,IF(HLOOKUP(AW$2,Recipes!$H:$GI,'Production Calculator'!$A33+2,FALSE)=0,0,HLOOKUP(AW$2,Recipes!$H:$GI,'Production Calculator'!$A33+2,FALSE)*$AK33))+IF($AO33=AW$3,$AM33/VLOOKUP($AO33,Data!$A$50:$B$56,2,FALSE),0) -> 0 | AX33: =IF(AX$2=$A33,0,IF(HLOOKUP(AX$2,Recipes!$H:$GI,'Production Calculator'!$A33+2,FALSE)=0,0,HLOOKUP(AX$2,Recipes!$H:$GI,'Production Calculator'!$A33+2,FALSE)*$AK33))+IF($AO33=AX$3,$AM33/VLOOKUP($AO33,Data!$A$50:$B$56,2,FALSE),0) -> 0 | ... HR33: =IF(HR$2=$A33,0,IF(HLOOKUP(HR$2,Recipes!$H:$GI,'Production Calculator'!$A33+2,FALSE)=0,0,HLOOKUP(HR$2,Recipes!$H:$GI,'Production Calculator'!$A33+2,FALSE)*$AK33))+IF($AO33=HR$3,$AM33/VLOOKUP($AO33,Data!$A$50:$B$56,2,FALSE),0) -> 0
A34: 21 | B34: =VLOOKUP(A34,Recipes!A:B,2) -> Iron axe | C34: 0 | D34: =HLOOKUP(A34,$AQ$2:$HR$202,$A$202-1,FALSE)+C34 -> 0 | E34: Assembly Machine III | F34: =VLOOKUP(A34,Recipes!$A$3:$G$186,6,FALSE) -> 2 | G34: =VLOOKUP(A34,Recipes!$A$3:$G$186,7,FALSE) -> 0 | H34: =ROUNDUP(D34/AL34,0) -> 0 | I34: =VLOOKUP(E34,Data!$A$2:$C$26,3, FALSE) -> 4 | J34: 0 | K34: 0 | L34: 0 | M34: 0 | N34: 0 | O34: 0 | P34: 0 | Q34: 0 | R34: 0 | S34: =J34*$H34 -> 0 | T34: =K34*$H34 -> 0 | U34: =L34*$H34 -> 0 | V34: =M34*$H34 -> 0 | W34: =N34*$H34 -> 0 | X34: =O34*$H34 -> 0 | Y34: =P34*$H34 -> 0 | Z34: =Q34*$H34 -> 0 | AA34: =R34*$H34 -> 0 | AB34: =VLOOKUP($A34,Recipes!$A:$G,4) -> 0.5 | AC34: =VLOOKUP($A34,Recipes!$A:$G,5) -> 1 | AD34: =AC34/AB34 -> 2 | AE34: =VLOOKUP(E34,Data!$A$2:$F$26,5,FALSE) -> 0 | AF34: =VLOOKUP(E34,Data!$A$2:$F$26,4,FALSE) -> 210 | AG34: =VLOOKUP(E34,Data!$A$2:$B$26,2, FALSE) -> 1.25 | AH34: =1+VLOOKUP($J$3,Data!$A$40:$D$48,2,FALSE)*$J34+VLOOKUP($K$3,Data!$A$40:$D$48,2,FALSE)*$K34+VLOOKUP($L$3,Data!$A$40:$D$48,2,FALSE)*$L34+VLOOKUP($M$3,Data!$A$40:$D$48,2,FALSE)*$M34+VLOOKUP($N$3,Data!$A$40:$D$48,2,FALSE)*$N34+VLOOKUP($O$3,Data!$A$40:$D$48,2,FALSE)*$O34+VLOOKUP($P$3,Data!$A$40:$D$48,2,FALSE)*$P34+VLOOKUP($Q$3,Data!$A$40:$D$48,2,FALSE)*$Q34+VLOOKUP($R$3,Data!$A$40:$D$48,2,FALSE)*$R34 -> 1 | AI34: =MAX(1+VLOOKUP($J$3,Data!$A$40:$D$48,3,FALSE)*$J34+VLOOKUP($K$3,Data!$A$40:$D$48,3,FALSE)*$K34+VLOOKUP($L$3,Data!$A$40:$D$48,3,FALSE)*$L34+VLOOKUP($M$3,Data!$A$40:$D$48,3,FALSE)*$M34+VLOOKUP($N$3,Data!$A$40:$D$48,3,FALSE)*$N34+VLOOKUP($O$3,Data!$A$40:$D$48,3,FALSE)*$O34+VLOOKUP($P$3,Data!$A$40:$D$48,3,FALSE)*$P34+VLOOKUP($Q$3,Data!$A$40:$D$48,3,FALSE)*$Q34+VLOOKUP($R$3,Data!$A$40:$D$48,3,FALSE)*$R34,0) -> 1 | AJ34: =MAX(1-(VLOOKUP($J$3,Data!$A$40:$D$48,4,FALSE)*$J34+VLOOKUP($K$3,Data!$A$40:$D$48,4,FALSE)*$K34+VLOOKUP($L$3,Data!$A$40:$D$48,4,FALSE)*$L34+VLOOKUP($M$3,Data!$A$40:$D$48,4,FALSE)*$M34+VLOOKUP($N$3,Data!$A$40:$D$48,4,FALSE)*$N34+VLOOKUP($O$3,Data!$A$40:$D$48,4,FALSE)*$O34+VLOOKUP($P$3,Data!$A$40:$D$48,4,FALSE)*$P34+VLOOKUP($Q$3,Data!$A$40:$D$48,4,FALSE)*$Q34+VLOOKUP($R$3,Data!$A$40:$D$48,4,FALSE)*$R34),0.2) -> 1 | AK34: =D34/(AC34*AH34) -> 0 | AL34: =AD34*AG34*AH34*AI34 -> 2.5 | AM34: =AE34*H34*AJ34 -> 0 | AN34: =AF34*H34*AJ34 -> 0 | AO34: None | AQ34: =IF(AQ$2=$A34,0,IF(HLOOKUP(AQ$2,Recipes!$H:$GI,'Production Calculator'!$A34+2,FALSE)=0,0,HLOOKUP(AQ$2,Recipes!$H:$GI,'Production Calculator'!$A34+2,FALSE)*$AK34))+IF($AO34=AQ$3,$AM34/VLOOKUP($AO34,Data!$A$50:$B$56,2,FALSE),0) -> 0 | AR34: =IF(AR$2=$A34,0,IF(HLOOKUP(AR$2,Recipes!$H:$GI,'Production Calculator'!$A34+2,FALSE)=0,0,HLOOKUP(AR$2,Recipes!$H:$GI,'Production Calculator'!$A34+2,FALSE)*$AK34))+IF($AO34=AR$3,$AM34/VLOOKUP($AO34,Data!$A$50:$B$56,2,FALSE),0) -> 0 | AS34: =IF(AS$2=$A34,0,IF(HLOOKUP(AS$2,Recipes!$H:$GI,'Production Calculator'!$A34+2,FALSE)=0,0,HLOOKUP(AS$2,Recipes!$H:$GI,'Production Calculator'!$A34+2,FALSE)*$AK34))+IF($AO34=AS$3,$AM34/VLOOKUP($AO34,Data!$A$50:$B$56,2,FALSE),0) -> 0 | AT34: =IF(AT$2=$A34,0,IF(HLOOKUP(AT$2,Recipes!$H:$GI,'Production Calculator'!$A34+2,FALSE)=0,0,HLOOKUP(AT$2,Recipes!$H:$GI,'Production Calculator'!$A34+2,FALSE)*$AK34))+IF($AO34=AT$3,$AM34/VLOOKUP($AO34,Data!$A$50:$B$56,2,FALSE),0) -> 0 | AU34: =IF(AU$2=$A34,0,IF(HLOOKUP(AU$2,Recipes!$H:$GI,'Production Calculator'!$A34+2,FALSE)=0,0,HLOOKUP(AU$2,Recipes!$H:$GI,'Production Calculator'!$A34+2,FALSE)*$AK34))+IF($AO34=AU$3,$AM34/VLOOKUP($AO34,Data!$A$50:$B$56,2,FALSE),0) -> 0 | AV34: =IF(AV$2=$A34,0,IF(HLOOKUP(AV$2,Recipes!$H:$GI,'Production Calculator'!$A34+2,FALSE)=0,0,HLOOKUP(AV$2,Recipes!$H:$GI,'Production Calculator'!$A34+2,FALSE)*$AK34))+IF($AO34=AV$3,$AM34/VLOOKUP($AO34,Data!$A$50:$B$56,2,FALSE),0) -> 0 | AW34: =IF(AW$2=$A34,0,IF(HLOOKUP(AW$2,Recipes!$H:$GI,'Production Calculator'!$A34+2,FALSE)=0,0,HLOOKUP(AW$2,Recipes!$H:$GI,'Production Calculator'!$A34+2,FALSE)*$AK34))+IF($AO34=AW$3,$AM34/VLOOKUP($AO34,Data!$A$50:$B$56,2,FALSE),0) -> 0 | AX34: =IF(AX$2=$A34,0,IF(HLOOKUP(AX$2,Recipes!$H:$GI,'Production Calculator'!$A34+2,FALSE)=0,0,HLOOKUP(AX$2,Recipes!$H:$GI,'Production Calculator'!$A34+2,FALSE)*$AK34))+IF($AO34=AX$3,$AM34/VLOOKUP($AO34,Data!$A$50:$B$56,2,FALSE),0) -> 0 | ... HR34: =IF(HR$2=$A34,0,IF(HLOOKUP(HR$2,Recipes!$H:$GI,'Production Calculator'!$A34+2,FALSE)=0,0,HLOOKUP(HR$2,Recipes!$H:$GI,'Production Calculator'!$A34+2,FALSE)*$AK34))+IF($AO34=HR$3,$AM34/VLOOKUP($AO34,Data!$A$50:$B$56,2,FALSE),0) -> 0
... A44: 31 | B44: =VLOOKUP(A44,Recipes!A:B,2) -> Steel axe | C44: 0 | D44: =HLOOKUP(A44,$AQ$2:$HR$202,$A$202-1,FALSE)+C44 -> 0 | E44: Assembly Machine III | F44: =VLOOKUP(A44,Recipes!$A$3:$G$186,6,FALSE) -> 2 | G44: =VLOOKUP(A44,Recipes!$A$3:$G$186,7,FALSE) -> 0 | H44: =ROUNDUP(D44/AL44,0) -> 0 | I44: =VLOOKUP(E44,Data!$A$2:$C$26,3, FALSE) -> 4 | J44: 0 | K44: 0 | L44: 0 | M44: 0 | N44: 0 | O44: 0 | P44: 0 | Q44: 0 | R44: 0 | S44: =J44*$H44 -> 0 | T44: =K44*$H44 -> 0 | U44: =L44*$H44 -> 0 | V44: =M44*$H44 -> 0 | W44: =N44*$H44 -> 0 | X44: =O44*$H44 -> 0 | Y44: =P44*$H44 -> 0 | Z44: =Q44*$H44 -> 0 | AA44: =R44*$H44 -> 0 | AB44: =VLOOKUP($A44,Recipes!$A:$G,4) -> 0.5 | AC44: =VLOOKUP($A44,Recipes!$A:$G,5) -> 1 | AD44: =AC44/AB44 -> 2 | AE44: =VLOOKUP(E44,Data!$A$2:$F$26,5,FALSE) -> 0 | AF44: =VLOOKUP(E44,Data!$A$2:$F$26,4,FALSE) -> 210 | AG44: =VLOOKUP(E44,Data!$A$2:$B$26,2, FALSE) -> 1.25 | AH44: =1+VLOOKUP($J$3,Data!$A$40:$D$48,2,FALSE)*$J44+VLOOKUP($K$3,Data!$A$40:$D$48,2,FALSE)*$K44+VLOOKUP($L$3,Data!$A$40:$D$48,2,FALSE)*$L44+VLOOKUP($M$3,Data!$A$40:$D$48,2,FALSE)*$M44+VLOOKUP($N$3,Data!$A$40:$D$48,2,FALSE)*$N44+VLOOKUP($O$3,Data!$A$40:$D$48,2,FALSE)*$O44+VLOOKUP($P$3,Data!$A$40:$D$48,2,FALSE)*$P44+VLOOKUP($Q$3,Data!$A$40:$D$48,2,FALSE)*$Q44+VLOOKUP($R$3,Data!$A$40:$D$48,2,FALSE)*$R44 -> 1 | AI44: =MAX(1+VLOOKUP($J$3,Data!$A$40:$D$48,3,FALSE)*$J44+VLOOKUP($K$3,Data!$A$40:$D$48,3,FALSE)*$K44+VLOOKUP($L$3,Data!$A$40:$D$48,3,FALSE)*$L44+VLOOKUP($M$3,Data!$A$40:$D$48,3,FALSE)*$M44+VLOOKUP($N$3,Data!$A$40:$D$48,3,FALSE)*$N44+VLOOKUP($O$3,Data!$A$40:$D$48,3,FALSE)*$O44+VLOOKUP($P$3,Data!$A$40:$D$48,3,FALSE)*$P44+VLOOKUP($Q$3,Data!$A$40:$D$48,3,FALSE)*$Q44+VLOOKUP($R$3,Data!$A$40:$D$48,3,FALSE)*$R44,0) -> 1 | AJ44: =MAX(1-(VLOOKUP($J$3,Data!$A$40:$D$48,4,FALSE)*$J44+VLOOKUP($K$3,Data!$A$40:$D$48,4,FALSE)*$K44+VLOOKUP($L$3,Data!$A$40:$D$48,4,FALSE)*$L44+VLOOKUP($M$3,Data!$A$40:$D$48,4,FALSE)*$M44+VLOOKUP($N$3,Data!$A$40:$D$48,4,FALSE)*$N44+VLOOKUP($O$3,Data!$A$40:$D$48,4,FALSE)*$O44+VLOOKUP($P$3,Data!$A$40:$D$48,4,FALSE)*$P44+VLOOKUP($Q$3,Data!$A$40:$D$48,4,FALSE)*$Q44+VLOOKUP($R$3,Data!$A$40:$D$48,4,FALSE)*$R44),0.2) -> 1 | AK44: =D44/(AC44*AH44) -> 0 | AL44: =AD44*AG44*AH44*AI44 -> 2.5 | AM44: =AE44*H44*AJ44 -> 0 | AN44: =AF44*H44*AJ44 -> 0 | AO44: None | AQ44: =IF(AQ$2=$A44,0,IF(HLOOKUP(AQ$2,Recipes!$H:$GI,'Production Calculator'!$A44+2,FALSE)=0,0,HLOOKUP(AQ$2,Recipes!$H:$GI,'Production Calculator'!$A44+2,FALSE)*$AK44))+IF($AO44=AQ$3,$AM44/VLOOKUP($AO44,Data!$A$50:$B$56,2,FALSE),0) -> 0 | AR44: =IF(AR$2=$A44,0,IF(HLOOKUP(AR$2,Recipes!$H:$GI,'Production Calculator'!$A44+2,FALSE)=0,0,HLOOKUP(AR$2,Recipes!$H:$GI,'Production Calculator'!$A44+2,FALSE)*$AK44))+IF($AO44=AR$3,$AM44/VLOOKUP($AO44,Data!$A$50:$B$56,2,FALSE),0) -> 0 | AS44: =IF(AS$2=$A44,0,IF(HLOOKUP(AS$2,Recipes!$H:$GI,'Production Calculator'!$A44+2,FALSE)=0,0,HLOOKUP(AS$2,Recipes!$H:$GI,'Production Calculator'!$A44+2,FALSE)*$AK44))+IF($AO44=AS$3,$AM44/VLOOKUP($AO44,Data!$A$50:$B$56,2,FALSE),0) -> 0 | AT44: =IF(AT$2=$A44,0,IF(HLOOKUP(AT$2,Recipes!$H:$GI,'Production Calculator'!$A44+2,FALSE)=0,0,HLOOKUP(AT$2,Recipes!$H:$GI,'Production Calculator'!$A44+2,FALSE)*$AK44))+IF($AO44=AT$3,$AM44/VLOOKUP($AO44,Data!$A$50:$B$56,2,FALSE),0) -> 0 | AU44: =IF(AU$2=$A44,0,IF(HLOOKUP(AU$2,Recipes!$H:$GI,'Production Calculator'!$A44+2,FALSE)=0,0,HLOOKUP(AU$2,Recipes!$H:$GI,'Production Calculator'!$A44+2,FALSE)*$AK44))+IF($AO44=AU$3,$AM44/VLOOKUP($AO44,Data!$A$50:$B$56,2,FALSE),0) -> 0 | AV44: =IF(AV$2=$A44,0,IF(HLOOKUP(AV$2,Recipes!$H:$GI,'Production Calculator'!$A44+2,FALSE)=0,0,HLOOKUP(AV$2,Recipes!$H:$GI,'Production Calculator'!$A44+2,FALSE)*$AK44))+IF($AO44=AV$3,$AM44/VLOOKUP($AO44,Data!$A$50:$B$56,2,FALSE),0) -> 0 | AW44: =IF(AW$2=$A44,0,IF(HLOOKUP(AW$2,Recipes!$H:$GI,'Production Calculator'!$A44+2,FALSE)=0,0,HLOOKUP(AW$2,Recipes!$H:$GI,'Production Calculator'!$A44+2,FALSE)*$AK44))+IF($AO44=AW$3,$AM44/VLOOKUP($AO44,Data!$A$50:$B$56,2,FALSE),0) -> 0 | AX44: =IF(AX$2=$A44,0,IF(HLOOKUP(AX$2,Recipes!$H:$GI,'Production Calculator'!$A44+2,FALSE)=0,0,HLOOKUP(AX$2,Recipes!$H:$GI,'Production Calculator'!$A44+2,FALSE)*$AK44))+IF($AO44=AX$3,$AM44/VLOOKUP($AO44,Data!$A$50:$B$56,2,FALSE),0) -> 0 | ... HR44: =IF(HR$2=$A44,0,IF(HLOOKUP(HR$2,Recipes!$H:$GI,'Production Calculator'!$A44+2,FALSE)=0,0,HLOOKUP(HR$2,Recipes!$H:$GI,'Production Calculator'!$A44+2,FALSE)*$AK44))+IF($AO44=HR$3,$AM44/VLOOKUP($AO44,Data!$A$50:$B$56,2,FALSE),0) -> 0
B45: Fluids
A46: 32 | B46: =VLOOKUP(A46,Recipes!A:B,2) -> Crude Oil | C46: 0 | D46: =HLOOKUP(A46,$AQ$2:$HR$202,$A$202-1,FALSE)+C46-D89*25 -> 0 | E46: Pumpjack (Depleted) | F46: =VLOOKUP(A46,Recipes!$A$3:$G$186,6,FALSE) -> 0 | G46: =VLOOKUP(A46,Recipes!$A$3:$G$186,7,FALSE) -> 0 | H46: =ROUNDUP(D46/AL46,0) -> 0 | I46: =VLOOKUP(E46,Data!$A$2:$C$26,3, FALSE) -> 2 | J46: 0 | K46: 0 | L46: 0 | M46: 0 | N46: 0 | O46: 0 | P46: 0 | Q46: 0 | R46: 0 | S46: =J46*$H46 -> 0 | T46: =K46*$H46 -> 0 | U46: =L46*$H46 -> 0 | V46: =M46*$H46 -> 0 | W46: =N46*$H46 -> 0 | X46: =O46*$H46 -> 0 | Y46: =P46*$H46 -> 0 | Z46: =Q46*$H46 -> 0 | AA46: =R46*$H46 -> 0 | AB46: =VLOOKUP($A46,Recipes!$A:$G,4) -> 1 | AC46: =VLOOKUP(E46,Data!$A$9:$I$13,9,FALSE)*VLOOKUP($A46,Recipes!$A:$G,5) -> 0.1 | AD46: =AC46/AB46 -> 0.1 | AE46: =VLOOKUP(E46,Data!$A$2:$F$26,5,FALSE) -> 0 | AF46: =VLOOKUP(E46,Data!$A$2:$F$26,4,FALSE) -> 90 | AG46: =VLOOKUP(E46,Data!$A$9:$B$13,2,FALSE) -> 1 | AH46: =1+VLOOKUP($J$3,Data!$A$40:$D$48,2,FALSE)*$J46+VLOOKUP($K$3,Data!$A$40:$D$48,2,FALSE)*$K46+VLOOKUP($L$3,Data!$A$40:$D$48,2,FALSE)*$L46+VLOOKUP($M$3,Data!$A$40:$D$48,2,FALSE)*$M46+VLOOKUP($N$3,Data!$A$40:$D$48,2,FALSE)*$N46+VLOOKUP($O$3,Data!$A$40:$D$48,2,FALSE)*$O46+VLOOKUP($P$3,Data!$A$40:$D$48,2,FALSE)*$P46+VLOOKUP($Q$3,Data!$A$40:$D$48,2,FALSE)*$Q46+VLOOKUP($R$3,Data!$A$40:$D$48,2,FALSE)*$R46 -> 1 | AI46: =MAX(1+VLOOKUP($J$3,Data!$A$40:$D$48,3,FALSE)*$J46+VLOOKUP($K$3,Data!$A$40:$D$48,3,FALSE)*$K46+VLOOKUP($L$3,Data!$A$40:$D$48,3,FALSE)*$L46+VLOOKUP($M$3,Data!$A$40:$D$48,3,FALSE)*$M46+VLOOKUP($N$3,Data!$A$40:$D$48,3,FALSE)*$N46+VLOOKUP($O$3,Data!$A$40:$D$48,3,FALSE)*$O46+VLOOKUP($P$3,Data!$A$40:$D$48,3,FALSE)*$P46+VLOOKUP($Q$3,Data!$A$40:$D$48,3,FALSE)*$Q46+VLOOKUP($R$3,Data!$A$40:$D$48,3,FALSE)*$R46,0) -> 1 | AJ46: =MAX(1-(VLOOKUP($J$3,Data!$A$40:$D$48,4,FALSE)*$J46+VLOOKUP($K$3,Data!$A$40:$D$48,4,FALSE)*$K46+VLOOKUP($L$3,Data!$A$40:$D$48,4,FALSE)*$L46+VLOOKUP($M$3,Data!$A$40:$D$48,4,FALSE)*$M46+VLOOKUP($N$3,Data!$A$40:$D$48,4,FALSE)*$N46+VLOOKUP($O$3,Data!$A$40:$D$48,4,FALSE)*$O46+VLOOKUP($P$3,Data!$A$40:$D$48,4,FALSE)*$P46+VLOOKUP($Q$3,Data!$A$40:$D$48,4,FALSE)*$Q46+VLOOKUP($R$3,Data!$A$40:$D$48,4,FALSE)*$R46),0.2) -> 1 | AK46: =D46/(AC46*AH46) -> 0 | AL46: =AD46*AG46*AH46*AI46 -> 0.1 | AM46: =AE46*H46*AJ46 -> 0 | AN46: =AF46*H46*AJ46 -> 0 | AO46: None | AQ46: =IF(AQ$2=$A46,0,IF(HLOOKUP(AQ$2,Recipes!$H:$GI,'Production Calculator'!$A46+2,FALSE)=0,0,HLOOKUP(AQ$2,Recipes!$H:$GI,'Production Calculator'!$A46+2,FALSE)*$AK46))+IF($AO46=AQ$3,$AM46/VLOOKUP($AO46,Data!$A$50:$B$56,2,FALSE),0) -> 0 | AR46: =IF(AR$2=$A46,0,IF(HLOOKUP(AR$2,Recipes!$H:$GI,'Production Calculator'!$A46+2,FALSE)=0,0,HLOOKUP(AR$2,Recipes!$H:$GI,'Production Calculator'!$A46+2,FALSE)*$AK46))+IF($AO46=AR$3,$AM46/VLOOKUP($AO46,Data!$A$50:$B$56,2,FALSE),0) -> 0 | AS46: =IF(AS$2=$A46,0,IF(HLOOKUP(AS$2,Recipes!$H:$GI,'Production Calculator'!$A46+2,FALSE)=0,0,HLOOKUP(AS$2,Recipes!$H:$GI,'Production Calculator'!$A46+2,FALSE)*$AK46))+IF($AO46=AS$3,$AM46/VLOOKUP($AO46,Data!$A$50:$B$56,2,FALSE),0) -> 0 | AT46: =IF(AT$2=$A46,0,IF(HLOOKUP(AT$2,Recipes!$H:$GI,'Production Calculator'!$A46+2,FALSE)=0,0,HLOOKUP(AT$2,Recipes!$H:$GI,'Production Calculator'!$A46+2,FALSE)*$AK46))+IF($AO46=AT$3,$AM46/VLOOKUP($AO46,Data!$A$50:$B$56,2,FALSE),0) -> 0 | AU46: =IF(AU$2=$A46,0,IF(HLOOKUP(AU$2,Recipes!$H:$GI,'Production Calculator'!$A46+2,FALSE)=0,0,HLOOKUP(AU$2,Recipes!$H:$GI,'Production Calculator'!$A46+2,FALSE)*$AK46))+IF($AO46=AU$3,$AM46/VLOOKUP($AO46,Data!$A$50:$B$56,2,FALSE),0) -> 0 | AV46: =IF(AV$2=$A46,0,IF(HLOOKUP(AV$2,Recipes!$H:$GI,'Production Calculator'!$A46+2,FALSE)=0,0,HLOOKUP(AV$2,Recipes!$H:$GI,'Production Calculator'!$A46+2,FALSE)*$AK46))+IF($AO46=AV$3,$AM46/VLOOKUP($AO46,Data!$A$50:$B$56,2,FALSE),0) -> 0 | AW46: =IF(AW$2=$A46,0,IF(HLOOKUP(AW$2,Recipes!$H:$GI,'Production Calculator'!$A46+2,FALSE)=0,0,HLOOKUP(AW$2,Recipes!$H:$GI,'Production Calculator'!$A46+2,FALSE)*$AK46))+IF($AO46=AW$3,$AM46/VLOOKUP($AO46,Data!$A$50:$B$56,2,FALSE),0) -> 0 | AX46: =IF(AX$2=$A46,0,IF(HLOOKUP(AX$2,Recipes!$H:$GI,'Production Calculator'!$A46+2,FALSE)=0,0,HLOOKUP(AX$2,Recipes!$H:$GI,'Production Calculator'!$A46+2,FALSE)*$AK46))+IF($AO46=AX$3,$AM46/VLOOKUP($AO46,Data!$A$50:$B$56,2,FALSE),0) -> 0 | ... HR46: =IF(HR$2=$A46,0,IF(HLOOKUP(HR$2,Recipes!$H:$GI,'Production Calculator'!$A46+2,FALSE)=0,0,HLOOKUP(HR$2,Recipes!$H:$GI,'Production Calculator'!$A46+2,FALSE)*$AK46))+IF($AO46=HR$3,$AM46/VLOOKUP($AO46,Data!$A$50:$B$56,2,FALSE),0) -> 0
A47: 181 | B47: Oil Processing | C47: 0 | D47: =HLOOKUP(A47,$AQ$2:$HR$202,$A$202-1,FALSE)+C47+HLOOKUP($E47,'Oil Balance'!$D$1:$E$12,'Oil Balance'!$A$7+2,FALSE)/AB47 -> 0 | E47: Oil Refinery (Advanced) | F47: =VLOOKUP(A47,Recipes!$A$3:$G$186,6,FALSE) -> 2 | G47: =VLOOKUP(A47,Recipes!$A$3:$G$186,7,FALSE) -> 1 | H47: =ROUNDUP(D47/AL47,0) -> 0 | I47: =VLOOKUP(E47,Data!$A$2:$C$26,3, FALSE) -> 2 | J47: 0 | K47: 0 | L47: 0 | M47: 0 | N47: 0 | O47: 0 | P47: 0 | Q47: 0 | R47: 0 | S47: =J47*$H47 -> 0 | T47: =K47*$H47 -> 0 | U47: =L47*$H47 -> 0 | V47: =M47*$H47 -> 0 | W47: =N47*$H47 -> 0 | X47: =O47*$H47 -> 0 | Y47: =P47*$H47 -> 0 | Z47: =Q47*$H47 -> 0 | AA47: =R47*$H47 -> 0 | AB47: =VLOOKUP($A47,Recipes!$A:$G,4) -> 5 | AC47: =VLOOKUP($A47,Recipes!$A:$G,5) -> 1 | AD47: =AC47/AB47 -> 0.2 | AE47: =VLOOKUP(E47,Data!$A$2:$F$26,5,FALSE) -> 0 | AF47: =VLOOKUP(E47,Data!$A$2:$F$26,4,FALSE) -> 420 | AG47: =VLOOKUP(E47,Data!$A$2:$B$26,2, FALSE) -> 1 | AH47: =1+VLOOKUP($J$3,Data!$A$40:$D$48,2,FALSE)*$J47+VLOOKUP($K$3,Data!$A$40:$D$48,2,FALSE)*$K47+VLOOKUP($L$3,Data!$A$40:$D$48,2,FALSE)*$L47+VLOOKUP($M$3,Data!$A$40:$D$48,2,FALSE)*$M47+VLOOKUP($N$3,Data!$A$40:$D$48,2,FALSE)*$N47+VLOOKUP($O$3,Data!$A$40:$D$48,2,FALSE)*$O47+VLOOKUP($P$3,Data!$A$40:$D$48,2,FALSE)*$P47+VLOOKUP($Q$3,Data!$A$40:$D$48,2,FALSE)*$Q47+VLOOKUP($R$3,Data!$A$40:$D$48,2,FALSE)*$R47 -> 1 | AI47: =MAX(1+VLOOKUP($J$3,Data!$A$40:$D$48,3,FALSE)*$J47+VLOOKUP($K$3,Data!$A$40:$D$48,3,FALSE)*$K47+VLOOKUP($L$3,Data!$A$40:$D$48,3,FALSE)*$L47+VLOOKUP($M$3,Data!$A$40:$D$48,3,FALSE)*$M47+VLOOKUP($N$3,Data!$A$40:$D$48,3,FALSE)*$N47+VLOOKUP($O$3,Data!$A$40:$D$48,3,FALSE)*$O47+VLOOKUP($P$3,Data!$A$40:$D$48,3,FALSE)*$P47+VLOOKUP($Q$3,Data!$A$40:$D$48,3,FALSE)*$Q47+VLOOKUP($R$3,Data!$A$40:$D$48,3,FALSE)*$R47,0) -> 1 | AJ47: =MAX(1-(VLOOKUP($J$3,Data!$A$40:$D$48,4,FALSE)*$J47+VLOOKUP($K$3,Data!$A$40:$D$48,4,FALSE)*$K47+VLOOKUP($L$3,Data!$A$40:$D$48,4,FALSE)*$L47+VLOOKUP($M$3,Data!$A$40:$D$48,4,FALSE)*$M47+VLOOKUP($N$3,Data!$A$40:$D$48,4,FALSE)*$N47+VLOOKUP($O$3,Data!$A$40:$D$48,4,FALSE)*$O47+VLOOKUP($P$3,Data!$A$40:$D$48,4,FALSE)*$P47+VLOOKUP($Q$3,Data!$A$40:$D$48,4,FALSE)*$Q47+VLOOKUP($R$3,Data!$A$40:$D$48,4,FALSE)*$R47),0.2) -> 1 | AK47: =D47/(AC47*AH47) -> 0 | AL47: =AD47*AG47*AH47*AI47 -> 0.2 | AM47: =AE47*H47*AJ47 -> 0 | AN47: =AF47*H47*AJ47 -> 0 | AO47: None | AQ47: =IF(AQ$2=$A47,0,IF(HLOOKUP(AQ$2,Recipes!$H:$GI,'Production Calculator'!$A47+2,FALSE)=0,0,HLOOKUP(AQ$2,Recipes!$H:$GI,'Production Calculator'!$A47+2,FALSE)*$AK47))+IF($AO47=AQ$3,$AM47/VLOOKUP($AO47,Data!$A$50:$B$56,2,FALSE),0) -> 0 | AR47: =IF(AR$2=$A47,0,IF(HLOOKUP(AR$2,Recipes!$H:$GI,'Production Calculator'!$A47+2,FALSE)=0,0,HLOOKUP(AR$2,Recipes!$H:$GI,'Production Calculator'!$A47+2,FALSE)*$AK47))+IF($AO47=AR$3,$AM47/VLOOKUP($AO47,Data!$A$50:$B$56,2,FALSE),0) -> 0 | AS47: =IF(AS$2=$A47,0,IF(HLOOKUP(AS$2,Recipes!$H:$GI,'Production Calculator'!$A47+2,FALSE)=0,0,HLOOKUP(AS$2,Recipes!$H:$GI,'Production Calculator'!$A47+2,FALSE)*$AK47))+IF($AO47=AS$3,$AM47/VLOOKUP($AO47,Data!$A$50:$B$56,2,FALSE),0) -> 0 | AT47: =IF(AT$2=$A47,0,IF(HLOOKUP(AT$2,Recipes!$H:$GI,'Production Calculator'!$A47+2,FALSE)=0,0,HLOOKUP(AT$2,Recipes!$H:$GI,'Production Calculator'!$A47+2,FALSE)*$AK47))+IF($AO47=AT$3,$AM47/VLOOKUP($AO47,Data!$A$50:$B$56,2,FALSE),0) -> 0 | AU47: =IF(AU$2=$A47,0,IF(HLOOKUP(AU$2,Recipes!$H:$GI,'Production Calculator'!$A47+2,FALSE)=0,0,HLOOKUP(AU$2,Recipes!$H:$GI,'Production Calculator'!$A47+2,FALSE)*$AK47))+IF($AO47=AU$3,$AM47/VLOOKUP($AO47,Data!$A$50:$B$56,2,FALSE),0) -> 0 | AV47: =IF(AV$2=$A47,0,IF(HLOOKUP(AV$2,Recipes!$H:$GI,'Production Calculator'!$A47+2,FALSE)=0,0,HLOOKUP(AV$2,Recipes!$H:$GI,'Production Calculator'!$A47+2,FALSE)*$AK47))+IF($AO47=AV$3,$AM47/VLOOKUP($AO47,Data!$A$50:$B$56,2,FALSE),0) -> 0 | AW47: =IF(AW$2=$A47,0,IF(HLOOKUP(AW$2,Recipes!$H:$GI,'Production Calculator'!$A47+2,FALSE)=0,0,HLOOKUP(AW$2,Recipes!$H:$GI,'Production Calculator'!$A47+2,FALSE)*$AK47))+IF($AO47=AW$3,$AM47/VLOOKUP($AO47,Data!$A$50:$B$56,2,FALSE),0) -> 0 | AX47: =IF(AX$2=$A47,0,IF(HLOOKUP(AX$2,Recipes!$H:$GI,'Production Calculator'!$A47+2,FALSE)=0,0,HLOOKUP(AX$2,Recipes!$H:$GI,'Production Calculator'!$A47+2,FALSE)*$AK47))+IF($AO47=AX$3,$AM47/VLOOKUP($AO47,Data!$A$50:$B$56,2,FALSE),0) -> 0 | ... HR47: =IF(HR$2=$A47,0,IF(HLOOKUP(HR$2,Recipes!$H:$GI,'Production Calculator'!$A47+2,FALSE)=0,0,HLOOKUP(HR$2,Recipes!$H:$GI,'Production Calculator'!$A47+2,FALSE)*$AK47))+IF($AO47=HR$3,$AM47/VLOOKUP($AO47,Data!$A$50:$B$56,2,FALSE),0) -> 0
A48: 33 | B48: =VLOOKUP(A48,Recipes!A:B,2) -> Heavy oil | C48: 0 | D48: =HLOOKUP(A48,$AQ$2:$HR$202,$A$202-1,FALSE)+C48 -> 0 | E48: =E47 -> Oil Refinery (Advanced) | F48: =F47 -> 2 | G48: =G47 -> 1 | H48: =H47 -> 0 | I48: =I47 -> 2 | J48: =J47 -> 0 | K48: =K47 -> 0 | L48: =L47 -> 0 | ... R48: =R47 -> 0 | AC48: =VLOOKUP(E48,'Oil Balance'!$A$3:$S$6,11,FALSE)*AB48 -> #N/A | AD48: =AC48/AB48 -> #N/A | AE48: 0 | AF48: 0 | AG48: =AG47 -> 1 | AH48: =AH47 -> 1 | AI48: =MAX(1+VLOOKUP($J$3,Data!$A$40:$D$48,3,FALSE)*$J48+VLOOKUP($K$3,Data!$A$40:$D$48,3,FALSE)*$K48+VLOOKUP($L$3,Data!$A$40:$D$48,3,FALSE)*$L48+VLOOKUP($M$3,Data!$A$40:$D$48,3,FALSE)*$M48+VLOOKUP($N$3,Data!$A$40:$D$48,3,FALSE)*$N48+VLOOKUP($O$3,Data!$A$40:$D$48,3,FALSE)*$O48+VLOOKUP($P$3,Data!$A$40:$D$48,3,FALSE)*$P48+VLOOKUP($Q$3,Data!$A$40:$D$48,3,FALSE)*$Q48+VLOOKUP($R$3,Data!$A$40:$D$48,3,FALSE)*$R48,0) -> 1 | AJ48: =AJ47 -> 1 | AK48: =D48/(AC48*AH48) -> #N/A | AL48: =AD48*AG48*AH48*AI48 -> #N/A | AM48: 0 | AN48: 0 | AO48: None | AQ48: =IF(AQ$2=$A48,0,IF(HLOOKUP(AQ$2,Recipes!$H:$GI,'Production Calculator'!$A48+2,FALSE)=0,0,HLOOKUP(AQ$2,Recipes!$H:$GI,'Production Calculator'!$A48+2,FALSE)*$AK48))+IF($AO48=AQ$3,$AM48/VLOOKUP($AO48,Data!$A$50:$B$56,2,FALSE),0) -> 0 | AR48: =IF(AR$2=$A48,0,IF(HLOOKUP(AR$2,Recipes!$H:$GI,'Production Calculator'!$A48+2,FALSE)=0,0,HLOOKUP(AR$2,Recipes!$H:$GI,'Production Calculator'!$A48+2,FALSE)*$AK48))+IF($AO48=AR$3,$AM48/VLOOKUP($AO48,Data!$A$50:$B$56,2,FALSE),0) -> 0 | AS48: =IF(AS$2=$A48,0,IF(HLOOKUP(AS$2,Recipes!$H:$GI,'Production Calculator'!$A48+2,FALSE)=0,0,HLOOKUP(AS$2,Recipes!$H:$GI,'Production Calculator'!$A48+2,FALSE)*$AK48))+IF($AO48=AS$3,$AM48/VLOOKUP($AO48,Data!$A$50:$B$56,2,FALSE),0) -> 0 | AT48: =IF(AT$2=$A48,0,IF(HLOOKUP(AT$2,Recipes!$H:$GI,'Production Calculator'!$A48+2,FALSE)=0,0,HLOOKUP(AT$2,Recipes!$H:$GI,'Production Calculator'!$A48+2,FALSE)*$AK48))+IF($AO48=AT$3,$AM48/VLOOKUP($AO48,Data!$A$50:$B$56,2,FALSE),0) -> 0 | AU48: =IF(AU$2=$A48,0,IF(HLOOKUP(AU$2,Recipes!$H:$GI,'Production Calculator'!$A48+2,FALSE)=0,0,HLOOKUP(AU$2,Recipes!$H:$GI,'Production Calculator'!$A48+2,FALSE)*$AK48))+IF($AO48=AU$3,$AM48/VLOOKUP($AO48,Data!$A$50:$B$56,2,FALSE),0) -> 0 | AV48: =IF(AV$2=$A48,0,IF(HLOOKUP(AV$2,Recipes!$H:$GI,'Production Calculator'!$A48+2,FALSE)=0,0,HLOOKUP(AV$2,Recipes!$H:$GI,'Production Calculator'!$A48+2,FALSE)*$AK48))+IF($AO48=AV$3,$AM48/VLOOKUP($AO48,Data!$A$50:$B$56,2,FALSE),0) -> 0 | AW48: =IF(AW$2=$A48,0,IF(HLOOKUP(AW$2,Recipes!$H:$GI,'Production Calculator'!$A48+2,FALSE)=0,0,HLOOKUP(AW$2,Recipes!$H:$GI,'Production Calculator'!$A48+2,FALSE)*$AK48))+IF($AO48=AW$3,$AM48/VLOOKUP($AO48,Data!$A$50:$B$56,2,FALSE),0) -> 0 | AX48: =IF(AX$2=$A48,0,IF(HLOOKUP(AX$2,Recipes!$H:$GI,'Production Calculator'!$A48+2,FALSE)=0,0,HLOOKUP(AX$2,Recipes!$H:$GI,'Production Calculator'!$A48+2,FALSE)*$AK48))+IF($AO48=AX$3,$AM48/VLOOKUP($AO48,Data!$A$50:$B$56,2,FALSE),0) -> 0 | ... HR48: =IF(HR$2=$A48,0,IF(HLOOKUP(HR$2,Recipes!$H:$GI,'Production Calculator'!$A48+2,FALSE)=0,0,HLOOKUP(HR$2,Recipes!$H:$GI,'Production Calculator'!$A48+2,FALSE)*$AK48))+IF($AO48=HR$3,$AM48/VLOOKUP($AO48,Data!$A$50:$B$56,2,FALSE),0) -> 0
A49: 34 | B49: =VLOOKUP(A49,Recipes!A:B,2) -> Light oil | C49: 0 | D49: =HLOOKUP(A49,$AQ$2:$HR$202,$A$202-1,FALSE)+C49 -> 0 | E49: =E47 -> Oil Refinery (Advanced) | F49: =F47 -> 2 | G49: =G47 -> 1 | H49: =H47 -> 0 | I49: =I47 -> 2 | J49: =J47 -> 0 | K49: =K47 -> 0 | L49: =L47 -> 0 | ... R49: =R47 -> 0 | AC49: =VLOOKUP(E49,'Oil Balance'!$A$3:$S$6,12,FALSE)*AB49 -> #N/A | AD49: =AC49/AB49 -> #N/A | AE49: 0 | AF49: 0 | AG49: =AG47 -> 1 | AH49: =AH47 -> 1 | AI49: =MAX(1+VLOOKUP($J$3,Data!$A$40:$D$48,3,FALSE)*$J49+VLOOKUP($K$3,Data!$A$40:$D$48,3,FALSE)*$K49+VLOOKUP($L$3,Data!$A$40:$D$48,3,FALSE)*$L49+VLOOKUP($M$3,Data!$A$40:$D$48,3,FALSE)*$M49+VLOOKUP($N$3,Data!$A$40:$D$48,3,FALSE)*$N49+VLOOKUP($O$3,Data!$A$40:$D$48,3,FALSE)*$O49+VLOOKUP($P$3,Data!$A$40:$D$48,3,FALSE)*$P49+VLOOKUP($Q$3,Data!$A$40:$D$48,3,FALSE)*$Q49+VLOOKUP($R$3,Data!$A$40:$D$48,3,FALSE)*$R49,0) -> 1 | AJ49: =AJ47 -> 1 | AK49: =D49/(AC49*AH49) -> #N/A | AL49: =AD49*AG49*AH49*AI49 -> #N/A | AM49: 0 | AN49: 0 | AO49: None | AQ49: =IF(AQ$2=$A49,0,IF(HLOOKUP(AQ$2,Recipes!$H:$GI,'Production Calculator'!$A49+2,FALSE)=0,0,HLOOKUP(AQ$2,Recipes!$H:$GI,'Production Calculator'!$A49+2,FALSE)*$AK49))+IF($AO49=AQ$3,$AM49/VLOOKUP($AO49,Data!$A$50:$B$56,2,FALSE),0) -> 0 | AR49: =IF(AR$2=$A49,0,IF(HLOOKUP(AR$2,Recipes!$H:$GI,'Production Calculator'!$A49+2,FALSE)=0,0,HLOOKUP(AR$2,Recipes!$H:$GI,'Production Calculator'!$A49+2,FALSE)*$AK49))+IF($AO49=AR$3,$AM49/VLOOKUP($AO49,Data!$A$50:$B$56,2,FALSE),0) -> 0 | AS49: =IF(AS$2=$A49,0,IF(HLOOKUP(AS$2,Recipes!$H:$GI,'Production Calculator'!$A49+2,FALSE)=0,0,HLOOKUP(AS$2,Recipes!$H:$GI,'Production Calculator'!$A49+2,FALSE)*$AK49))+IF($AO49=AS$3,$AM49/VLOOKUP($AO49,Data!$A$50:$B$56,2,FALSE),0) -> 0 | AT49: =IF(AT$2=$A49,0,IF(HLOOKUP(AT$2,Recipes!$H:$GI,'Production Calculator'!$A49+2,FALSE)=0,0,HLOOKUP(AT$2,Recipes!$H:$GI,'Production Calculator'!$A49+2,FALSE)*$AK49))+IF($AO49=AT$3,$AM49/VLOOKUP($AO49,Data!$A$50:$B$56,2,FALSE),0) -> 0 | AU49: =IF(AU$2=$A49,0,IF(HLOOKUP(AU$2,Recipes!$H:$GI,'Production Calculator'!$A49+2,FALSE)=0,0,HLOOKUP(AU$2,Recipes!$H:$GI,'Production Calculator'!$A49+2,FALSE)*$AK49))+IF($AO49=AU$3,$AM49/VLOOKUP($AO49,Data!$A$50:$B$56,2,FALSE),0) -> 0 | AV49: =IF(AV$2=$A49,0,IF(HLOOKUP(AV$2,Recipes!$H:$GI,'Production Calculator'!$A49+2,FALSE)=0,0,HLOOKUP(AV$2,Recipes!$H:$GI,'Production Calculator'!$A49+2,FALSE)*$AK49))+IF($AO49=AV$3,$AM49/VLOOKUP($AO49,Data!$A$50:$B$56,2,FALSE),0) -> 0 | AW49: =IF(AW$2=$A49,0,IF(HLOOKUP(AW$2,Recipes!$H:$GI,'Production Calculator'!$A49+2,FALSE)=0,0,HLOOKUP(AW$2,Recipes!$H:$GI,'Production Calculator'!$A49+2,FALSE)*$AK49))+IF($AO49=AW$3,$AM49/VLOOKUP($AO49,Data!$A$50:$B$56,2,FALSE),0) -> 0 | AX49: =IF(AX$2=$A49,0,IF(HLOOKUP(AX$2,Recipes!$H:$GI,'Production Calculator'!$A49+2,FALSE)=0,0,HLOOKUP(AX$2,Recipes!$H:$GI,'Production Calculator'!$A49+2,FALSE)*$AK49))+IF($AO49=AX$3,$AM49/VLOOKUP($AO49,Data!$A$50:$B$56,2,FALSE),0) -> 0 | ... HR49: =IF(HR$2=$A49,0,IF(HLOOKUP(HR$2,Recipes!$H:$GI,'Production Calculator'!$A49+2,FALSE)=0,0,HLOOKUP(HR$2,Recipes!$H:$GI,'Production Calculator'!$A49+2,FALSE)*$AK49))+IF($AO49=HR$3,$AM49/VLOOKUP($AO49,Data!$A$50:$B$56,2,FALSE),0) -> 0
A50: 36 | B50: =VLOOKUP(A50,Recipes!A:B,2) -> Petroleum gas | C50: 0 | D50: =HLOOKUP(A50,$AQ$2:$HR$202,$A$202-1,FALSE)+C50 -> 0 | E50: =E47 -> Oil Refinery (Advanced) | F50: =F47 -> 2 | G50: =G47 -> 1 | H50: =H47 -> 0 | I50: =I47 -> 2 | J50: =J47 -> 0 | K50: =K47 -> 0 | L50: =L47 -> 0 | ... R50: =R47 -> 0 | AC50: =VLOOKUP(E50,'Oil Balance'!$A$3:$S$6,13,FALSE)*AB50 -> #N/A | AD50: =AC50/AB50 -> #N/A | AE50: 0 | AF50: 0 | AG50: =AG47 -> 1 | AH50: =AH47 -> 1 | AI50: =MAX(1+VLOOKUP($J$3,Data!$A$40:$D$48,3,FALSE)*$J50+VLOOKUP($K$3,Data!$A$40:$D$48,3,FALSE)*$K50+VLOOKUP($L$3,Data!$A$40:$D$48,3,FALSE)*$L50+VLOOKUP($M$3,Data!$A$40:$D$48,3,FALSE)*$M50+VLOOKUP($N$3,Data!$A$40:$D$48,3,FALSE)*$N50+VLOOKUP($O$3,Data!$A$40:$D$48,3,FALSE)*$O50+VLOOKUP($P$3,Data!$A$40:$D$48,3,FALSE)*$P50+VLOOKUP($Q$3,Data!$A$40:$D$48,3,FALSE)*$Q50+VLOOKUP($R$3,Data!$A$40:$D$48,3,FALSE)*$R50,0) -> 1 | AJ50: =AJ47 -> 1 | AK50: =D50/(AC50*AH50) -> #N/A | AL50: =AD50*AG50*AH50*AI50 -> #N/A | AM50: 0 | AN50: 0 | AO50: None | AQ50: =IF(AQ$2=$A50,0,IF(HLOOKUP(AQ$2,Recipes!$H:$GI,'Production Calculator'!$A50+2,FALSE)=0,0,HLOOKUP(AQ$2,Recipes!$H:$GI,'Production Calculator'!$A50+2,FALSE)*$AK50))+IF($AO50=AQ$3,$AM50/VLOOKUP($AO50,Data!$A$50:$B$56,2,FALSE),0) -> 0 | AR50: =IF(AR$2=$A50,0,IF(HLOOKUP(AR$2,Recipes!$H:$GI,'Production Calculator'!$A50+2,FALSE)=0,0,HLOOKUP(AR$2,Recipes!$H:$GI,'Production Calculator'!$A50+2,FALSE)*$AK50))+IF($AO50=AR$3,$AM50/VLOOKUP($AO50,Data!$A$50:$B$56,2,FALSE),0) -> 0 | AS50: =IF(AS$2=$A50,0,IF(HLOOKUP(AS$2,Recipes!$H:$GI,'Production Calculator'!$A50+2,FALSE)=0,0,HLOOKUP(AS$2,Recipes!$H:$GI,'Production Calculator'!$A50+2,FALSE)*$AK50))+IF($AO50=AS$3,$AM50/VLOOKUP($AO50,Data!$A$50:$B$56,2,FALSE),0) -> 0 | AT50: =IF(AT$2=$A50,0,IF(HLOOKUP(AT$2,Recipes!$H:$GI,'Production Calculator'!$A50+2,FALSE)=0,0,HLOOKUP(AT$2,Recipes!$H:$GI,'Production Calculator'!$A50+2,FALSE)*$AK50))+IF($AO50=AT$3,$AM50/VLOOKUP($AO50,Data!$A$50:$B$56,2,FALSE),0) -> 0 | AU50: =IF(AU$2=$A50,0,IF(HLOOKUP(AU$2,Recipes!$H:$GI,'Production Calculator'!$A50+2,FALSE)=0,0,HLOOKUP(AU$2,Recipes!$H:$GI,'Production Calculator'!$A50+2,FALSE)*$AK50))+IF($AO50=AU$3,$AM50/VLOOKUP($AO50,Data!$A$50:$B$56,2,FALSE),0) -> 0 | AV50: =IF(AV$2=$A50,0,IF(HLOOKUP(AV$2,Recipes!$H:$GI,'Production Calculator'!$A50+2,FALSE)=0,0,HLOOKUP(AV$2,Recipes!$H:$GI,'Production Calculator'!$A50+2,FALSE)*$AK50))+IF($AO50=AV$3,$AM50/VLOOKUP($AO50,Data!$A$50:$B$56,2,FALSE),0) -> 0 | AW50: =IF(AW$2=$A50,0,IF(HLOOKUP(AW$2,Recipes!$H:$GI,'Production Calculator'!$A50+2,FALSE)=0,0,HLOOKUP(AW$2,Recipes!$H:$GI,'Production Calculator'!$A50+2,FALSE)*$AK50))+IF($AO50=AW$3,$AM50/VLOOKUP($AO50,Data!$A$50:$B$56,2,FALSE),0) -> 0 | AX50: =IF(AX$2=$A50,0,IF(HLOOKUP(AX$2,Recipes!$H:$GI,'Production Calculator'!$A50+2,FALSE)=0,0,HLOOKUP(AX$2,Recipes!$H:$GI,'Production Calculator'!$A50+2,FALSE)*$AK50))+IF($AO50=AX$3,$AM50/VLOOKUP($AO50,Data!$A$50:$B$56,2,FALSE),0) -> 0 | ... HR50: =IF(HR$2=$A50,0,IF(HLOOKUP(HR$2,Recipes!$H:$GI,'Production Calculator'!$A50+2,FALSE)=0,0,HLOOKUP(HR$2,Recipes!$H:$GI,'Production Calculator'!$A50+2,FALSE)*$AK50))+IF($AO50=HR$3,$AM50/VLOOKUP($AO50,Data!$A$50:$B$56,2,FALSE),0) -> 0
A51: 177 | B51: =VLOOKUP(A51,Recipes!A:B,2) -> Heavy Oil Cracking | C51: 0 | D51: =HLOOKUP($E$47,'Oil Balance'!$C$1:$E$13,'Oil Balance'!$A$9+2,FALSE) -> 0 | E51: Chemical Plant | F51: =VLOOKUP(A51,Recipes!$A$3:$G$186,6,FALSE) -> 2 | G51: =VLOOKUP(A51,Recipes!$A$3:$G$186,7,FALSE) -> 1 | H51: =ROUNDUP(D51/AL51,0) -> 0 | I51: =VLOOKUP(E51,Data!$A$2:$C$26,3, FALSE) -> 2 | J51: 0 | K51: 0 | L51: 0 | M51: 0 | N51: 0 | O51: 0 | P51: 0 | Q51: 0 | R51: 0 | S51: =J51*$H51 -> 0 | T51: =K51*$H51 -> 0 | U51: =L51*$H51 -> 0 | V51: =M51*$H51 -> 0 | W51: =N51*$H51 -> 0 | X51: =O51*$H51 -> 0 | Y51: =P51*$H51 -> 0 | Z51: =Q51*$H51 -> 0 | AA51: =R51*$H51 -> 0 | AB51: =VLOOKUP($A51,Recipes!$A:$G,4) -> 5 | AC51: =VLOOKUP($A51,Recipes!$A:$G,5) -> 3 | AD51: =AC51/AB51 -> 0.6 | AE51: =VLOOKUP(E51,Data!$A$2:$F$26,5,FALSE) -> 0 | AF51: =VLOOKUP(E51,Data!$A$2:$F$26,4,FALSE) -> 210 | AG51: =VLOOKUP(E51,Data!$A$2:$B$26,2, FALSE) -> 1.25 | AH51: =1+VLOOKUP($J$3,Data!$A$40:$D$48,2,FALSE)*$J51+VLOOKUP($K$3,Data!$A$40:$D$48,2,FALSE)*$K51+VLOOKUP($L$3,Data!$A$40:$D$48,2,FALSE)*$L51+VLOOKUP($M$3,Data!$A$40:$D$48,2,FALSE)*$M51+VLOOKUP($N$3,Data!$A$40:$D$48,2,FALSE)*$N51+VLOOKUP($O$3,Data!$A$40:$D$48,2,FALSE)*$O51+VLOOKUP($P$3,Data!$A$40:$D$48,2,FALSE)*$P51+VLOOKUP($Q$3,Data!$A$40:$D$48,2,FALSE)*$Q51+VLOOKUP($R$3,Data!$A$40:$D$48,2,FALSE)*$R51 -> 1 | AI51: =MAX(1+VLOOKUP($J$3,Data!$A$40:$D$48,3,FALSE)*$J51+VLOOKUP($K$3,Data!$A$40:$D$48,3,FALSE)*$K51+VLOOKUP($L$3,Data!$A$40:$D$48,3,FALSE)*$L51+VLOOKUP($M$3,Data!$A$40:$D$48,3,FALSE)*$M51+VLOOKUP($N$3,Data!$A$40:$D$48,3,FALSE)*$N51+VLOOKUP($O$3,Data!$A$40:$D$48,3,FALSE)*$O51+VLOOKUP($P$3,Data!$A$40:$D$48,3,FALSE)*$P51+VLOOKUP($Q$3,Data!$A$40:$D$48,3,FALSE)*$Q51+VLOOKUP($R$3,Data!$A$40:$D$48,3,FALSE)*$R51,0) -> 1 | AJ51: =MAX(1-(VLOOKUP($J$3,Data!$A$40:$D$48,4,FALSE)*$J51+VLOOKUP($K$3,Data!$A$40:$D$48,4,FALSE)*$K51+VLOOKUP($L$3,Data!$A$40:$D$48,4,FALSE)*$L51+VLOOKUP($M$3,Data!$A$40:$D$48,4,FALSE)*$M51+VLOOKUP($N$3,Data!$A$40:$D$48,4,FALSE)*$N51+VLOOKUP($O$3,Data!$A$40:$D$48,4,FALSE)*$O51+VLOOKUP($P$3,Data!$A$40:$D$48,4,FALSE)*$P51+VLOOKUP($Q$3,Data!$A$40:$D$48,4,FALSE)*$Q51+VLOOKUP($R$3,Data!$A$40:$D$48,4,FALSE)*$R51),0.2) -> 1 | AK51: =D51/(AC51*AH51) -> 0 | AL51: =AD51*AG51*AH51*AI51 -> 0.75 | AM51: =AE51*H51*AJ51 -> 0 | AN51: =AF51*H51*AJ51 -> 0 | AO51: None
A52: 178 | B52: =VLOOKUP(A52,Recipes!A:B,2) -> Light Oil Cracking | C52: 0 | D52: =HLOOKUP($E$47,'Oil Balance'!$C$1:$E$13,'Oil Balance'!$A$11+2,FALSE) -> 0 | E52: Chemical Plant | F52: =VLOOKUP(A52,Recipes!$A$3:$G$186,6,FALSE) -> 2 | G52: =VLOOKUP(A52,Recipes!$A$3:$G$186,7,FALSE) -> 1 | H52: =ROUNDUP(D52/AL52,0) -> 0 | I52: =VLOOKUP(E52,Data!$A$2:$C$26,3, FALSE) -> 2 | J52: 0 | K52: 0 | L52: 0 | M52: 0 | N52: 0 | O52: 0 | P52: 0 | Q52: 0 | R52: 0 | S52: =J52*$H52 -> 0 | T52: =K52*$H52 -> 0 | U52: =L52*$H52 -> 0 | V52: =M52*$H52 -> 0 | W52: =N52*$H52 -> 0 | X52: =O52*$H52 -> 0 | Y52: =P52*$H52 -> 0 | Z52: =Q52*$H52 -> 0 | AA52: =R52*$H52 -> 0 | AB52: =VLOOKUP($A52,Recipes!$A:$G,4) -> 5 | AC52: =VLOOKUP($A52,Recipes!$A:$G,5) -> 2 | AD52: =AC52/AB52 -> 0.4 | AE52: =VLOOKUP(E52,Data!$A$2:$F$26,5,FALSE) -> 0 | AF52: =VLOOKUP(E52,Data!$A$2:$F$26,4,FALSE) -> 210 | AG52: =VLOOKUP(E52,Data!$A$2:$B$26,2, FALSE) -> 1.25 | AH52: =1+VLOOKUP($J$3,Data!$A$40:$D$48,2,FALSE)*$J52+VLOOKUP($K$3,Data!$A$40:$D$48,2,FALSE)*$K52+VLOOKUP($L$3,Data!$A$40:$D$48,2,FALSE)*$L52+VLOOKUP($M$3,Data!$A$40:$D$48,2,FALSE)*$M52+VLOOKUP($N$3,Data!$A$40:$D$48,2,FALSE)*$N52+VLOOKUP($O$3,Data!$A$40:$D$48,2,FALSE)*$O52+VLOOKUP($P$3,Data!$A$40:$D$48,2,FALSE)*$P52+VLOOKUP($Q$3,Data!$A$40:$D$48,2,FALSE)*$Q52+VLOOKUP($R$3,Data!$A$40:$D$48,2,FALSE)*$R52 -> 1 | AI52: =MAX(1+VLOOKUP($J$3,Data!$A$40:$D$48,3,FALSE)*$J52+VLOOKUP($K$3,Data!$A$40:$D$48,3,FALSE)*$K52+VLOOKUP($L$3,Data!$A$40:$D$48,3,FALSE)*$L52+VLOOKUP($M$3,Data!$A$40:$D$48,3,FALSE)*$M52+VLOOKUP($N$3,Data!$A$40:$D$48,3,FALSE)*$N52+VLOOKUP($O$3,Data!$A$40:$D$48,3,FALSE)*$O52+VLOOKUP($P$3,Data!$A$40:$D$48,3,FALSE)*$P52+VLOOKUP($Q$3,Data!$A$40:$D$48,3,FALSE)*$Q52+VLOOKUP($R$3,Data!$A$40:$D$48,3,FALSE)*$R52,0) -> 1 | AJ52: =MAX(1-(VLOOKUP($J$3,Data!$A$40:$D$48,4,FALSE)*$J52+VLOOKUP($K$3,Data!$A$40:$D$48,4,FALSE)*$K52+VLOOKUP($L$3,Data!$A$40:$D$48,4,FALSE)*$L52+VLOOKUP($M$3,Data!$A$40:$D$48,4,FALSE)*$M52+VLOOKUP($N$3,Data!$A$40:$D$48,4,FALSE)*$N52+VLOOKUP($O$3,Data!$A$40:$D$48,4,FALSE)*$O52+VLOOKUP($P$3,Data!$A$40:$D$48,4,FALSE)*$P52+VLOOKUP($Q$3,Data!$A$40:$D$48,4,FALSE)*$Q52+VLOOKUP($R$3,Data!$A$40:$D$48,4,FALSE)*$R52),0.2) -> 1 | AK52: =D52/(AC52*AH52) -> 0 | AL52: =AD52*AG52*AH52*AI52 -> 0.5 | AM52: =AE52*H52*AJ52 -> 0 | AN52: =AF52*H52*AJ52 -> 0 | AO52: None
A53: 35 | B53: =VLOOKUP(A53,Recipes!A:B,2) -> Lubricant | C53: 0 | D53: =HLOOKUP(A53,$AQ$2:$HR$202,$A$202-1,FALSE)+C53 -> 0 | E53: Chemical Plant | F53: =VLOOKUP(A53,Recipes!$A$3:$G$186,6,FALSE) -> 1 | G53: =VLOOKUP(A53,Recipes!$A$3:$G$186,7,FALSE) -> 1 | H53: =ROUNDUP(D53/AL53,0) -> 0 | I53: =VLOOKUP(E53,Data!$A$2:$C$26,3, FALSE) -> 2 | J53: 0 | K53: 0 | L53: 0 | M53: 0 | N53: 0 | O53: 0 | P53: 0 | Q53: 0 | R53: 0 | S53: =J53*$H53 -> 0 | T53: =K53*$H53 -> 0 | U53: =L53*$H53 -> 0 | V53: =M53*$H53 -> 0 | W53: =N53*$H53 -> 0 | X53: =O53*$H53 -> 0 | Y53: =P53*$H53 -> 0 | Z53: =Q53*$H53 -> 0 | AA53: =R53*$H53 -> 0 | AB53: =VLOOKUP($A53,Recipes!$A:$G,4) -> 1 | AC53: =VLOOKUP($A53,Recipes!$A:$G,5) -> 1 | AD53: =AC53/AB53 -> 1 | AE53: =VLOOKUP(E53,Data!$A$2:$F$26,5,FALSE) -> 0 | AF53: =VLOOKUP(E53,Data!$A$2:$F$26,4,FALSE) -> 210 | AG53: =VLOOKUP(E53,Data!$A$2:$B$26,2, FALSE) -> 1.25 | AH53: =1+VLOOKUP($J$3,Data!$A$40:$D$48,2,FALSE)*$J53+VLOOKUP($K$3,Data!$A$40:$D$48,2,FALSE)*$K53+VLOOKUP($L$3,Data!$A$40:$D$48,2,FALSE)*$L53+VLOOKUP($M$3,Data!$A$40:$D$48,2,FALSE)*$M53+VLOOKUP($N$3,Data!$A$40:$D$48,2,FALSE)*$N53+VLOOKUP($O$3,Data!$A$40:$D$48,2,FALSE)*$O53+VLOOKUP($P$3,Data!$A$40:$D$48,2,FALSE)*$P53+VLOOKUP($Q$3,Data!$A$40:$D$48,2,FALSE)*$Q53+VLOOKUP($R$3,Data!$A$40:$D$48,2,FALSE)*$R53 -> 1 | AI53: =MAX(1+VLOOKUP($J$3,Data!$A$40:$D$48,3,FALSE)*$J53+VLOOKUP($K$3,Data!$A$40:$D$48,3,FALSE)*$K53+VLOOKUP($L$3,Data!$A$40:$D$48,3,FALSE)*$L53+VLOOKUP($M$3,Data!$A$40:$D$48,3,FALSE)*$M53+VLOOKUP($N$3,Data!$A$40:$D$48,3,FALSE)*$N53+VLOOKUP($O$3,Data!$A$40:$D$48,3,FALSE)*$O53+VLOOKUP($P$3,Data!$A$40:$D$48,3,FALSE)*$P53+VLOOKUP($Q$3,Data!$A$40:$D$48,3,FALSE)*$Q53+VLOOKUP($R$3,Data!$A$40:$D$48,3,FALSE)*$R53,0) -> 1 | AJ53: =MAX(1-(VLOOKUP($J$3,Data!$A$40:$D$48,4,FALSE)*$J53+VLOOKUP($K$3,Data!$A$40:$D$48,4,FALSE)*$K53+VLOOKUP($L$3,Data!$A$40:$D$48,4,FALSE)*$L53+VLOOKUP($M$3,Data!$A$40:$D$48,4,FALSE)*$M53+VLOOKUP($N$3,Data!$A$40:$D$48,4,FALSE)*$N53+VLOOKUP($O$3,Data!$A$40:$D$48,4,FALSE)*$O53+VLOOKUP($P$3,Data!$A$40:$D$48,4,FALSE)*$P53+VLOOKUP($Q$3,Data!$A$40:$D$48,4,FALSE)*$Q53+VLOOKUP($R$3,Data!$A$40:$D$48,4,FALSE)*$R53),0.2) -> 1 | AK53: =D53/(AC53*AH53) -> 0 | AL53: =AD53*AG53*AH53*AI53 -> 1.25 | AM53: =AE53*H53*AJ53 -> 0 | AN53: =AF53*H53*AJ53 -> 0 | AO53: None | AQ53: =IF(AQ$2=$A53,0,IF(HLOOKUP(AQ$2,Recipes!$H:$GI,'Production Calculator'!$A53+2,FALSE)=0,0,HLOOKUP(AQ$2,Recipes!$H:$GI,'Production Calculator'!$A53+2,FALSE)*$AK53))+IF($AO53=AQ$3,$AM53/VLOOKUP($AO53,Data!$A$50:$B$56,2,FALSE),0) -> 0 | AR53: =IF(AR$2=$A53,0,IF(HLOOKUP(AR$2,Recipes!$H:$GI,'Production Calculator'!$A53+2,FALSE)=0,0,HLOOKUP(AR$2,Recipes!$H:$GI,'Production Calculator'!$A53+2,FALSE)*$AK53))+IF($AO53=AR$3,$AM53/VLOOKUP($AO53,Data!$A$50:$B$56,2,FALSE),0) -> 0 | AS53: =IF(AS$2=$A53,0,IF(HLOOKUP(AS$2,Recipes!$H:$GI,'Production Calculator'!$A53+2,FALSE)=0,0,HLOOKUP(AS$2,Recipes!$H:$GI,'Production Calculator'!$A53+2,FALSE)*$AK53))+IF($AO53=AS$3,$AM53/VLOOKUP($AO53,Data!$A$50:$B$56,2,FALSE),0) -> 0 | AT53: =IF(AT$2=$A53,0,IF(HLOOKUP(AT$2,Recipes!$H:$GI,'Production Calculator'!$A53+2,FALSE)=0,0,HLOOKUP(AT$2,Recipes!$H:$GI,'Production Calculator'!$A53+2,FALSE)*$AK53))+IF($AO53=AT$3,$AM53/VLOOKUP($AO53,Data!$A$50:$B$56,2,FALSE),0) -> 0 | AU53: =IF(AU$2=$A53,0,IF(HLOOKUP(AU$2,Recipes!$H:$GI,'Production Calculator'!$A53+2,FALSE)=0,0,HLOOKUP(AU$2,Recipes!$H:$GI,'Production Calculator'!$A53+2,FALSE)*$AK53))+IF($AO53=AU$3,$AM53/VLOOKUP($AO53,Data!$A$50:$B$56,2,FALSE),0) -> 0 | AV53: =IF(AV$2=$A53,0,IF(HLOOKUP(AV$2,Recipes!$H:$GI,'Production Calculator'!$A53+2,FALSE)=0,0,HLOOKUP(AV$2,Recipes!$H:$GI,'Production Calculator'!$A53+2,FALSE)*$AK53))+IF($AO53=AV$3,$AM53/VLOOKUP($AO53,Data!$A$50:$B$56,2,FALSE),0) -> 0 | AW53: =IF(AW$2=$A53,0,IF(HLOOKUP(AW$2,Recipes!$H:$GI,'Production Calculator'!$A53+2,FALSE)=0,0,HLOOKUP(AW$2,Recipes!$H:$GI,'Production Calculator'!$A53+2,FALSE)*$AK53))+IF($AO53=AW$3,$AM53/VLOOKUP($AO53,Data!$A$50:$B$56,2,FALSE),0) -> 0 | AX53: =IF(AX$2=$A53,0,IF(HLOOKUP(AX$2,Recipes!$H:$GI,'Production Calculator'!$A53+2,FALSE)=0,0,HLOOKUP(AX$2,Recipes!$H:$GI,'Production Calculator'!$A53+2,FALSE)*$AK53))+IF($AO53=AX$3,$AM53/VLOOKUP($AO53,Data!$A$50:$B$56,2,FALSE),0) -> 0 | ... HR53: =IF(HR$2=$A53,0,IF(HLOOKUP(HR$2,Recipes!$H:$GI,'Production Calculator'!$A53+2,FALSE)=0,0,HLOOKUP(HR$2,Recipes!$H:$GI,'Production Calculator'!$A53+2,FALSE)*$AK53))+IF($AO53=HR$3,$AM53/VLOOKUP($AO53,Data!$A$50:$B$56,2,FALSE),0) -> 0
A54: 37 | B54: =VLOOKUP(A54,Recipes!A:B,2) -> Sulfuric acid | C54: 0 | D54: =HLOOKUP(A54,$AQ$2:$HR$202,$A$202-1,FALSE)+C54 -> 0 | E54: Chemical Plant | F54: =VLOOKUP(A54,Recipes!$A$3:$G$186,6,FALSE) -> 3 | G54: =VLOOKUP(A54,Recipes!$A$3:$G$186,7,FALSE) -> 0 | H54: =ROUNDUP(D54/AL54,0) -> 0 | I54: =VLOOKUP(E54,Data!$A$2:$C$26,3, FALSE) -> 2 | J54: 0 | K54: 0 | L54: 0 | M54: 0 | N54: 0 | O54: 0 | P54: 0 | Q54: 0 | R54: 0 | S54: =J54*$H54 -> 0 | T54: =K54*$H54 -> 0 | U54: =L54*$H54 -> 0 | V54: =M54*$H54 -> 0 | W54: =N54*$H54 -> 0 | X54: =O54*$H54 -> 0 | Y54: =P54*$H54 -> 0 | Z54: =Q54*$H54 -> 0 | AA54: =R54*$H54 -> 0 | AB54: =VLOOKUP($A54,Recipes!$A:$G,4) -> 1 | AC54: =VLOOKUP($A54,Recipes!$A:$G,5) -> 5 | AD54: =AC54/AB54 -> 5 | AE54: =VLOOKUP(E54,Data!$A$2:$F$26,5,FALSE) -> 0 | AF54: =VLOOKUP(E54,Data!$A$2:$F$26,4,FALSE) -> 210 | AG54: =VLOOKUP(E54,Data!$A$2:$B$26,2, FALSE) -> 1.25 | AH54: =1+VLOOKUP($J$3,Data!$A$40:$D$48,2,FALSE)*$J54+VLOOKUP($K$3,Data!$A$40:$D$48,2,FALSE)*$K54+VLOOKUP($L$3,Data!$A$40:$D$48,2,FALSE)*$L54+VLOOKUP($M$3,Data!$A$40:$D$48,2,FALSE)*$M54+VLOOKUP($N$3,Data!$A$40:$D$48,2,FALSE)*$N54+VLOOKUP($O$3,Data!$A$40:$D$48,2,FALSE)*$O54+VLOOKUP($P$3,Data!$A$40:$D$48,2,FALSE)*$P54+VLOOKUP($Q$3,Data!$A$40:$D$48,2,FALSE)*$Q54+VLOOKUP($R$3,Data!$A$40:$D$48,2,FALSE)*$R54 -> 1 | AI54: =MAX(1+VLOOKUP($J$3,Data!$A$40:$D$48,3,FALSE)*$J54+VLOOKUP($K$3,Data!$A$40:$D$48,3,FALSE)*$K54+VLOOKUP($L$3,Data!$A$40:$D$48,3,FALSE)*$L54+VLOOKUP($M$3,Data!$A$40:$D$48,3,FALSE)*$M54+VLOOKUP($N$3,Data!$A$40:$D$48,3,FALSE)*$N54+VLOOKUP($O$3,Data!$A$40:$D$48,3,FALSE)*$O54+VLOOKUP($P$3,Data!$A$40:$D$48,3,FALSE)*$P54+VLOOKUP($Q$3,Data!$A$40:$D$48,3,FALSE)*$Q54+VLOOKUP($R$3,Data!$A$40:$D$48,3,FALSE)*$R54,0) -> 1 | AJ54: =MAX(1-(VLOOKUP($J$3,Data!$A$40:$D$48,4,FALSE)*$J54+VLOOKUP($K$3,Data!$A$40:$D$48,4,FALSE)*$K54+VLOOKUP($L$3,Data!$A$40:$D$48,4,FALSE)*$L54+VLOOKUP($M$3,Data!$A$40:$D$48,4,FALSE)*$M54+VLOOKUP($N$3,Data!$A$40:$D$48,4,FALSE)*$N54+VLOOKUP($O$3,Data!$A$40:$D$48,4,FALSE)*$O54+VLOOKUP($P$3,Data!$A$40:$D$48,4,FALSE)*$P54+VLOOKUP($Q$3,Data!$A$40:$D$48,4,FALSE)*$Q54+VLOOKUP($R$3,Data!$A$40:$D$48,4,FALSE)*$R54),0.2) -> 1 | AK54: =D54/(AC54*AH54) -> 0 | AL54: =AD54*AG54*AH54*AI54 -> 6.25 | AM54: =AE54*H54*AJ54 -> 0 | AN54: =AF54*H54*AJ54 -> 0 | AO54: None | AQ54: =IF(AQ$2=$A54,0,IF(HLOOKUP(AQ$2,Recipes!$H:$GI,'Production Calculator'!$A54+2,FALSE)=0,0,HLOOKUP(AQ$2,Recipes!$H:$GI,'Production Calculator'!$A54+2,FALSE)*$AK54))+IF($AO54=AQ$3,$AM54/VLOOKUP($AO54,Data!$A$50:$B$56,2,FALSE),0) -> 0 | AR54: =IF(AR$2=$A54,0,IF(HLOOKUP(AR$2,Recipes!$H:$GI,'Production Calculator'!$A54+2,FALSE)=0,0,HLOOKUP(AR$2,Recipes!$H:$GI,'Production Calculator'!$A54+2,FALSE)*$AK54))+IF($AO54=AR$3,$AM54/VLOOKUP($AO54,Data!$A$50:$B$56,2,FALSE),0) -> 0 | AS54: =IF(AS$2=$A54,0,IF(HLOOKUP(AS$2,Recipes!$H:$GI,'Production Calculator'!$A54+2,FALSE)=0,0,HLOOKUP(AS$2,Recipes!$H:$GI,'Production Calculator'!$A54+2,FALSE)*$AK54))+IF($AO54=AS$3,$AM54/VLOOKUP($AO54,Data!$A$50:$B$56,2,FALSE),0) -> 0 | AT54: =IF(AT$2=$A54,0,IF(HLOOKUP(AT$2,Recipes!$H:$GI,'Production Calculator'!$A54+2,FALSE)=0,0,HLOOKUP(AT$2,Recipes!$H:$GI,'Production Calculator'!$A54+2,FALSE)*$AK54))+IF($AO54=AT$3,$AM54/VLOOKUP($AO54,Data!$A$50:$B$56,2,FALSE),0) -> 0 | AU54: =IF(AU$2=$A54,0,IF(HLOOKUP(AU$2,Recipes!$H:$GI,'Production Calculator'!$A54+2,FALSE)=0,0,HLOOKUP(AU$2,Recipes!$H:$GI,'Production Calculator'!$A54+2,FALSE)*$AK54))+IF($AO54=AU$3,$AM54/VLOOKUP($AO54,Data!$A$50:$B$56,2,FALSE),0) -> 0 | AV54: =IF(AV$2=$A54,0,IF(HLOOKUP(AV$2,Recipes!$H:$GI,'Production Calculator'!$A54+2,FALSE)=0,0,HLOOKUP(AV$2,Recipes!$H:$GI,'Production Calculator'!$A54+2,FALSE)*$AK54))+IF($AO54=AV$3,$AM54/VLOOKUP($AO54,Data!$A$50:$B$56,2,FALSE),0) -> 0 | AW54: =IF(AW$2=$A54,0,IF(HLOOKUP(AW$2,Recipes!$H:$GI,'Production Calculator'!$A54+2,FALSE)=0,0,HLOOKUP(AW$2,Recipes!$H:$GI,'Production Calculator'!$A54+2,FALSE)*$AK54))+IF($AO54=AW$3,$AM54/VLOOKUP($AO54,Data!$A$50:$B$56,2,FALSE),0) -> 0 | AX54: =IF(AX$2=$A54,0,IF(HLOOKUP(AX$2,Recipes!$H:$GI,'Production Calculator'!$A54+2,FALSE)=0,0,HLOOKUP(AX$2,Recipes!$H:$GI,'Production Calculator'!$A54+2,FALSE)*$AK54))+IF($AO54=AX$3,$AM54/VLOOKUP($AO54,Data!$A$50:$B$56,2,FALSE),0) -> 0 | ... HR54: =IF(HR$2=$A54,0,IF(HLOOKUP(HR$2,Recipes!$H:$GI,'Production Calculator'!$A54+2,FALSE)=0,0,HLOOKUP(HR$2,Recipes!$H:$GI,'Production Calculator'!$A54+2,FALSE)*$AK54))+IF($AO54=HR$3,$AM54/VLOOKUP($AO54,Data!$A$50:$B$56,2,FALSE),0) -> 0
A55: 38 | B55: =VLOOKUP(A55,Recipes!A:B,2) -> Water | C55: 0 | D55: =HLOOKUP(A55,$AQ$2:$HR$202,$A$202-1,FALSE)+C55 -> 0 | E55: Water Pump | F55: =VLOOKUP(A55,Recipes!$A$3:$G$186,6,FALSE) -> 0 | G55: =VLOOKUP(A55,Recipes!$A$3:$G$186,7,FALSE) -> 0 | H55: =ROUNDUP(D55/AL55,0) -> 0 | I55: =VLOOKUP(E55,Data!$A$2:$C$26,3, FALSE) -> 0 | J55: 0 | K55: 0 | L55: 0 | M55: 0 | N55: 0 | O55: 0 | P55: 0 | Q55: 0 | R55: 0 | S55: =J55*$H55 -> 0 | T55: =K55*$H55 -> 0 | U55: =L55*$H55 -> 0 | V55: =M55*$H55 -> 0 | W55: =N55*$H55 -> 0 | X55: =O55*$H55 -> 0 | Y55: =P55*$H55 -> 0 | Z55: =Q55*$H55 -> 0 | AA55: =R55*$H55 -> 0 | AB55: =VLOOKUP($A55,Recipes!$A:$G,4) -> 1 | AC55: =VLOOKUP($A55,Recipes!$A:$G,5) -> 60 | AD55: =AC55/AB55 -> 60 | AE55: =VLOOKUP(E55,Data!$A$2:$F$26,5,FALSE) -> 0 | AF55: =VLOOKUP(E55,Data!$A$2:$F$26,4,FALSE) -> 0 | AG55: =VLOOKUP(E55,Data!$A$2:$B$26,2, FALSE) -> 1 | AH55: =1+VLOOKUP($J$3,Data!$A$40:$D$48,2,FALSE)*$J55+VLOOKUP($K$3,Data!$A$40:$D$48,2,FALSE)*$K55+VLOOKUP($L$3,Data!$A$40:$D$48,2,FALSE)*$L55+VLOOKUP($M$3,Data!$A$40:$D$48,2,FALSE)*$M55+VLOOKUP($N$3,Data!$A$40:$D$48,2,FALSE)*$N55+VLOOKUP($O$3,Data!$A$40:$D$48,2,FALSE)*$O55+VLOOKUP($P$3,Data!$A$40:$D$48,2,FALSE)*$P55+VLOOKUP($Q$3,Data!$A$40:$D$48,2,FALSE)*$Q55+VLOOKUP($R$3,Data!$A$40:$D$48,2,FALSE)*$R55 -> 1 | AI55: =MAX(1+VLOOKUP($J$3,Data!$A$40:$D$48,3,FALSE)*$J55+VLOOKUP($K$3,Data!$A$40:$D$48,3,FALSE)*$K55+VLOOKUP($L$3,Data!$A$40:$D$48,3,FALSE)*$L55+VLOOKUP($M$3,Data!$A$40:$D$48,3,FALSE)*$M55+VLOOKUP($N$3,Data!$A$40:$D$48,3,FALSE)*$N55+VLOOKUP($O$3,Data!$A$40:$D$48,3,FALSE)*$O55+VLOOKUP($P$3,Data!$A$40:$D$48,3,FALSE)*$P55+VLOOKUP($Q$3,Data!$A$40:$D$48,3,FALSE)*$Q55+VLOOKUP($R$3,Data!$A$40:$D$48,3,FALSE)*$R55,0) -> 1 | AJ55: =MAX(1-(VLOOKUP($J$3,Data!$A$40:$D$48,4,FALSE)*$J55+VLOOKUP($K$3,Data!$A$40:$D$48,4,FALSE)*$K55+VLOOKUP($L$3,Data!$A$40:$D$48,4,FALSE)*$L55+VLOOKUP($M$3,Data!$A$40:$D$48,4,FALSE)*$M55+VLOOKUP($N$3,Data!$A$40:$D$48,4,FALSE)*$N55+VLOOKUP($O$3,Data!$A$40:$D$48,4,FALSE)*$O55+VLOOKUP($P$3,Data!$A$40:$D$48,4,FALSE)*$P55+VLOOKUP($Q$3,Data!$A$40:$D$48,4,FALSE)*$Q55+VLOOKUP($R$3,Data!$A$40:$D$48,4,FALSE)*$R55),0.2) -> 1 | AK55: =D55/(AC55*AH55) -> 0 | AL55: =AD55*AG55*AH55*AI55 -> 60 | AM55: =AE55*H55*AJ55 -> 0 | AN55: =AF55*H55*AJ55 -> 0 | AO55: None | AQ55: =IF(AQ$2=$A55,0,IF(HLOOKUP(AQ$2,Recipes!$H:$GI,'Production Calculator'!$A55+2,FALSE)=0,0,HLOOKUP(AQ$2,Recipes!$H:$GI,'Production Calculator'!$A55+2,FALSE)*$AK55))+IF($AO55=AQ$3,$AM55/VLOOKUP($AO55,Data!$A$50:$B$56,2,FALSE),0) -> 0 | AR55: =IF(AR$2=$A55,0,IF(HLOOKUP(AR$2,Recipes!$H:$GI,'Production Calculator'!$A55+2,FALSE)=0,0,HLOOKUP(AR$2,Recipes!$H:$GI,'Production Calculator'!$A55+2,FALSE)*$AK55))+IF($AO55=AR$3,$AM55/VLOOKUP($AO55,Data!$A$50:$B$56,2,FALSE),0) -> 0 | AS55: =IF(AS$2=$A55,0,IF(HLOOKUP(AS$2,Recipes!$H:$GI,'Production Calculator'!$A55+2,FALSE)=0,0,HLOOKUP(AS$2,Recipes!$H:$GI,'Production Calculator'!$A55+2,FALSE)*$AK55))+IF($AO55=AS$3,$AM55/VLOOKUP($AO55,Data!$A$50:$B$56,2,FALSE),0) -> 0 | AT55: =IF(AT$2=$A55,0,IF(HLOOKUP(AT$2,Recipes!$H:$GI,'Production Calculator'!$A55+2,FALSE)=0,0,HLOOKUP(AT$2,Recipes!$H:$GI,'Production Calculator'!$A55+2,FALSE)*$AK55))+IF($AO55=AT$3,$AM55/VLOOKUP($AO55,Data!$A$50:$B$56,2,FALSE),0) -> 0 | AU55: =IF(AU$2=$A55,0,IF(HLOOKUP(AU$2,Recipes!$H:$GI,'Production Calculator'!$A55+2,FALSE)=0,0,HLOOKUP(AU$2,Recipes!$H:$GI,'Production Calculator'!$A55+2,FALSE)*$AK55))+IF($AO55=AU$3,$AM55/VLOOKUP($AO55,Data!$A$50:$B$56,2,FALSE),0) -> 0 | AV55: =IF(AV$2=$A55,0,IF(HLOOKUP(AV$2,Recipes!$H:$GI,'Production Calculator'!$A55+2,FALSE)=0,0,HLOOKUP(AV$2,Recipes!$H:$GI,'Production Calculator'!$A55+2,FALSE)*$AK55))+IF($AO55=AV$3,$AM55/VLOOKUP($AO55,Data!$A$50:$B$56,2,FALSE),0) -> 0 | AW55: =IF(AW$2=$A55,0,IF(HLOOKUP(AW$2,Recipes!$H:$GI,'Production Calculator'!$A55+2,FALSE)=0,0,HLOOKUP(AW$2,Recipes!$H:$GI,'Production Calculator'!$A55+2,FALSE)*$AK55))+IF($AO55=AW$3,$AM55/VLOOKUP($AO55,Data!$A$50:$B$56,2,FALSE),0) -> 0 | AX55: =IF(AX$2=$A55,0,IF(HLOOKUP(AX$2,Recipes!$H:$GI,'Production Calculator'!$A55+2,FALSE)=0,0,HLOOKUP(AX$2,Recipes!$H:$GI,'Production Calculator'!$A55+2,FALSE)*$AK55))+IF($AO55=AX$3,$AM55/VLOOKUP($AO55,Data!$A$50:$B$56,2,FALSE),0) -> 0 | ... HR55: =IF(HR$2=$A55,0,IF(HLOOKUP(HR$2,Recipes!$H:$GI,'Production Calculator'!$A55+2,FALSE)=0,0,HLOOKUP(HR$2,Recipes!$H:$GI,'Production Calculator'!$A55+2,FALSE)*$AK55))+IF($AO55=HR$3,$AM55/VLOOKUP($AO55,Data!$A$50:$B$56,2,FALSE),0) -> 0
B56: Fuel
A57: 40 | B57: =VLOOKUP(A57,Recipes!A:B,2) -> Rocket fuel | C57: 0 | D57: =HLOOKUP(A57,$AQ$2:$HR$202,$A$202-1,FALSE)+C57 -> 0 | E57: Assembly Machine III | F57: =VLOOKUP(A57,Recipes!$A$3:$G$186,6,FALSE) -> 1 | G57: =VLOOKUP(A57,Recipes!$A$3:$G$186,7,FALSE) -> 0 | H57: =ROUNDUP(D57/AL57,0) -> 0 | I57: =VLOOKUP(E57,Data!$A$2:$C$26,3, FALSE) -> 4 | J57: 0 | K57: 0 | L57: 0 | M57: 0 | N57: 0 | O57: 0 | P57: 0 | Q57: 0 | R57: 0 | S57: =J57*$H57 -> 0 | T57: =K57*$H57 -> 0 | U57: =L57*$H57 -> 0 | V57: =M57*$H57 -> 0 | W57: =N57*$H57 -> 0 | X57: =O57*$H57 -> 0 | Y57: =P57*$H57 -> 0 | Z57: =Q57*$H57 -> 0 | AA57: =R57*$H57 -> 0 | AB57: =VLOOKUP($A57,Recipes!$A:$G,4) -> 30 | AC57: =VLOOKUP($A57,Recipes!$A:$G,5) -> 1 | AD57: =AC57/AB57 -> 0.033333333 | AE57: =VLOOKUP(E57,Data!$A$2:$F$26,5,FALSE) -> 0 | AF57: =VLOOKUP(E57,Data!$A$2:$F$26,4,FALSE) -> 210 | AG57: =VLOOKUP(E57,Data!$A$2:$B$26,2, FALSE) -> 1.25 | AH57: =1+VLOOKUP($J$3,Data!$A$40:$D$48,2,FALSE)*$J57+VLOOKUP($K$3,Data!$A$40:$D$48,2,FALSE)*$K57+VLOOKUP($L$3,Data!$A$40:$D$48,2,FALSE)*$L57+VLOOKUP($M$3,Data!$A$40:$D$48,2,FALSE)*$M57+VLOOKUP($N$3,Data!$A$40:$D$48,2,FALSE)*$N57+VLOOKUP($O$3,Data!$A$40:$D$48,2,FALSE)*$O57+VLOOKUP($P$3,Data!$A$40:$D$48,2,FALSE)*$P57+VLOOKUP($Q$3,Data!$A$40:$D$48,2,FALSE)*$Q57+VLOOKUP($R$3,Data!$A$40:$D$48,2,FALSE)*$R57 -> 1 | AI57: =MAX(1+VLOOKUP($J$3,Data!$A$40:$D$48,3,FALSE)*$J57+VLOOKUP($K$3,Data!$A$40:$D$48,3,FALSE)*$K57+VLOOKUP($L$3,Data!$A$40:$D$48,3,FALSE)*$L57+VLOOKUP($M$3,Data!$A$40:$D$48,3,FALSE)*$M57+VLOOKUP($N$3,Data!$A$40:$D$48,3,FALSE)*$N57+VLOOKUP($O$3,Data!$A$40:$D$48,3,FALSE)*$O57+VLOOKUP($P$3,Data!$A$40:$D$48,3,FALSE)*$P57+VLOOKUP($Q$3,Data!$A$40:$D$48,3,FALSE)*$Q57+VLOOKUP($R$3,Data!$A$40:$D$48,3,FALSE)*$R57,0) -> 1 | AJ57: =MAX(1-(VLOOKUP($J$3,Data!$A$40:$D$48,4,FALSE)*$J57+VLOOKUP($K$3,Data!$A$40:$D$48,4,FALSE)*$K57+VLOOKUP($L$3,Data!$A$40:$D$48,4,FALSE)*$L57+VLOOKUP($M$3,Data!$A$40:$D$48,4,FALSE)*$M57+VLOOKUP($N$3,Data!$A$40:$D$48,4,FALSE)*$N57+VLOOKUP($O$3,Data!$A$40:$D$48,4,FALSE)*$O57+VLOOKUP($P$3,Data!$A$40:$D$48,4,FALSE)*$P57+VLOOKUP($Q$3,Data!$A$40:$D$48,4,FALSE)*$Q57+VLOOKUP($R$3,Data!$A$40:$D$48,4,FALSE)*$R57),0.2) -> 1 | AK57: =D57/(AC57*AH57) -> 0 | AL57: =AD57*AG57*AH57*AI57 -> 0.041666667 | AM57: =AE57*H57*AJ57 -> 0 | AN57: =AF57*H57*AJ57 -> 0 | AO57: None | AQ57: =IF(AQ$2=$A57,0,IF(HLOOKUP(AQ$2,Recipes!$H:$GI,'Production Calculator'!$A57+2,FALSE)=0,0,HLOOKUP(AQ$2,Recipes!$H:$GI,'Production Calculator'!$A57+2,FALSE)*$AK57))+IF($AO57=AQ$3,$AM57/VLOOKUP($AO57,Data!$A$50:$B$56,2,FALSE),0) -> 0 | AR57: =IF(AR$2=$A57,0,IF(HLOOKUP(AR$2,Recipes!$H:$GI,'Production Calculator'!$A57+2,FALSE)=0,0,HLOOKUP(AR$2,Recipes!$H:$GI,'Production Calculator'!$A57+2,FALSE)*$AK57))+IF($AO57=AR$3,$AM57/VLOOKUP($AO57,Data!$A$50:$B$56,2,FALSE),0) -> 0 | AS57: =IF(AS$2=$A57,0,IF(HLOOKUP(AS$2,Recipes!$H:$GI,'Production Calculator'!$A57+2,FALSE)=0,0,HLOOKUP(AS$2,Recipes!$H:$GI,'Production Calculator'!$A57+2,FALSE)*$AK57))+IF($AO57=AS$3,$AM57/VLOOKUP($AO57,Data!$A$50:$B$56,2,FALSE),0) -> 0 | AT57: =IF(AT$2=$A57,0,IF(HLOOKUP(AT$2,Recipes!$H:$GI,'Production Calculator'!$A57+2,FALSE)=0,0,HLOOKUP(AT$2,Recipes!$H:$GI,'Production Calculator'!$A57+2,FALSE)*$AK57))+IF($AO57=AT$3,$AM57/VLOOKUP($AO57,Data!$A$50:$B$56,2,FALSE),0) -> 0 | AU57: =IF(AU$2=$A57,0,IF(HLOOKUP(AU$2,Recipes!$H:$GI,'Production Calculator'!$A57+2,FALSE)=0,0,HLOOKUP(AU$2,Recipes!$H:$GI,'Production Calculator'!$A57+2,FALSE)*$AK57))+IF($AO57=AU$3,$AM57/VLOOKUP($AO57,Data!$A$50:$B$56,2,FALSE),0) -> 0 | AV57: =IF(AV$2=$A57,0,IF(HLOOKUP(AV$2,Recipes!$H:$GI,'Production Calculator'!$A57+2,FALSE)=0,0,HLOOKUP(AV$2,Recipes!$H:$GI,'Production Calculator'!$A57+2,FALSE)*$AK57))+IF($AO57=AV$3,$AM57/VLOOKUP($AO57,Data!$A$50:$B$56,2,FALSE),0) -> 0 | AW57: =IF(AW$2=$A57,0,IF(HLOOKUP(AW$2,Recipes!$H:$GI,'Production Calculator'!$A57+2,FALSE)=0,0,HLOOKUP(AW$2,Recipes!$H:$GI,'Production Calculator'!$A57+2,FALSE)*$AK57))+IF($AO57=AW$3,$AM57/VLOOKUP($AO57,Data!$A$50:$B$56,2,FALSE),0) -> 0 | AX57: =IF(AX$2=$A57,0,IF(HLOOKUP(AX$2,Recipes!$H:$GI,'Production Calculator'!$A57+2,FALSE)=0,0,HLOOKUP(AX$2,Recipes!$H:$GI,'Production Calculator'!$A57+2,FALSE)*$AK57))+IF($AO57=AX$3,$AM57/VLOOKUP($AO57,Data!$A$50:$B$56,2,FALSE),0) -> 0 | ... HR57: =IF(HR$2=$A57,0,IF(HLOOKUP(HR$2,Recipes!$H:$GI,'Production Calculator'!$A57+2,FALSE)=0,0,HLOOKUP(HR$2,Recipes!$H:$GI,'Production Calculator'!$A57+2,FALSE)*$AK57))+IF($AO57=HR$3,$AM57/VLOOKUP($AO57,Data!$A$50:$B$56,2,FALSE),0) -> 0
A58: 41 | B58: =VLOOKUP(A58,Recipes!A:B,2) -> Solid fuel | C58: 0 | D58: =HLOOKUP(A58,$AQ$2:$HR$202,$A$202-1,FALSE)+C58 -> 0 | E58: 0 | F58: 0 | G58: 0 | H58: 0 | I58: 0 | J58: 0 | K58: 0 | L58: 0 | M58: 0 | N58: 0 | O58: 0 | P58: 0 | Q58: 0 | R58: 0 | S58: =J58*$H58 -> 0 | T58: =K58*$H58 -> 0 | U58: =L58*$H58 -> 0 | V58: =M58*$H58 -> 0 | W58: =N58*$H58 -> 0 | X58: =O58*$H58 -> 0 | Y58: =P58*$H58 -> 0 | Z58: =Q58*$H58 -> 0 | AA58: =R58*$H58 -> 0 | AB58: 0 | AC58: 0 | AD58: 0 | AE58: 0 | AF58: 0 | AG58: 0 | AH58: 0 | AI58: 0 | AJ58: 0 | AK58: 0 | AL58: 0 | AM58: 0 | AN58: 0 | AO58: None | HP58: =HLOOKUP($E$47,'Oil Balance'!$D$1:$E$17,VLOOKUP(HP$2,'Oil Balance'!$H$9:$P$11,9,FALSE)+3,FALSE)*$D58 -> 0 | HQ58: =HLOOKUP($E$47,'Oil Balance'!$D$1:$E$17,VLOOKUP(HQ$2,'Oil Balance'!$H$9:$P$11,9,FALSE)+3,FALSE)*$D58 -> 0 | HR58: =HLOOKUP($E$47,'Oil Balance'!$D$1:$E$17,VLOOKUP(HR$2,'Oil Balance'!$H$9:$P$11,9,FALSE)+3,FALSE)*$D58 -> 0
A59: 182 | B59: =VLOOKUP(A59,Recipes!A:B,2) -> Solid fuel (Heavy Oil) | C59: 0 | D59: =HLOOKUP(A59,$AQ$2:$HR$202,$A$202-1,FALSE)+C59 -> 0 | E59: Chemical Plant | F59: =VLOOKUP(A59,Recipes!$A$3:$G$186,6,FALSE) -> 1 | G59: =VLOOKUP(A59,Recipes!$A$3:$G$186,7,FALSE) -> 1 | H59: =ROUNDUP(D59/AL59,0) -> 0 | I59: =VLOOKUP(E59,Data!$A$2:$C$26,3, FALSE) -> 2 | J59: 0 | K59: 0 | L59: 0 | M59: 0 | N59: 0 | O59: 0 | P59: 0 | Q59: 0 | R59: 0 | S59: =J59*$H59 -> 0 | T59: =K59*$H59 -> 0 | U59: =L59*$H59 -> 0 | V59: =M59*$H59 -> 0 | W59: =N59*$H59 -> 0 | X59: =O59*$H59 -> 0 | Y59: =P59*$H59 -> 0 | Z59: =Q59*$H59 -> 0 | AA59: =R59*$H59 -> 0 | AB59: =VLOOKUP($A59,Recipes!$A:$G,4) -> 3 | AC59: =VLOOKUP($A59,Recipes!$A:$G,5) -> 1 | AD59: =AC59/AB59 -> 0.33333333 | AE59: =VLOOKUP(E59,Data!$A$2:$F$26,5,FALSE) -> 0 | AF59: =VLOOKUP(E59,Data!$A$2:$F$26,4,FALSE) -> 210 | AG59: =VLOOKUP(E59,Data!$A$2:$B$26,2, FALSE) -> 1.25 | AH59: =1+VLOOKUP($J$3,Data!$A$40:$D$48,2,FALSE)*$J59+VLOOKUP($K$3,Data!$A$40:$D$48,2,FALSE)*$K59+VLOOKUP($L$3,Data!$A$40:$D$48,2,FALSE)*$L59+VLOOKUP($M$3,Data!$A$40:$D$48,2,FALSE)*$M59+VLOOKUP($N$3,Data!$A$40:$D$48,2,FALSE)*$N59+VLOOKUP($O$3,Data!$A$40:$D$48,2,FALSE)*$O59+VLOOKUP($P$3,Data!$A$40:$D$48,2,FALSE)*$P59+VLOOKUP($Q$3,Data!$A$40:$D$48,2,FALSE)*$Q59+VLOOKUP($R$3,Data!$A$40:$D$48,2,FALSE)*$R59 -> 1 | AI59: =MAX(1+VLOOKUP($J$3,Data!$A$40:$D$48,3,FALSE)*$J59+VLOOKUP($K$3,Data!$A$40:$D$48,3,FALSE)*$K59+VLOOKUP($L$3,Data!$A$40:$D$48,3,FALSE)*$L59+VLOOKUP($M$3,Data!$A$40:$D$48,3,FALSE)*$M59+VLOOKUP($N$3,Data!$A$40:$D$48,3,FALSE)*$N59+VLOOKUP($O$3,Data!$A$40:$D$48,3,FALSE)*$O59+VLOOKUP($P$3,Data!$A$40:$D$48,3,FALSE)*$P59+VLOOKUP($Q$3,Data!$A$40:$D$48,3,FALSE)*$Q59+VLOOKUP($R$3,Data!$A$40:$D$48,3,FALSE)*$R59,0) -> 1 | AJ59: =MAX(1-(VLOOKUP($J$3,Data!$A$40:$D$48,4,FALSE)*$J59+VLOOKUP($K$3,Data!$A$40:$D$48,4,FALSE)*$K59+VLOOKUP($L$3,Data!$A$40:$D$48,4,FALSE)*$L59+VLOOKUP($M$3,Data!$A$40:$D$48,4,FALSE)*$M59+VLOOKUP($N$3,Data!$A$40:$D$48,4,FALSE)*$N59+VLOOKUP($O$3,Data!$A$40:$D$48,4,FALSE)*$O59+VLOOKUP($P$3,Data!$A$40:$D$48,4,FALSE)*$P59+VLOOKUP($Q$3,Data!$A$40:$D$48,4,FALSE)*$Q59+VLOOKUP($R$3,Data!$A$40:$D$48,4,FALSE)*$R59),0.2) -> 1 | AK59: =D59/(AC59*AH59) -> 0 | AL59: =AD59*AG59*AH59*AI59 -> 0.41666667 | AM59: =AE59*H59*AJ59 -> 0 | AN59: =AF59*H59*AJ59 -> 0 | AO59: None | AQ59: =IF(AQ$2=$A59,0,IF(HLOOKUP(AQ$2,Recipes!$H:$GI,'Production Calculator'!$A59+2,FALSE)=0,0,HLOOKUP(AQ$2,Recipes!$H:$GI,'Production Calculator'!$A59+2,FALSE)*$AK59))+IF($AO59=AQ$3,$AM59/VLOOKUP($AO59,Data!$A$50:$B$56,2,FALSE),0) -> 0 | AR59: =IF(AR$2=$A59,0,IF(HLOOKUP(AR$2,Recipes!$H:$GI,'Production Calculator'!$A59+2,FALSE)=0,0,HLOOKUP(AR$2,Recipes!$H:$GI,'Production Calculator'!$A59+2,FALSE)*$AK59))+IF($AO59=AR$3,$AM59/VLOOKUP($AO59,Data!$A$50:$B$56,2,FALSE),0) -> 0 | AS59: =IF(AS$2=$A59,0,IF(HLOOKUP(AS$2,Recipes!$H:$GI,'Production Calculator'!$A59+2,FALSE)=0,0,HLOOKUP(AS$2,Recipes!$H:$GI,'Production Calculator'!$A59+2,FALSE)*$AK59))+IF($AO59=AS$3,$AM59/VLOOKUP($AO59,Data!$A$50:$B$56,2,FALSE),0) -> 0 | AT59: =IF(AT$2=$A59,0,IF(HLOOKUP(AT$2,Recipes!$H:$GI,'Production Calculator'!$A59+2,FALSE)=0,0,HLOOKUP(AT$2,Recipes!$H:$GI,'Production Calculator'!$A59+2,FALSE)*$AK59))+IF($AO59=AT$3,$AM59/VLOOKUP($AO59,Data!$A$50:$B$56,2,FALSE),0) -> 0 | AU59: =IF(AU$2=$A59,0,IF(HLOOKUP(AU$2,Recipes!$H:$GI,'Production Calculator'!$A59+2,FALSE)=0,0,HLOOKUP(AU$2,Recipes!$H:$GI,'Production Calculator'!$A59+2,FALSE)*$AK59))+IF($AO59=AU$3,$AM59/VLOOKUP($AO59,Data!$A$50:$B$56,2,FALSE),0) -> 0 | AV59: =IF(AV$2=$A59,0,IF(HLOOKUP(AV$2,Recipes!$H:$GI,'Production Calculator'!$A59+2,FALSE)=0,0,HLOOKUP(AV$2,Recipes!$H:$GI,'Production Calculator'!$A59+2,FALSE)*$AK59))+IF($AO59=AV$3,$AM59/VLOOKUP($AO59,Data!$A$50:$B$56,2,FALSE),0) -> 0 | AW59: =IF(AW$2=$A59,0,IF(HLOOKUP(AW$2,Recipes!$H:$GI,'Production Calculator'!$A59+2,FALSE)=0,0,HLOOKUP(AW$2,Recipes!$H:$GI,'Production Calculator'!$A59+2,FALSE)*$AK59))+IF($AO59=AW$3,$AM59/VLOOKUP($AO59,Data!$A$50:$B$56,2,FALSE),0) -> 0 | AX59: =IF(AX$2=$A59,0,IF(HLOOKUP(AX$2,Recipes!$H:$GI,'Production Calculator'!$A59+2,FALSE)=0,0,HLOOKUP(AX$2,Recipes!$H:$GI,'Production Calculator'!$A59+2,FALSE)*$AK59))+IF($AO59=AX$3,$AM59/VLOOKUP($AO59,Data!$A$50:$B$56,2,FALSE),0) -> 0 | ... HR59: =IF(HR$2=$A59,0,IF(HLOOKUP(HR$2,Recipes!$H:$GI,'Production Calculator'!$A59+2,FALSE)=0,0,HLOOKUP(HR$2,Recipes!$H:$GI,'Production Calculator'!$A59+2,FALSE)*$AK59))+IF($AO59=HR$3,$AM59/VLOOKUP($AO59,Data!$A$50:$B$56,2,FALSE),0) -> 0
A60: 183 | B60: =VLOOKUP(A60,Recipes!A:B,2) -> Solid fuel (Light Oil) | C60: 0 | D60: =HLOOKUP(A60,$AQ$2:$HR$202,$A$202-1,FALSE)+C60 -> 0 | E60: Chemical Plant | F60: =VLOOKUP(A60,Recipes!$A$3:$G$186,6,FALSE) -> 1 | G60: =VLOOKUP(A60,Recipes!$A$3:$G$186,7,FALSE) -> 1 | H60: =ROUNDUP(D60/AL60,0) -> 0 | I60: =VLOOKUP(E60,Data!$A$2:$C$26,3, FALSE) -> 2 | J60: 0 | K60: 0 | L60: 0 | M60: 0 | N60: 0 | O60: 0 | P60: 0 | Q60: 0 | R60: 0 | S60: =J60*$H60 -> 0 | T60: =K60*$H60 -> 0 | U60: =L60*$H60 -> 0 | V60: =M60*$H60 -> 0 | W60: =N60*$H60 -> 0 | X60: =O60*$H60 -> 0 | Y60: =P60*$H60 -> 0 | Z60: =Q60*$H60 -> 0 | AA60: =R60*$H60 -> 0 | AB60: =VLOOKUP($A60,Recipes!$A:$G,4) -> 3 | AC60: =VLOOKUP($A60,Recipes!$A:$G,5) -> 1 | AD60: =AC60/AB60 -> 0.33333333 | AE60: =VLOOKUP(E60,Data!$A$2:$F$26,5,FALSE) -> 0 | AF60: =VLOOKUP(E60,Data!$A$2:$F$26,4,FALSE) -> 210 | AG60: =VLOOKUP(E60,Data!$A$2:$B$26,2, FALSE) -> 1.25 | AH60: =1+VLOOKUP($J$3,Data!$A$40:$D$48,2,FALSE)*$J60+VLOOKUP($K$3,Data!$A$40:$D$48,2,FALSE)*$K60+VLOOKUP($L$3,Data!$A$40:$D$48,2,FALSE)*$L60+VLOOKUP($M$3,Data!$A$40:$D$48,2,FALSE)*$M60+VLOOKUP($N$3,Data!$A$40:$D$48,2,FALSE)*$N60+VLOOKUP($O$3,Data!$A$40:$D$48,2,FALSE)*$O60+VLOOKUP($P$3,Data!$A$40:$D$48,2,FALSE)*$P60+VLOOKUP($Q$3,Data!$A$40:$D$48,2,FALSE)*$Q60+VLOOKUP($R$3,Data!$A$40:$D$48,2,FALSE)*$R60 -> 1 | AI60: =MAX(1+VLOOKUP($J$3,Data!$A$40:$D$48,3,FALSE)*$J60+VLOOKUP($K$3,Data!$A$40:$D$48,3,FALSE)*$K60+VLOOKUP($L$3,Data!$A$40:$D$48,3,FALSE)*$L60+VLOOKUP($M$3,Data!$A$40:$D$48,3,FALSE)*$M60+VLOOKUP($N$3,Data!$A$40:$D$48,3,FALSE)*$N60+VLOOKUP($O$3,Data!$A$40:$D$48,3,FALSE)*$O60+VLOOKUP($P$3,Data!$A$40:$D$48,3,FALSE)*$P60+VLOOKUP($Q$3,Data!$A$40:$D$48,3,FALSE)*$Q60+VLOOKUP($R$3,Data!$A$40:$D$48,3,FALSE)*$R60,0) -> 1 | AJ60: =MAX(1-(VLOOKUP($J$3,Data!$A$40:$D$48,4,FALSE)*$J60+VLOOKUP($K$3,Data!$A$40:$D$48,4,FALSE)*$K60+VLOOKUP($L$3,Data!$A$40:$D$48,4,FALSE)*$L60+VLOOKUP($M$3,Data!$A$40:$D$48,4,FALSE)*$M60+VLOOKUP($N$3,Data!$A$40:$D$48,4,FALSE)*$N60+VLOOKUP($O$3,Data!$A$40:$D$48,4,FALSE)*$O60+VLOOKUP($P$3,Data!$A$40:$D$48,4,FALSE)*$P60+VLOOKUP($Q$3,Data!$A$40:$D$48,4,FALSE)*$Q60+VLOOKUP($R$3,Data!$A$40:$D$48,4,FALSE)*$R60),0.2) -> 1 | AK60: =D60/(AC60*AH60) -> 0 | AL60: =AD60*AG60*AH60*AI60 -> 0.41666667 | AM60: =AE60*H60*AJ60 -> 0 | AN60: =AF60*H60*AJ60 -> 0 | AO60: None | AQ60: =IF(AQ$2=$A60,0,IF(HLOOKUP(AQ$2,Recipes!$H:$GI,'Production Calculator'!$A60+2,FALSE)=0,0,HLOOKUP(AQ$2,Recipes!$H:$GI,'Production Calculator'!$A60+2,FALSE)*$AK60))+IF($AO60=AQ$3,$AM60/VLOOKUP($AO60,Data!$A$50:$B$56,2,FALSE),0) -> 0 | AR60: =IF(AR$2=$A60,0,IF(HLOOKUP(AR$2,Recipes!$H:$GI,'Production Calculator'!$A60+2,FALSE)=0,0,HLOOKUP(AR$2,Recipes!$H:$GI,'Production Calculator'!$A60+2,FALSE)*$AK60))+IF($AO60=AR$3,$AM60/VLOOKUP($AO60,Data!$A$50:$B$56,2,FALSE),0) -> 0 | AS60: =IF(AS$2=$A60,0,IF(HLOOKUP(AS$2,Recipes!$H:$GI,'Production Calculator'!$A60+2,FALSE)=0,0,HLOOKUP(AS$2,Recipes!$H:$GI,'Production Calculator'!$A60+2,FALSE)*$AK60))+IF($AO60=AS$3,$AM60/VLOOKUP($AO60,Data!$A$50:$B$56,2,FALSE),0) -> 0 | AT60: =IF(AT$2=$A60,0,IF(HLOOKUP(AT$2,Recipes!$H:$GI,'Production Calculator'!$A60+2,FALSE)=0,0,HLOOKUP(AT$2,Recipes!$H:$GI,'Production Calculator'!$A60+2,FALSE)*$AK60))+IF($AO60=AT$3,$AM60/VLOOKUP($AO60,Data!$A$50:$B$56,2,FALSE),0) -> 0 | AU60: =IF(AU$2=$A60,0,IF(HLOOKUP(AU$2,Recipes!$H:$GI,'Production Calculator'!$A60+2,FALSE)=0,0,HLOOKUP(AU$2,Recipes!$H:$GI,'Production Calculator'!$A60+2,FALSE)*$AK60))+IF($AO60=AU$3,$AM60/VLOOKUP($AO60,Data!$A$50:$B$56,2,FALSE),0) -> 0 | AV60: =IF(AV$2=$A60,0,IF(HLOOKUP(AV$2,Recipes!$H:$GI,'Production Calculator'!$A60+2,FALSE)=0,0,HLOOKUP(AV$2,Recipes!$H:$GI,'Production Calculator'!$A60+2,FALSE)*$AK60))+IF($AO60=AV$3,$AM60/VLOOKUP($AO60,Data!$A$50:$B$56,2,FALSE),0) -> 0 | AW60: =IF(AW$2=$A60,0,IF(HLOOKUP(AW$2,Recipes!$H:$GI,'Production Calculator'!$A60+2,FALSE)=0,0,HLOOKUP(AW$2,Recipes!$H:$GI,'Production Calculator'!$A60+2,FALSE)*$AK60))+IF($AO60=AW$3,$AM60/VLOOKUP($AO60,Data!$A$50:$B$56,2,FALSE),0) -> 0 | AX60: =IF(AX$2=$A60,0,IF(HLOOKUP(AX$2,Recipes!$H:$GI,'Production Calculator'!$A60+2,FALSE)=0,0,HLOOKUP(AX$2,Recipes!$H:$GI,'Production Calculator'!$A60+2,FALSE)*$AK60))+IF($AO60=AX$3,$AM60/VLOOKUP($AO60,Data!$A$50:$B$56,2,FALSE),0) -> 0 | ... HR60: =IF(HR$2=$A60,0,IF(HLOOKUP(HR$2,Recipes!$H:$GI,'Production Calculator'!$A60+2,FALSE)=0,0,HLOOKUP(HR$2,Recipes!$H:$GI,'Production Calculator'!$A60+2,FALSE)*$AK60))+IF($AO60=HR$3,$AM60/VLOOKUP($AO60,Data!$A$50:$B$56,2,FALSE),0) -> 0
A61: 184 | B61: =VLOOKUP(A61,Recipes!A:B,2) -> Solid fuel (Petroleum) | C61: 0 | D61: =HLOOKUP(A61,$AQ$2:$HR$202,$A$202-1,FALSE)+C61 -> 0 | E61: Chemical Plant | F61: =VLOOKUP(A61,Recipes!$A$3:$G$186,6,FALSE) -> 1 | G61: =VLOOKUP(A61,Recipes!$A$3:$G$186,7,FALSE) -> 1 | H61: =ROUNDUP(D61/AL61,0) -> 0 | I61: =VLOOKUP(E61,Data!$A$2:$C$26,3, FALSE) -> 2 | J61: 0 | K61: 0 | L61: 0 | M61: 0 | N61: 0 | O61: 0 | P61: 0 | Q61: 0 | R61: 0 | S61: =J61*$H61 -> 0 | T61: =K61*$H61 -> 0 | U61: =L61*$H61 -> 0 | V61: =M61*$H61 -> 0 | W61: =N61*$H61 -> 0 | X61: =O61*$H61 -> 0 | Y61: =P61*$H61 -> 0 | Z61: =Q61*$H61 -> 0 | AA61: =R61*$H61 -> 0 | AB61: =VLOOKUP($A61,Recipes!$A:$G,4) -> 3 | AC61: =VLOOKUP($A61,Recipes!$A:$G,5) -> 1 | AD61: =AC61/AB61 -> 0.33333333 | AE61: =VLOOKUP(E61,Data!$A$2:$F$26,5,FALSE) -> 0 | AF61: =VLOOKUP(E61,Data!$A$2:$F$26,4,FALSE) -> 210 | AG61: =VLOOKUP(E61,Data!$A$2:$B$26,2, FALSE) -> 1.25 | AH61: =1+VLOOKUP($J$3,Data!$A$40:$D$48,2,FALSE)*$J61+VLOOKUP($K$3,Data!$A$40:$D$48,2,FALSE)*$K61+VLOOKUP($L$3,Data!$A$40:$D$48,2,FALSE)*$L61+VLOOKUP($M$3,Data!$A$40:$D$48,2,FALSE)*$M61+VLOOKUP($N$3,Data!$A$40:$D$48,2,FALSE)*$N61+VLOOKUP($O$3,Data!$A$40:$D$48,2,FALSE)*$O61+VLOOKUP($P$3,Data!$A$40:$D$48,2,FALSE)*$P61+VLOOKUP($Q$3,Data!$A$40:$D$48,2,FALSE)*$Q61+VLOOKUP($R$3,Data!$A$40:$D$48,2,FALSE)*$R61 -> 1 | AI61: =MAX(1+VLOOKUP($J$3,Data!$A$40:$D$48,3,FALSE)*$J61+VLOOKUP($K$3,Data!$A$40:$D$48,3,FALSE)*$K61+VLOOKUP($L$3,Data!$A$40:$D$48,3,FALSE)*$L61+VLOOKUP($M$3,Data!$A$40:$D$48,3,FALSE)*$M61+VLOOKUP($N$3,Data!$A$40:$D$48,3,FALSE)*$N61+VLOOKUP($O$3,Data!$A$40:$D$48,3,FALSE)*$O61+VLOOKUP($P$3,Data!$A$40:$D$48,3,FALSE)*$P61+VLOOKUP($Q$3,Data!$A$40:$D$48,3,FALSE)*$Q61+VLOOKUP($R$3,Data!$A$40:$D$48,3,FALSE)*$R61,0) -> 1 | AJ61: =MAX(1-(VLOOKUP($J$3,Data!$A$40:$D$48,4,FALSE)*$J61+VLOOKUP($K$3,Data!$A$40:$D$48,4,FALSE)*$K61+VLOOKUP($L$3,Data!$A$40:$D$48,4,FALSE)*$L61+VLOOKUP($M$3,Data!$A$40:$D$48,4,FALSE)*$M61+VLOOKUP($N$3,Data!$A$40:$D$48,4,FALSE)*$N61+VLOOKUP($O$3,Data!$A$40:$D$48,4,FALSE)*$O61+VLOOKUP($P$3,Data!$A$40:$D$48,4,FALSE)*$P61+VLOOKUP($Q$3,Data!$A$40:$D$48,4,FALSE)*$Q61+VLOOKUP($R$3,Data!$A$40:$D$48,4,FALSE)*$R61),0.2) -> 1 | AK61: =D61/(AC61*AH61) -> 0 | AL61: =AD61*AG61*AH61*AI61 -> 0.41666667 | AM61: =AE61*H61*AJ61 -> 0 | AN61: =AF61*H61*AJ61 -> 0 | AO61: None | AQ61: =IF(AQ$2=$A61,0,IF(HLOOKUP(AQ$2,Recipes!$H:$GI,'Production Calculator'!$A61+2,FALSE)=0,0,HLOOKUP(AQ$2,Recipes!$H:$GI,'Production Calculator'!$A61+2,FALSE)*$AK61))+IF($AO61=AQ$3,$AM61/VLOOKUP($AO61,Data!$A$50:$B$56,2,FALSE),0) -> 0 | AR61: =IF(AR$2=$A61,0,IF(HLOOKUP(AR$2,Recipes!$H:$GI,'Production Calculator'!$A61+2,FALSE)=0,0,HLOOKUP(AR$2,Recipes!$H:$GI,'Production Calculator'!$A61+2,FALSE)*$AK61))+IF($AO61=AR$3,$AM61/VLOOKUP($AO61,Data!$A$50:$B$56,2,FALSE),0) -> 0 | AS61: =IF(AS$2=$A61,0,IF(HLOOKUP(AS$2,Recipes!$H:$GI,'Production Calculator'!$A61+2,FALSE)=0,0,HLOOKUP(AS$2,Recipes!$H:$GI,'Production Calculator'!$A61+2,FALSE)*$AK61))+IF($AO61=AS$3,$AM61/VLOOKUP($AO61,Data!$A$50:$B$56,2,FALSE),0) -> 0 | AT61: =IF(AT$2=$A61,0,IF(HLOOKUP(AT$2,Recipes!$H:$GI,'Production Calculator'!$A61+2,FALSE)=0,0,HLOOKUP(AT$2,Recipes!$H:$GI,'Production Calculator'!$A61+2,FALSE)*$AK61))+IF($AO61=AT$3,$AM61/VLOOKUP($AO61,Data!$A$50:$B$56,2,FALSE),0) -> 0 | AU61: =IF(AU$2=$A61,0,IF(HLOOKUP(AU$2,Recipes!$H:$GI,'Production Calculator'!$A61+2,FALSE)=0,0,HLOOKUP(AU$2,Recipes!$H:$GI,'Production Calculator'!$A61+2,FALSE)*$AK61))+IF($AO61=AU$3,$AM61/VLOOKUP($AO61,Data!$A$50:$B$56,2,FALSE),0) -> 0 | AV61: =IF(AV$2=$A61,0,IF(HLOOKUP(AV$2,Recipes!$H:$GI,'Production Calculator'!$A61+2,FALSE)=0,0,HLOOKUP(AV$2,Recipes!$H:$GI,'Production Calculator'!$A61+2,FALSE)*$AK61))+IF($AO61=AV$3,$AM61/VLOOKUP($AO61,Data!$A$50:$B$56,2,FALSE),0) -> 0 | AW61: =IF(AW$2=$A61,0,IF(HLOOKUP(AW$2,Recipes!$H:$GI,'Production Calculator'!$A61+2,FALSE)=0,0,HLOOKUP(AW$2,Recipes!$H:$GI,'Production Calculator'!$A61+2,FALSE)*$AK61))+IF($AO61=AW$3,$AM61/VLOOKUP($AO61,Data!$A$50:$B$56,2,FALSE),0) -> 0 | AX61: =IF(AX$2=$A61,0,IF(HLOOKUP(AX$2,Recipes!$H:$GI,'Production Calculator'!$A61+2,FALSE)=0,0,HLOOKUP(AX$2,Recipes!$H:$GI,'Production Calculator'!$A61+2,FALSE)*$AK61))+IF($AO61=AX$3,$AM61/VLOOKUP($AO61,Data!$A$50:$B$56,2,FALSE),0) -> 0 | ... HR61: =IF(HR$2=$A61,0,IF(HLOOKUP(HR$2,Recipes!$H:$GI,'Production Calculator'!$A61+2,FALSE)=0,0,HLOOKUP(HR$2,Recipes!$H:$GI,'Production Calculator'!$A61+2,FALSE)*$AK61))+IF($AO61=HR$3,$AM61/VLOOKUP($AO61,Data!$A$50:$B$56,2,FALSE),0) -> 0
B62: Intermediates
A63: 43 | B63: =VLOOKUP(A63,Recipes!A:B,2) -> Battery | C63: 0 | D63: =HLOOKUP(A63,$AQ$2:$HR$202,$A$202-1,FALSE)+C63 -> 0 | E63: Chemical Plant | F63: =VLOOKUP(A63,Recipes!$A$3:$G$186,6,FALSE) -> 3 | G63: =VLOOKUP(A63,Recipes!$A$3:$G$186,7,FALSE) -> 1 | H63: =ROUNDUP(D63/AL63,0) -> 0 | I63: =VLOOKUP(E63,Data!$A$2:$C$26,3, FALSE) -> 2 | J63: 0 | K63: 0 | L63: 0 | M63: 0 | N63: 0 | O63: 0 | P63: 0 | Q63: 0 | R63: 0 | S63: =J63*$H63 -> 0 | T63: =K63*$H63 -> 0 | U63: =L63*$H63 -> 0 | V63: =M63*$H63 -> 0 | W63: =N63*$H63 -> 0 | X63: =O63*$H63 -> 0 | Y63: =P63*$H63 -> 0 | Z63: =Q63*$H63 -> 0 | AA63: =R63*$H63 -> 0 | AB63: =VLOOKUP($A63,Recipes!$A:$G,4) -> 5 | AC63: =VLOOKUP($A63,Recipes!$A:$G,5) -> 1 | AD63: =AC63/AB63 -> 0.2 | AE63: =VLOOKUP(E63,Data!$A$2:$F$26,5,FALSE) -> 0 | AF63: =VLOOKUP(E63,Data!$A$2:$F$26,4,FALSE) -> 210 | AG63: =VLOOKUP(E63,Data!$A$2:$B$26,2, FALSE) -> 1.25 | AH63: =1+VLOOKUP($J$3,Data!$A$40:$D$48,2,FALSE)*$J63+VLOOKUP($K$3,Data!$A$40:$D$48,2,FALSE)*$K63+VLOOKUP($L$3,Data!$A$40:$D$48,2,FALSE)*$L63+VLOOKUP($M$3,Data!$A$40:$D$48,2,FALSE)*$M63+VLOOKUP($N$3,Data!$A$40:$D$48,2,FALSE)*$N63+VLOOKUP($O$3,Data!$A$40:$D$48,2,FALSE)*$O63+VLOOKUP($P$3,Data!$A$40:$D$48,2,FALSE)*$P63+VLOOKUP($Q$3,Data!$A$40:$D$48,2,FALSE)*$Q63+VLOOKUP($R$3,Data!$A$40:$D$48,2,FALSE)*$R63 -> 1 | AI63: =MAX(1+VLOOKUP($J$3,Data!$A$40:$D$48,3,FALSE)*$J63+VLOOKUP($K$3,Data!$A$40:$D$48,3,FALSE)*$K63+VLOOKUP($L$3,Data!$A$40:$D$48,3,FALSE)*$L63+VLOOKUP($M$3,Data!$A$40:$D$48,3,FALSE)*$M63+VLOOKUP($N$3,Data!$A$40:$D$48,3,FALSE)*$N63+VLOOKUP($O$3,Data!$A$40:$D$48,3,FALSE)*$O63+VLOOKUP($P$3,Data!$A$40:$D$48,3,FALSE)*$P63+VLOOKUP($Q$3,Data!$A$40:$D$48,3,FALSE)*$Q63+VLOOKUP($R$3,Data!$A$40:$D$48,3,FALSE)*$R63,0) -> 1 | AJ63: =MAX(1-(VLOOKUP($J$3,Data!$A$40:$D$48,4,FALSE)*$J63+VLOOKUP($K$3,Data!$A$40:$D$48,4,FALSE)*$K63+VLOOKUP($L$3,Data!$A$40:$D$48,4,FALSE)*$L63+VLOOKUP($M$3,Data!$A$40:$D$48,4,FALSE)*$M63+VLOOKUP($N$3,Data!$A$40:$D$48,4,FALSE)*$N63+VLOOKUP($O$3,Data!$A$40:$D$48,4,FALSE)*$O63+VLOOKUP($P$3,Data!$A$40:$D$48,4,FALSE)*$P63+VLOOKUP($Q$3,Data!$A$40:$D$48,4,FALSE)*$Q63+VLOOKUP($R$3,Data!$A$40:$D$48,4,FALSE)*$R63),0.2) -> 1 | AK63: =D63/(AC63*AH63) -> 0 | AL63: =AD63*AG63*AH63*AI63 -> 0.25 | AM63: =AE63*H63*AJ63 -> 0 | AN63: =AF63*H63*AJ63 -> 0 | AO63: None | AQ63: =IF(AQ$2=$A63,0,IF(HLOOKUP(AQ$2,Recipes!$H:$GI,'Production Calculator'!$A63+2,FALSE)=0,0,HLOOKUP(AQ$2,Recipes!$H:$GI,'Production Calculator'!$A63+2,FALSE)*$AK63))+IF($AO63=AQ$3,$AM63/VLOOKUP($AO63,Data!$A$50:$B$56,2,FALSE),0) -> 0 | AR63: =IF(AR$2=$A63,0,IF(HLOOKUP(AR$2,Recipes!$H:$GI,'Production Calculator'!$A63+2,FALSE)=0,0,HLOOKUP(AR$2,Recipes!$H:$GI,'Production Calculator'!$A63+2,FALSE)*$AK63))+IF($AO63=AR$3,$AM63/VLOOKUP($AO63,Data!$A$50:$B$56,2,FALSE),0) -> 0 | AS63: =IF(AS$2=$A63,0,IF(HLOOKUP(AS$2,Recipes!$H:$GI,'Production Calculator'!$A63+2,FALSE)=0,0,HLOOKUP(AS$2,Recipes!$H:$GI,'Production Calculator'!$A63+2,FALSE)*$AK63))+IF($AO63=AS$3,$AM63/VLOOKUP($AO63,Data!$A$50:$B$56,2,FALSE),0) -> 0 | AT63: =IF(AT$2=$A63,0,IF(HLOOKUP(AT$2,Recipes!$H:$GI,'Production Calculator'!$A63+2,FALSE)=0,0,HLOOKUP(AT$2,Recipes!$H:$GI,'Production Calculator'!$A63+2,FALSE)*$AK63))+IF($AO63=AT$3,$AM63/VLOOKUP($AO63,Data!$A$50:$B$56,2,FALSE),0) -> 0 | AU63: =IF(AU$2=$A63,0,IF(HLOOKUP(AU$2,Recipes!$H:$GI,'Production Calculator'!$A63+2,FALSE)=0,0,HLOOKUP(AU$2,Recipes!$H:$GI,'Production Calculator'!$A63+2,FALSE)*$AK63))+IF($AO63=AU$3,$AM63/VLOOKUP($AO63,Data!$A$50:$B$56,2,FALSE),0) -> 0 | AV63: =IF(AV$2=$A63,0,IF(HLOOKUP(AV$2,Recipes!$H:$GI,'Production Calculator'!$A63+2,FALSE)=0,0,HLOOKUP(AV$2,Recipes!$H:$GI,'Production Calculator'!$A63+2,FALSE)*$AK63))+IF($AO63=AV$3,$AM63/VLOOKUP($AO63,Data!$A$50:$B$56,2,FALSE),0) -> 0 | AW63: =IF(AW$2=$A63,0,IF(HLOOKUP(AW$2,Recipes!$H:$GI,'Production Calculator'!$A63+2,FALSE)=0,0,HLOOKUP(AW$2,Recipes!$H:$GI,'Production Calculator'!$A63+2,FALSE)*$AK63))+IF($AO63=AW$3,$AM63/VLOOKUP($AO63,Data!$A$50:$B$56,2,FALSE),0) -> 0 | AX63: =IF(AX$2=$A63,0,IF(HLOOKUP(AX$2,Recipes!$H:$GI,'Production Calculator'!$A63+2,FALSE)=0,0,HLOOKUP(AX$2,Recipes!$H:$GI,'Production Calculator'!$A63+2,FALSE)*$AK63))+IF($AO63=AX$3,$AM63/VLOOKUP($AO63,Data!$A$50:$B$56,2,FALSE),0) -> 0 | ... HR63: =IF(HR$2=$A63,0,IF(HLOOKUP(HR$2,Recipes!$H:$GI,'Production Calculator'!$A63+2,FALSE)=0,0,HLOOKUP(HR$2,Recipes!$H:$GI,'Production Calculator'!$A63+2,FALSE)*$AK63))+IF($AO63=HR$3,$AM63/VLOOKUP($AO63,Data!$A$50:$B$56,2,FALSE),0) -> 0
A64: 44 | B64: =VLOOKUP(A64,Recipes!A:B,2) -> Copper cable | C64: 0 | D64: =HLOOKUP(A64,$AQ$2:$HR$202,$A$202-1,FALSE)+C64 -> 0 | E64: Assembly Machine III | F64: =VLOOKUP(A64,Recipes!$A$3:$G$186,6,FALSE) -> 1 | G64: =VLOOKUP(A64,Recipes!$A$3:$G$186,7,FALSE) -> 0 | H64: =ROUNDUP(D64/AL64,0) -> 0 | I64: =VLOOKUP(E64,Data!$A$2:$C$26,3, FALSE) -> 4 | J64: 0 | K64: 0 | L64: 0 | M64: 0 | N64: 0 | O64: 0 | P64: 0 | Q64: 0 | R64: 0 | S64: =J64*$H64 -> 0 | T64: =K64*$H64 -> 0 | U64: =L64*$H64 -> 0 | V64: =M64*$H64 -> 0 | W64: =N64*$H64 -> 0 | X64: =O64*$H64 -> 0 | Y64: =P64*$H64 -> 0 | Z64: =Q64*$H64 -> 0 | AA64: =R64*$H64 -> 0 | AB64: =VLOOKUP($A64,Recipes!$A:$G,4) -> 0.5 | AC64: =VLOOKUP($A64,Recipes!$A:$G,5) -> 2 | AD64: =AC64/AB64 -> 4 | AE64: =VLOOKUP(E64,Data!$A$2:$F$26,5,FALSE) -> 0 | AF64: =VLOOKUP(E64,Data!$A$2:$F$26,4,FALSE) -> 210 | AG64: =VLOOKUP(E64,Data!$A$2:$B$26,2, FALSE) -> 1.25 | AH64: =1+VLOOKUP($J$3,Data!$A$40:$D$48,2,FALSE)*$J64+VLOOKUP($K$3,Data!$A$40:$D$48,2,FALSE)*$K64+VLOOKUP($L$3,Data!$A$40:$D$48,2,FALSE)*$L64+VLOOKUP($M$3,Data!$A$40:$D$48,2,FALSE)*$M64+VLOOKUP($N$3,Data!$A$40:$D$48,2,FALSE)*$N64+VLOOKUP($O$3,Data!$A$40:$D$48,2,FALSE)*$O64+VLOOKUP($P$3,Data!$A$40:$D$48,2,FALSE)*$P64+VLOOKUP($Q$3,Data!$A$40:$D$48,2,FALSE)*$Q64+VLOOKUP($R$3,Data!$A$40:$D$48,2,FALSE)*$R64 -> 1 | AI64: =MAX(1+VLOOKUP($J$3,Data!$A$40:$D$48,3,FALSE)*$J64+VLOOKUP($K$3,Data!$A$40:$D$48,3,FALSE)*$K64+VLOOKUP($L$3,Data!$A$40:$D$48,3,FALSE)*$L64+VLOOKUP($M$3,Data!$A$40:$D$48,3,FALSE)*$M64+VLOOKUP($N$3,Data!$A$40:$D$48,3,FALSE)*$N64+VLOOKUP($O$3,Data!$A$40:$D$48,3,FALSE)*$O64+VLOOKUP($P$3,Data!$A$40:$D$48,3,FALSE)*$P64+VLOOKUP($Q$3,Data!$A$40:$D$48,3,FALSE)*$Q64+VLOOKUP($R$3,Data!$A$40:$D$48,3,FALSE)*$R64,0) -> 1 | AJ64: =MAX(1-(VLOOKUP($J$3,Data!$A$40:$D$48,4,FALSE)*$J64+VLOOKUP($K$3,Data!$A$40:$D$48,4,FALSE)*$K64+VLOOKUP($L$3,Data!$A$40:$D$48,4,FALSE)*$L64+VLOOKUP($M$3,Data!$A$40:$D$48,4,FALSE)*$M64+VLOOKUP($N$3,Data!$A$40:$D$48,4,FALSE)*$N64+VLOOKUP($O$3,Data!$A$40:$D$48,4,FALSE)*$O64+VLOOKUP($P$3,Data!$A$40:$D$48,4,FALSE)*$P64+VLOOKUP($Q$3,Data!$A$40:$D$48,4,FALSE)*$Q64+VLOOKUP($R$3,Data!$A$40:$D$48,4,FALSE)*$R64),0.2) -> 1 | AK64: =D64/(AC64*AH64) -> 0 | AL64: =AD64*AG64*AH64*AI64 -> 5 | AM64: =AE64*H64*AJ64 -> 0 | AN64: =AF64*H64*AJ64 -> 0 | AO64: None | AQ64: =IF(AQ$2=$A64,0,IF(HLOOKUP(AQ$2,Recipes!$H:$GI,'Production Calculator'!$A64+2,FALSE)=0,0,HLOOKUP(AQ$2,Recipes!$H:$GI,'Production Calculator'!$A64+2,FALSE)*$AK64))+IF($AO64=AQ$3,$AM64/VLOOKUP($AO64,Data!$A$50:$B$56,2,FALSE),0) -> 0 | AR64: =IF(AR$2=$A64,0,IF(HLOOKUP(AR$2,Recipes!$H:$GI,'Production Calculator'!$A64+2,FALSE)=0,0,HLOOKUP(AR$2,Recipes!$H:$GI,'Production Calculator'!$A64+2,FALSE)*$AK64))+IF($AO64=AR$3,$AM64/VLOOKUP($AO64,Data!$A$50:$B$56,2,FALSE),0) -> 0 | AS64: =IF(AS$2=$A64,0,IF(HLOOKUP(AS$2,Recipes!$H:$GI,'Production Calculator'!$A64+2,FALSE)=0,0,HLOOKUP(AS$2,Recipes!$H:$GI,'Production Calculator'!$A64+2,FALSE)*$AK64))+IF($AO64=AS$3,$AM64/VLOOKUP($AO64,Data!$A$50:$B$56,2,FALSE),0) -> 0 | AT64: =IF(AT$2=$A64,0,IF(HLOOKUP(AT$2,Recipes!$H:$GI,'Production Calculator'!$A64+2,FALSE)=0,0,HLOOKUP(AT$2,Recipes!$H:$GI,'Production Calculator'!$A64+2,FALSE)*$AK64))+IF($AO64=AT$3,$AM64/VLOOKUP($AO64,Data!$A$50:$B$56,2,FALSE),0) -> 0 | AU64: =IF(AU$2=$A64,0,IF(HLOOKUP(AU$2,Recipes!$H:$GI,'Production Calculator'!$A64+2,FALSE)=0,0,HLOOKUP(AU$2,Recipes!$H:$GI,'Production Calculator'!$A64+2,FALSE)*$AK64))+IF($AO64=AU$3,$AM64/VLOOKUP($AO64,Data!$A$50:$B$56,2,FALSE),0) -> 0 | AV64: =IF(AV$2=$A64,0,IF(HLOOKUP(AV$2,Recipes!$H:$GI,'Production Calculator'!$A64+2,FALSE)=0,0,HLOOKUP(AV$2,Recipes!$H:$GI,'Production Calculator'!$A64+2,FALSE)*$AK64))+IF($AO64=AV$3,$AM64/VLOOKUP($AO64,Data!$A$50:$B$56,2,FALSE),0) -> 0 | AW64: =IF(AW$2=$A64,0,IF(HLOOKUP(AW$2,Recipes!$H:$GI,'Production Calculator'!$A64+2,FALSE)=0,0,HLOOKUP(AW$2,Recipes!$H:$GI,'Production Calculator'!$A64+2,FALSE)*$AK64))+IF($AO64=AW$3,$AM64/VLOOKUP($AO64,Data!$A$50:$B$56,2,FALSE),0) -> 0 | AX64: =IF(AX$2=$A64,0,IF(HLOOKUP(AX$2,Recipes!$H:$GI,'Production Calculator'!$A64+2,FALSE)=0,0,HLOOKUP(AX$2,Recipes!$H:$GI,'Production Calculator'!$A64+2,FALSE)*$AK64))+IF($AO64=AX$3,$AM64/VLOOKUP($AO64,Data!$A$50:$B$56,2,FALSE),0) -> 0 | ... HR64: =IF(HR$2=$A64,0,IF(HLOOKUP(HR$2,Recipes!$H:$GI,'Production Calculator'!$A64+2,FALSE)=0,0,HLOOKUP(HR$2,Recipes!$H:$GI,'Production Calculator'!$A64+2,FALSE)*$AK64))+IF($AO64=HR$3,$AM64/VLOOKUP($AO64,Data!$A$50:$B$56,2,FALSE),0) -> 0
A65: 42 | B65: =VLOOKUP(A65,Recipes!A:B,2) -> Advanced Circuit | C65: 0 | D65: =HLOOKUP(A65,$AQ$2:$HR$202,$A$202-1,FALSE)+C65 -> 0 | E65: Assembly Machine III | F65: =VLOOKUP(A65,Recipes!$A$3:$G$186,6,FALSE) -> 3 | G65: =VLOOKUP(A65,Recipes!$A$3:$G$186,7,FALSE) -> 0 | H65: =ROUNDUP(D65/AL65,0) -> 0 | I65: =VLOOKUP(E65,Data!$A$2:$C$26,3, FALSE) -> 4 | J65: 0 | K65: 0 | L65: 0 | M65: 0 | N65: 0 | O65: 0 | P65: 0 | Q65: 0 | R65: 0 | S65: =J65*$H65 -> 0 | T65: =K65*$H65 -> 0 | U65: =L65*$H65 -> 0 | V65: =M65*$H65 -> 0 | W65: =N65*$H65 -> 0 | X65: =O65*$H65 -> 0 | Y65: =P65*$H65 -> 0 | Z65: =Q65*$H65 -> 0 | AA65: =R65*$H65 -> 0 | AB65: =VLOOKUP($A65,Recipes!$A:$G,4) -> 8 | AC65: =VLOOKUP($A65,Recipes!$A:$G,5) -> 1 | AD65: =AC65/AB65 -> 0.125 | AE65: =VLOOKUP(E65,Data!$A$2:$F$26,5,FALSE) -> 0 | AF65: =VLOOKUP(E65,Data!$A$2:$F$26,4,FALSE) -> 210 | AG65: =VLOOKUP(E65,Data!$A$2:$B$26,2, FALSE) -> 1.25 | AH65: =1+VLOOKUP($J$3,Data!$A$40:$D$48,2,FALSE)*$J65+VLOOKUP($K$3,Data!$A$40:$D$48,2,FALSE)*$K65+VLOOKUP($L$3,Data!$A$40:$D$48,2,FALSE)*$L65+VLOOKUP($M$3,Data!$A$40:$D$48,2,FALSE)*$M65+VLOOKUP($N$3,Data!$A$40:$D$48,2,FALSE)*$N65+VLOOKUP($O$3,Data!$A$40:$D$48,2,FALSE)*$O65+VLOOKUP($P$3,Data!$A$40:$D$48,2,FALSE)*$P65+VLOOKUP($Q$3,Data!$A$40:$D$48,2,FALSE)*$Q65+VLOOKUP($R$3,Data!$A$40:$D$48,2,FALSE)*$R65 -> 1 | AI65: =MAX(1+VLOOKUP($J$3,Data!$A$40:$D$48,3,FALSE)*$J65+VLOOKUP($K$3,Data!$A$40:$D$48,3,FALSE)*$K65+VLOOKUP($L$3,Data!$A$40:$D$48,3,FALSE)*$L65+VLOOKUP($M$3,Data!$A$40:$D$48,3,FALSE)*$M65+VLOOKUP($N$3,Data!$A$40:$D$48,3,FALSE)*$N65+VLOOKUP($O$3,Data!$A$40:$D$48,3,FALSE)*$O65+VLOOKUP($P$3,Data!$A$40:$D$48,3,FALSE)*$P65+VLOOKUP($Q$3,Data!$A$40:$D$48,3,FALSE)*$Q65+VLOOKUP($R$3,Data!$A$40:$D$48,3,FALSE)*$R65,0) -> 1 | AJ65: =MAX(1-(VLOOKUP($J$3,Data!$A$40:$D$48,4,FALSE)*$J65+VLOOKUP($K$3,Data!$A$40:$D$48,4,FALSE)*$K65+VLOOKUP($L$3,Data!$A$40:$D$48,4,FALSE)*$L65+VLOOKUP($M$3,Data!$A$40:$D$48,4,FALSE)*$M65+VLOOKUP($N$3,Data!$A$40:$D$48,4,FALSE)*$N65+VLOOKUP($O$3,Data!$A$40:$D$48,4,FALSE)*$O65+VLOOKUP($P$3,Data!$A$40:$D$48,4,FALSE)*$P65+VLOOKUP($Q$3,Data!$A$40:$D$48,4,FALSE)*$Q65+VLOOKUP($R$3,Data!$A$40:$D$48,4,FALSE)*$R65),0.2) -> 1 | AK65: =D65/(AC65*AH65) -> 0 | AL65: =AD65*AG65*AH65*AI65 -> 0.15625 | AM65: =AE65*H65*AJ65 -> 0 | AN65: =AF65*H65*AJ65 -> 0 | AO65: None | AQ65: =IF(AQ$2=$A65,0,IF(HLOOKUP(AQ$2,Recipes!$H:$GI,'Production Calculator'!$A65+2,FALSE)=0,0,HLOOKUP(AQ$2,Recipes!$H:$GI,'Production Calculator'!$A65+2,FALSE)*$AK65))+IF($AO65=AQ$3,$AM65/VLOOKUP($AO65,Data!$A$50:$B$56,2,FALSE),0) -> 0 | AR65: =IF(AR$2=$A65,0,IF(HLOOKUP(AR$2,Recipes!$H:$GI,'Production Calculator'!$A65+2,FALSE)=0,0,HLOOKUP(AR$2,Recipes!$H:$GI,'Production Calculator'!$A65+2,FALSE)*$AK65))+IF($AO65=AR$3,$AM65/VLOOKUP($AO65,Data!$A$50:$B$56,2,FALSE),0) -> 0 | AS65: =IF(AS$2=$A65,0,IF(HLOOKUP(AS$2,Recipes!$H:$GI,'Production Calculator'!$A65+2,FALSE)=0,0,HLOOKUP(AS$2,Recipes!$H:$GI,'Production Calculator'!$A65+2,FALSE)*$AK65))+IF($AO65=AS$3,$AM65/VLOOKUP($AO65,Data!$A$50:$B$56,2,FALSE),0) -> 0 | AT65: =IF(AT$2=$A65,0,IF(HLOOKUP(AT$2,Recipes!$H:$GI,'Production Calculator'!$A65+2,FALSE)=0,0,HLOOKUP(AT$2,Recipes!$H:$GI,'Production Calculator'!$A65+2,FALSE)*$AK65))+IF($AO65=AT$3,$AM65/VLOOKUP($AO65,Data!$A$50:$B$56,2,FALSE),0) -> 0 | AU65: =IF(AU$2=$A65,0,IF(HLOOKUP(AU$2,Recipes!$H:$GI,'Production Calculator'!$A65+2,FALSE)=0,0,HLOOKUP(AU$2,Recipes!$H:$GI,'Production Calculator'!$A65+2,FALSE)*$AK65))+IF($AO65=AU$3,$AM65/VLOOKUP($AO65,Data!$A$50:$B$56,2,FALSE),0) -> 0 | AV65: =IF(AV$2=$A65,0,IF(HLOOKUP(AV$2,Recipes!$H:$GI,'Production Calculator'!$A65+2,FALSE)=0,0,HLOOKUP(AV$2,Recipes!$H:$GI,'Production Calculator'!$A65+2,FALSE)*$AK65))+IF($AO65=AV$3,$AM65/VLOOKUP($AO65,Data!$A$50:$B$56,2,FALSE),0) -> 0 | AW65: =IF(AW$2=$A65,0,IF(HLOOKUP(AW$2,Recipes!$H:$GI,'Production Calculator'!$A65+2,FALSE)=0,0,HLOOKUP(AW$2,Recipes!$H:$GI,'Production Calculator'!$A65+2,FALSE)*$AK65))+IF($AO65=AW$3,$AM65/VLOOKUP($AO65,Data!$A$50:$B$56,2,FALSE),0) -> 0 | AX65: =IF(AX$2=$A65,0,IF(HLOOKUP(AX$2,Recipes!$H:$GI,'Production Calculator'!$A65+2,FALSE)=0,0,HLOOKUP(AX$2,Recipes!$H:$GI,'Production Calculator'!$A65+2,FALSE)*$AK65))+IF($AO65=AX$3,$AM65/VLOOKUP($AO65,Data!$A$50:$B$56,2,FALSE),0) -> 0 | ... HR65: =IF(HR$2=$A65,0,IF(HLOOKUP(HR$2,Recipes!$H:$GI,'Production Calculator'!$A65+2,FALSE)=0,0,HLOOKUP(HR$2,Recipes!$H:$GI,'Production Calculator'!$A65+2,FALSE)*$AK65))+IF($AO65=HR$3,$AM65/VLOOKUP($AO65,Data!$A$50:$B$56,2,FALSE),0) -> 0
