Workbook
Name Assembly_Machines: Data!$A$2:$A$4

Sheet Dashboard
B2: Rocket Assembly | E2: Mining | F2: Rate (unit/s) | G2: Mining Drills | H2: Basic Belts | I2: Fast Belts | J2: Express Belts | K2: Modules
B3: Launch Period (seconds) | C3: 0 | E3: Iron | F3: ='Production Calculator'!D7 -> 0 | G3: =CONCATENATE(TEXT('Production Calculator'!$H7, "#,##0"), " ", 'Production Calculator'!$E7,"s") -> 0 Electric Mining Drills | H3: =ROUNDUP($F3/VLOOKUP(H$2,Data!$A$58:$B$60,2,FALSE),0) -> 0 | I3: =ROUNDUP($F3/VLOOKUP(I$2,Data!$A$58:$B$60,2,FALSE),0) -> 0 | J3: =ROUNDUP($F3/VLOOKUP(J$2,Data!$A$58:$B$60,2,FALSE),0) -> 0 | K3: ='Production Calculator'!J3 -> Production Module I | L3: ='Production Calculator'!J202 -> 0
B4: Silos Required | C4: ='Production Calculator'!H188 -> 0 | E4: Copper | F4: ='Production Calculator'!D6 -> 0 | G4: =CONCATENATE(TEXT('Production Calculator'!$H6, "#,##0"), " ", 'Production Calculator'!$E6,"s") -> 0 Electric Mining Drills | H4: =ROUNDUP($F4/VLOOKUP(H$2,Data!$A$58:$B$60,2,FALSE),0) -> 0 | I4: =ROUNDUP($F4/VLOOKUP(I$2,Data!$A$58:$B$60,2,FALSE),0) -> 0 | J4: =ROUNDUP($F4/VLOOKUP(J$2,Data!$A$58:$B$60,2,FALSE),0) -> 0 | K4: ='Production Calculator'!K3 -> Production Module II | L4: ='Production Calculator'!K202 -> 0
B5: =K3 -> Production Module I | C5: 0 | E5: Stone | F5: ='Production Calculator'!D9 -> 0 | G5: =CONCATENATE(TEXT('Production Calculator'!$H9, "#,##0"), " ", 'Production Calculator'!$E9,"s") -> 0 Electric Mining Drills | H5: =ROUNDUP($F5/VLOOKUP(H$2,Data!$A$58:$B$60,2,FALSE),0) -> 0 | I5: =ROUNDUP($F5/VLOOKUP(I$2,Data!$A$58:$B$60,2,FALSE),0) -> 0 | J5: =ROUNDUP($F5/VLOOKUP(J$2,Data!$A$58:$B$60,2,FALSE),0) -> 0 | K5: ='Production Calculator'!L3 -> Production Module III | L5: ='Production Calculator'!L202 -> 0
B6: =K4 -> Production Module II | C6: 0 | E6: Coal | F6: ='Production Calculator'!D5 -> 0 | G6: =CONCATENATE(TEXT('Production Calculator'!$H5, "#,##0"), " ", 'Production Calculator'!$E5,"s") -> 0 Electric Mining Drills | H6: =ROUNDUP($F6/VLOOKUP(H$2,Data!$A$58:$B$60,2,FALSE),0) -> 0 | I6: =ROUNDUP($F6/VLOOKUP(I$2,Data!$A$58:$B$60,2,FALSE),0) -> 0 | J6: =ROUNDUP($F6/VLOOKUP(J$2,Data!$A$58:$B$60,2,FALSE),0) -> 0 | K6: ='Production Calculator'!M3 -> Speed Module I | L6: ='Production Calculator'!M202 -> 0
B7: =K5 -> Production Module III | C7: 0 | E7: Smelting | F7: Rate (unit/s) | G7: Furnaces | H7: Basic Belts | I7: Fast Belts | J7: Express Belts | K7: ='Production Calculator'!N3 -> Speed Module II | L7: ='Production Calculator'!N202 -> 0
B8: =K6 -> Speed Module I | C8: 0 | E8: Iron Plates | F8: ='Production Calculator'!D13 -> 0 | G8: =CONCATENATE(TEXT('Production Calculator'!$H13, "#,##0"), " ", 'Production Calculator'!$E13,"s") -> 0 Electric Furnaces | H8: =ROUNDUP($F8/VLOOKUP(H$7,Data!$A$58:$B$60,2,FALSE),0) -> 0 | I8: =ROUNDUP($F8/VLOOKUP(I$7,Data!$A$58:$B$60,2,FALSE),0) -> 0 | J8: =ROUNDUP($F8/VLOOKUP(J$7,Data!$A$58:$B$60,2,FALSE),0) -> 0 | K8: ='Production Calculator'!O3 -> Speed Module III | L8: ='Production Calculator'!O202 -> 0
B9: =K7 -> Speed Module II | C9: 0 | E9: Copper Plates | F9: ='Production Calculator'!D12 -> 0 | G9: =CONCATENATE(TEXT('Production Calculator'!$H12, "#,##0"), " ", 'Production Calculator'!$E12,"s") -> 0 Electric Furnaces | H9: =ROUNDUP($F9/VLOOKUP(H$7,Data!$A$58:$B$60,2,FALSE),0) -> 0 | I9: =ROUNDUP($F9/VLOOKUP(I$7,Data!$A$58:$B$60,2,FALSE),0) -> 0 | J9: =ROUNDUP($F9/VLOOKUP(J$7,Data!$A$58:$B$60,2,FALSE),0) -> 0 | K9: ='Production Calculator'!P3 -> Efficiency Module I | L9: ='Production Calculator'!P202 -> 0
B10: =K8 -> Speed Module III | C10: 0 | E10: Steel Plates | F10: ='Production Calculator'!D14 -> 0 | G10: =CONCATENATE(TEXT('Production Calculator'!$H14, "#,##0"), " ", 'Production Calculator'!$E14,"s") -> 0 Electric Furnaces | H10: =ROUNDUP($F10/VLOOKUP(H$7,Data!$A$58:$B$60,2,FALSE),0) -> 0 | I10: =ROUNDUP($F10/VLOOKUP(I$7,Data!$A$58:$B$60,2,FALSE),0) -> 0 | J10: =ROUNDUP($F10/VLOOKUP(J$7,Data!$A$58:$B$60,2,FALSE),0) -> 0 | K10: ='Production Calculator'!Q3 -> Efficiency Module II | L10: ='Production Calculator'!Q202 -> 0
B11: =K9 -> Efficiency Module I | C11: 0 | E11: Stone Bricks | F11: ='Production Calculator'!D15 -> 0 | G11: =CONCATENATE(TEXT('Production Calculator'!$H15, "#,##0"), " ", 'Production Calculator'!$E15,"s") -> 0 Electric Furnaces | H11: =ROUNDUP($F11/VLOOKUP(H$7,Data!$A$58:$B$60,2,FALSE),0) -> 0 | I11: =ROUNDUP($F11/VLOOKUP(I$7,Data!$A$58:$B$60,2,FALSE),0) -> 0 | J11: =ROUNDUP($F11/VLOOKUP(J$7,Data!$A$58:$B$60,2,FALSE),0) -> 0 | K11: ='Production Calculator'!R3 -> Efficiency Module III | L11: ='Production Calculator'!R202 -> 0
B12: =K10 -> Efficiency Module II | C12: 0 | E12: Oil | F12: Rate (unit/s) | H12: Machinery | I12: Power
B13: =K11 -> Efficiency Module III | C13: 0 | E13: Crude Oil | F13: ='Production Calculator'!D46 -> 0 | G13: ='Production Calculator'!E46 -> Pumpjack (Depleted) | H13: ='Production Calculator'!H46 -> 0 | I13: Total Power (kW) | J13: ='Production Calculator'!AN202 -> 0 | K13: Steam Engines | L13: =ROUNDUP(J13/510,0) -> 0
B14: Productivity Bonus | C14: ='Production Calculator'!AH188 -> 1 | G14: ='Production Calculator'!E47 -> Oil Refinery (Advanced) | H14: ='Production Calculator'!H47 -> 0 | K14: Boilers | L14: =ROUNDUP(L13/10*14,0) -> 0
B15: Speed Bonus | C15: ='Production Calculator'!AI188 -> 1 | E15: Heavy Oil | F15: ='Production Calculator'!D48 -> 0 | G15: Heavy Oil Cracking | H15: ='Production Calculator'!H51 -> 0 | K15: Offshore Pumps | L15: =ROUNDUP(L13/10,0) -> 0
B16: Efficiency Bonus | C16: =1/'Production Calculator'!AJ188 -> 1 | E16: Light Oil | F16: ='Production Calculator'!D49 -> 0 | G16: Light Oil Cracking | H16: ='Production Calculator'!H52 -> 0 | I16: Solar Panels | J16: =ROUNDUP(J13/1000*23.8,0) -> 0 | K16: Fuel | L16: Coal
E17: Sulfuric Acid | F17: ='Production Calculator'!D54 -> 0 | G17: Sulfuric Acid | H17: ='Production Calculator'!H54 -> 0 | I17: Accumulators | J17: =ROUNDUP(0.84*J16,0) -> 0 | K17: Fuel Rate (unit/s) | L17: =J13/VLOOKUP(L16,Data!$A$51:$B$56,2,FALSE) -> 0
E18: Lubricant | F18: ='Production Calculator'!D53 -> 0 | G18: Lubricant | H18: ='Production Calculator'!H53 -> 0
E19: Solid Fuel | F19: ='Production Calculator'!D58 -> 0 | G19: Solid Fuel | H19: =SUM('Production Calculator'!$H$59:$H$61) -> 0
E20: Plastics | F20: ='Production Calculator'!D73 -> 0 | G20: Plastics | H20: ='Production Calculator'!H73 -> 0
G21: Barrel Emptying | H21: ='Production Calculator'!H89 -> 0
G22: Chemical Plants | H22: =SUMIF('Production Calculator'!$E$5:$E$201,Data!$A$19, 'Production Calculator'!$H$4:$H$201) -> 0

Sheet Production Calculator
AB1: Rates | AQ1: Required Input (1/s)
E2: Assembler | I2: Modules | AB2: Base | AG2: Modifiers | AK2: Total | AP2: ID | AQ2: 1 | AR2: 2 | AS2: 3 | AT2: 4 | AU2: 5 | AV2: 6 | AW2: 7 | AX2: 8 | AY2: 9 | AZ2: 10 | BA2: 11 | BB2: 12 | BC2: 13 | BD2: 14 | BE2: 15 | BF2: 16 | BG2: 17 | BH2: 18 | BI2: 19 | BJ2: 20 | BK2: 21 | BL2: 22 | BM2: 23 | BN2: 24 | BO2: 25 | BP2: 26 | BQ2: 27 | BR2: 28 | BS2: 29 | BT2: 30 | BU2: 31 | BV2: 32 | BW2: 33 | BX2: 34 | BY2: 35 | BZ2: 36 | CA2: 37 | CB2: 38 | CC2: 39 | CD2: 40 | CE2: 41 | CF2: 42 | CG2: 43 | CH2: 44 | CI2: 45 | CJ2: 46 | CK2: 47 | CL2: 48 | CM2: 49 | CN2: 50 | CO2: 51 | CP2: 52 | CQ2: 53 | CR2: 54 | CS2: 55 | CT2: 56 | CU2: 57 | CV2: 58 | CW2: 59 | CX2: 60 | CY2: 61 | CZ2: 62 | DA2: 63 | DB2: 64 | DC2: 65 | DD2: 66 | DE2: 67 | DF2: 68 | DG2: 69 | DH2: 70 | DI2: 71 | DJ2: 72 | DK2: 73 | DL2: 74 | DM2: 75 | DN2: 76 | DO2: 77 | DP2: 78 | DQ2: 79 | DR2: 80 | DS2: 81 | DT2: 82 | DU2: 83 | DV2: 84 | DW2: 85 | DX2: 86 | DY2: 87 | DZ2: 88 | EA2: 89 | EB2: 90 | EC2: 91 | ED2: 92 | EE2: 93 | EF2: 94 | EG2: 95 | EH2: 96 | EI2: 97 | EJ2: 98 | EK2: 99 | EL2: 100 | EM2: 101 | EN2: 102 | EO2: 103 | EP2: 104 | EQ2: 105 | ER2: 106 | ES2: 107 | ET2: 108 | EU2: 109 | EV2: 110 | EW2: 111 | EX2: 112 | EY2: 113 | EZ2: 114 | FA2: 115 | FB2: 116 | FC2: 117 | FD2: 118 | FE2: 119 | FF2: 120 | FG2: 121 | FH2: 122 | FI2: 123 | FJ2: 124 | FK2: 125 | FL2: 126 | FM2: 127 | FN2: 128 | FO2: 129 | FP2: 130 | FQ2: 131 | FR2: 132 | FS2: 133 | FT2: 134 | FU2: 135 | FV2: 136 | FW2: 137 | FX2: 138 | FY2: 139 | FZ2: 140 | GA2: 141 | GB2: 142 | GC2: 143 | GD2: 144 | GE2: 145 | GF2: 146 | GG2: 147 | GH2: 148 | GI2: 149 | GJ2: 150 | GK2: 151 | GL2: 152 | GM2: 153 | GN2: 154 | GO2: 155 | GP2: 156 | GQ2: 157 | GR2: 158 | GS2: 159 | GT2: 160 | GU2: 161 | GV2: 162 | GW2: 163 | GX2: 164 | GY2: 165 | GZ2: 166 | HA2: 167 | HB2: 168 | HC2: 169 | HD2: 170 | HE2: 171 | HF2: 172 | HG2: 173 | HH2: 174 | HI2: 175 | HJ2: 176 | HK2: 177 | HL2: 178 | HM2: 179 | HN2: 180 | HO2: 181 | HP2: 182 | HQ2: 183 | HR2: 184
A3: ID | C3: Desired Output (unit/s) | D3: Total Output (unit/s) | E3: Machine | F3: Ingredients | G3: Liquids | H3: Machines Required | I3: Module Slots | J3: Production Module I | K3: Production Module II | L3: Production Module III | M3: Speed Module I | N3: Speed Module II | O3: Speed Module III | P3: Efficiency Module I | Q3: Efficiency Module II | R3: Efficiency Module III | S3: Production Module I | T3: Production Module II | U3: Production Module III | V3: Speed Module I | W3: Speed Module II | X3: Speed Module III | Y3: Efficiency Module I | Z3: Efficiency Module II | AA3: Efficiency Module III | AB3: Recipe Time (s) | AC3: Recipe Production (unit/cycle) | AD3: Recipe Rate (unit/s) | AE3: Fuel Power (kW) | AF3: Electric Power (kW) | AG3: Assembly Speed | AH3: Productivity Bonus | AI3: Speed Bonus | AJ3: Efficiency Bonus | AK3: Production Rate (Cycle/sec) | AL3: Assembly Rate (Unit/sec) | AM3: Fuel Power (kW) | AN3: Electric Power (kW) | AO3: Fuel Source | AQ3: =VLOOKUP(AQ2,Recipes!$A:$B,2) -> Copper plate | AR3: =VLOOKUP(AR2,Recipes!$A:$B,2) -> Iron plate | AS3: =VLOOKUP(AS2,Recipes!$A:$B,2) -> Steel plate | AT3: =VLOOKUP(AT2,Recipes!$A:$B,2) -> Stone brick | AU3: =VLOOKUP(AU2,Recipes!$A:$B,2) -> Concrete | AV3: =VLOOKUP(AV2,Recipes!$A:$B,2) -> Hazard concrete | AW3: =VLOOKUP(AW2,Recipes!$A:$B,2) -> Lamp | AX3: =VLOOKUP(AX2,Recipes!$A:$B,2) -> Landfill | ... HR3: =VLOOKUP(HR2,Recipes!$A:$B,2) -> Solid fuel (Petroleum)
B4: Raw Material | AC4: (Hardness)
A5: 39 | B5: =VLOOKUP(A5,Recipes!A:B,2) -> Coal | C5: 0 | D5: =HLOOKUP(A5,$AQ$2:$HR$202,$A$202-1,FALSE)+C5 -> 0 | E5: Electric Mining Drill | F5: =VLOOKUP(A5,Recipes!$A$3:$G$186,6,FALSE) -> 0 | G5: =VLOOKUP(A5,Recipes!$A$3:$G$186,7,FALSE) -> 0 | H5: =ROUNDUP(D5/AL5,0) -> 0 | I5: =VLOOKUP(E5,Data!$A$2:$C$26,3, FALSE) -> 0 | J5: 0 | K5: 0 | L5: 0 | M5: 0 | N5: 0 | O5: 0 | P5: 0 | Q5: 0 | R5: 0 | S5: =J5*$H5 -> 0 | T5: =K5*$H5 -> 0 | U5: =L5*$H5 -> 0 | V5: =M5*$H5 -> 0 | W5: =N5*$H5 -> 0 | X5: =O5*$H5 -> 0 | Y5: =P5*$H5 -> 0 | Z5: =Q5*$H5 -> 0 | AA5: =R5*$H5 -> 0 | AB5: =VLOOKUP(B5,Data!$A$28:$C$31,2,FALSE) -> 2 | AC5: =VLOOKUP(B5,Data!$A$28:$C$31,3,FALSE) -> 0.9 | AD5: =(VLOOKUP(E5,Data!$A$6:$F$7,6,FALSE)-AC5)/AB5 -> 1.05 | AE5: =VLOOKUP(E5,Data!$A$2:$F$26,5,FALSE) -> 0 | AF5: =VLOOKUP(E5,Data!$A$2:$F$26,4,FALSE) -> 90 | AG5: =VLOOKUP(E5,Data!$A$6:$F$7,2,FALSE) -> 0.5 | AH5: =1+VLOOKUP($J$3,Data!$A$40:$D$48,2,FALSE)*$J5+VLOOKUP($K$3,Data!$A$40:$D$48,2,FALSE)*$K5+VLOOKUP($L$3,Data!$A$40:$D$48,2,FALSE)*$L5+VLOOKUP($M$3,Data!$A$40:$D$48,2,FALSE)*$M5+VLOOKUP($N$3,Data!$A$40:$D$48,2,FALSE)*$N5+VLOOKUP($O$3,Data!$A$40:$D$48,2,FALSE)*$O5+VLOOKUP($P$3,Data!$A$40:$D$48,2,FALSE)*$P5+VLOOKUP($Q$3,Data!$A$40:$D$48,2,FALSE)*$Q5+VLOOKUP($R$3,Data!$A$40:$D$48,2,FALSE)*$R5 -> 1 | AI5: =MAX(1+VLOOKUP($J$3,Data!$A$40:$D$48,3,FALSE)*$J5+VLOOKUP($K$3,Data!$A$40:$D$48,3,FALSE)*$K5+VLOOKUP($L$3,Data!$A$40:$D$48,3,FALSE)*$L5+VLOOKUP($M$3,Data!$A$40:$D$48,3,FALSE)*$M5+VLOOKUP($N$3,Data!$A$40:$D$48,3,FALSE)*$N5+VLOOKUP($O$3,Data!$A$40:$D$48,3,FALSE)*$O5+VLOOKUP($P$3,Data!$A$40:$D$48,3,FALSE)*$P5+VLOOKUP($Q$3,Data!$A$40:$D$48,3,FALSE)*$Q5+VLOOKUP($R$3,Data!$A$40:$D$48,3,FALSE)*$R5,0) -> 1 | AJ5: =MAX(1-(VLOOKUP($J$3,Data!$A$40:$D$48,4,FALSE)*$J5+VLOOKUP($K$3,Data!$A$40:$D$48,4,FALSE)*$K5+VLOOKUP($L$3,Data!$A$40:$D$48,4,FALSE)*$L5+VLOOKUP($M$3,Data!$A$40:$D$48,4,FALSE)*$M5+VLOOKUP($N$3,Data!$A$40:$D$48,4,FALSE)*$N5+VLOOKUP($O$3,Data!$A$40:$D$48,4,FALSE)*$O5+VLOOKUP($P$3,Data!$A$40:$D$48,4,FALSE)*$P5+VLOOKUP($Q$3,Data!$A$40:$D$48,4,FALSE)*$Q5+VLOOKUP($R$3,Data!$A$40:$D$48,4,FALSE)*$R5),0.2) -> 1 | AK5: =D5*AC5/(AD5*AH5) -> 0 | AL5: =AD5*AG5*AH5*AI5 -> 0.525 | AM5: =AE5*H5*AJ5 -> 0 | AN5: =AF5*H5*AJ5 -> 0 | AO5: None | AQ5: =IF(AQ$2=$A5,0,IF(HLOOKUP(AQ$2,Recipes!$H:$GI,'Production Calculator'!$A5+2,FALSE)=0,0,HLOOKUP(AQ$2,Recipes!$H:$GI,'Production Calculator'!$A5+2,FALSE)*$AK5))+IF($AO5=AQ$3,$AM5/VLOOKUP($AO5,Data!$A$50:$B$56,2,FALSE),0) -> 0 | AR5: =IF(AR$2=$A5,0,IF(HLOOKUP(AR$2,Recipes!$H:$GI,'Production Calculator'!$A5+2,FALSE)=0,0,HLOOKUP(AR$2,Recipes!$H:$GI,'Production Calculator'!$A5+2,FALSE)*$AK5))+IF($AO5=AR$3,$AM5/VLOOKUP($AO5,Data!$A$50:$B$56,2,FALSE),0) -> 0 | AS5: =IF(AS$2=$A5,0,IF(HLOOKUP(AS$2,Recipes!$H:$GI,'Production Calculator'!$A5+2,FALSE)=0,0,HLOOKUP(AS$2,Recipes!$H:$GI,'Production Calculator'!$A5+2,FALSE)*$AK5))+IF($AO5=AS$3,$AM5/VLOOKUP($AO5,Data!$A$50:$B$56,2,FALSE),0) -> 0 | AT5: =IF(AT$2=$A5,0,IF(HLOOKUP(AT$2,Recipes!$H:$GI,'Production Calculator'!$A5+2,FALSE)=0,0,HLOOKUP(AT$2,Recipes!$H:$GI,'Production Calculator'!$A5+2,FALSE)*$AK5))+IF($AO5=AT$3,$AM5/VLOOKUP($AO5,Data!$A$50:$B$56,2,FALSE),0) -> 0 | AU5: =IF(AU$2=$A5,0,IF(HLOOKUP(AU$2,Recipes!$H:$GI,'Production Calculator'!$A5+2,FALSE)=0,0,HLOOKUP(AU$2,Recipes!$H:$GI,'Production Calculator'!$A5+2,FALSE)*$AK5))+IF($AO5=AU$3,$AM5/VLOOKUP($AO5,Data!$A$50:$B$56,2,FALSE),0) -> 0 | AV5: =IF(AV$2=$A5,0,IF(HLOOKUP(AV$2,Recipes!$H:$GI,'Production Calculator'!$A5+2,FALSE)=0,0,HLOOKUP(AV$2,Recipes!$H:$GI,'Production Calculator'!$A5+2,FALSE)*$AK5))+IF($AO5=AV$3,$AM5/VLOOKUP($AO5,Data!$A$50:$B$56,2,FALSE),0) -> 0 | AW5: =IF(AW$2=$A5,0,IF(HLOOKUP(AW$2,Recipes!$H:$GI,'Production Calculator'!$A5+2,FALSE)=0,0,HLOOKUP(AW$2,Recipes!$H:$GI,'Production Calculator'!$A5+2,FALSE)*$AK5))+IF($AO5=AW$3,$AM5/VLOOKUP($AO5,Data!$A$50:$B$56,2,FALSE),0) -> 0 | AX5: =IF(AX$2=$A5,0,IF(HLOOKUP(AX$2,Recipes!$H:$GI,'Production Calculator'!$A5+2,FALSE)=0,0,HLOOKUP(AX$2,Recipes!$H:$GI,'Production Calculator'!$A5+2,FALSE)*$AK5))+IF($AO5=AX$3,$AM5/VLOOKUP($AO5,Data!$A$50:$B$56,2,FALSE),0) -> 0 | ... HR5: =IF(HR$2=$A5,0,IF(HLOOKUP(HR$2,Recipes!$H:$GI,'Production Calculator'!$A5+2,FALSE)=0,0,HLOOKUP(HR$2,Recipes!$H:$GI,'Production Calculator'!$A5+2,FALSE)*$AK5))+IF($AO5=HR$3,$AM5/VLOOKUP($AO5,Data!$A$50:$B$56,2,FALSE),0) -> 0
A6: 157 | B6: =VLOOKUP(A6,Recipes!A:B,2) -> Copper ore | C6: 0 | D6: =HLOOKUP(A6,$AQ$2:$HR$202,$A$202-1,FALSE)+C6 -> 0 | E6: Electric Mining Drill | F6: =VLOOKUP(A6,Recipes!$A$3:$G$186,6,FALSE) -> 0 | G6: =VLOOKUP(A6,Recipes!$A$3:$G$186,7,FALSE) -> 0 | H6: =ROUNDUP(D6/AL6,0) -> 0 | I6: =VLOOKUP(E6,Data!$A$2:$C$26,3, FALSE) -> 0 | J6: 0 | K6: 0 | L6: 0 | M6: 0 | N6: 0 | O6: 0 | P6: 0 | Q6: 0 | R6: 0 | S6: =J6*$H6 -> 0 | T6: =K6*$H6 -> 0 | U6: =L6*$H6 -> 0 | V6: =M6*$H6 -> 0 | W6: =N6*$H6 -> 0 | X6: =O6*$H6 -> 0 | Y6: =P6*$H6 -> 0 | Z6: =Q6*$H6 -> 0 | AA6: =R6*$H6 -> 0 | AB6: =VLOOKUP(B6,Data!$A$28:$C$31,2,FALSE) -> 2 | AC6: =VLOOKUP(B6,Data!$A$28:$C$31,3,FALSE) -> 0.9 | AD6: =(VLOOKUP(E6,Data!$A$6:$F$7,6,FALSE)-AC6)/AB6 -> 1.05 | AE6: =VLOOKUP(E6,Data!$A$2:$F$26,5,FALSE) -> 0 | AF6: =VLOOKUP(E6,Data!$A$2:$F$26,4,FALSE) -> 90 | AG6: =VLOOKUP(E6,Data!$A$6:$F$7,2,FALSE) -> 0.5 | AH6: =1+VLOOKUP($J$3,Data!$A$40:$D$48,2,FALSE)*$J6+VLOOKUP($K$3,Data!$A$40:$D$48,2,FALSE)*$K6+VLOOKUP($L$3,Data!$A$40:$D$48,2,FALSE)*$L6+VLOOKUP($M$3,Data!$A$40:$D$48,2,FALSE)*$M6+VLOOKUP($N$3,Data!$A$40:$D$48,2,FALSE)*$N6+VLOOKUP($O$3,Data!$A$40:$D$48,2,FALSE)*$O6+VLOOKUP($P$3,Data!$A$40:$D$48,2,FALSE)*$P6+VLOOKUP($Q$3,Data!$A$40:$D$48,2,FALSE)*$Q6+VLOOKUP($R$3,Data!$A$40:$D$48,2,FALSE)*$R6 -> 1 | AI6: =MAX(1+VLOOKUP($J$3,Data!$A$40:$D$48,3,FALSE)*$J6+VLOOKUP($K$3,Data!$A$40:$D$48,3,FALSE)*$K6+VLOOKUP($L$3,Data!$A$40:$D$48,3,FALSE)*$L6+VLOOKUP($M$3,Data!$A$40:$D$48,3,FALSE)*$M6+VLOOKUP($N$3,Data!$A$40:$D$48,3,FALSE)*$N6+VLOOKUP($O$3,Data!$A$40:$D$48,3,FALSE)*$O6+VLOOKUP($P$3,Data!$A$40:$D$48,3,FALSE)*$P6+VLOOKUP($Q$3,Data!$A$40:$D$48,3,FALSE)*$Q6+VLOOKUP($R$3,Data!$A$40:$D$48,3,FALSE)*$R6,0) -> 1 | AJ6: =MAX(1-(VLOOKUP($J$3,Data!$A$40:$D$48,4,FALSE)*$J6+VLOOKUP($K$3,Data!$A$40:$D$48,4,FALSE)*$K6+VLOOKUP($L$3,Data!$A$40:$D$48,4,FALSE)*$L6+VLOOKUP($M$3,Data!$A$40:$D$48,4,FALSE)*$M6+VLOOKUP($N$3,Data!$A$40:$D$48,4,FALSE)*$N6+VLOOKUP($O$3,Data!$A$40:$D$48,4,FALSE)*$O6+VLOOKUP($P$3,Data!$A$40:$D$48,4,FALSE)*$P6+VLOOKUP($Q$3,Data!$A$40:$D$48,4,FALSE)*$Q6+VLOOKUP($R$3,Data!$A$40:$D$48,4,FALSE)*$R6),0.2) -> 1 | AK6: =D6*AC6/(AD6*AH6) -> 0 | AL6: =AD6*AG6*AH6*AI6 -> 0.525 | AM6: =AE6*H6*AJ6 -> 0 | AN6: =AF6*H6*AJ6 -> 0 | AO6: None | AQ6: =IF(AQ$2=$A6,0,IF(HLOOKUP(AQ$2,Recipes!$H:$GI,'Production Calculator'!$A6+2,FALSE)=0,0,HLOOKUP(AQ$2,Recipes!$H:$GI,'Production Calculator'!$A6+2,FALSE)*$AK6))+IF($AO6=AQ$3,$AM6/VLOOKUP($AO6,Data!$A$50:$B$56,2,FALSE),0) -> 0 | AR6: =IF(AR$2=$A6,0,IF(HLOOKUP(AR$2,Recipes!$H:$GI,'Production Calculator'!$A6+2,FALSE)=0,0,HLOOKUP(AR$2,Recipes!$H:$GI,'Production Calculator'!$A6+2,FALSE)*$AK6))+IF($AO6=AR$3,$AM6/VLOOKUP($AO6,Data!$A$50:$B$56,2,FALSE),0) -> 0 | AS6: =IF(AS$2=$A6,0,IF(HLOOKUP(AS$2,Recipes!$H:$GI,'Production Calculator'!$A6+2,FALSE)=0,0,HLOOKUP(AS$2,Recipes!$H:$GI,'Production Calculator'!$A6+2,FALSE)*$AK6))+IF($AO6=AS$3,$AM6/VLOOKUP($AO6,Data!$A$50:$B$56,2,FALSE),0) -> 0 | AT6: =IF(AT$2=$A6,0,IF(HLOOKUP(AT$2,Recipes!$H:$GI,'Production Calculator'!$A6+2,FALSE)=0,0,HLOOKUP(AT$2,Recipes!$H:$GI,'Production Calculator'!$A6+2,FALSE)*$AK6))+IF($AO6=AT$3,$AM6/VLOOKUP($AO6,Data!$A$50:$B$56,2,FALSE),0) -> 0 | AU6: =IF(AU$2=$A6,0,IF(HLOOKUP(AU$2,Recipes!$H:$GI,'Production Calculator'!$A6+2,FALSE)=0,0,HLOOKUP(AU$2,Recipes!$H:$GI,'Production Calculator'!$A6+2,FALSE)*$AK6))+IF($AO6=AU$3,$AM6/VLOOKUP($AO6,Data!$A$50:$B$56,2,FALSE),0) -> 0 | AV6: =IF(AV$2=$A6,0,IF(HLOOKUP(AV$2,Recipes!$H:$GI,'Production Calculator'!$A6+2,FALSE)=0,0,HLOOKUP(AV$2,Recipes!$H:$GI,'Production Calculator'!$A6+2,FALSE)*$AK6))+IF($AO6=AV$3,$AM6/VLOOKUP($AO6,Data!$A$50:$B$56,2,FALSE),0) -> 0 | AW6: =IF(AW$2=$A6,0,IF(HLOOKUP(AW$2,Recipes!$H:$GI,'Production Calculator'!$A6+2,FALSE)=0,0,HLOOKUP(AW$2,Recipes!$H:$GI,'Production Calculator'!$A6+2,FALSE)*$AK6))+IF($AO6=AW$3,$AM6/VLOOKUP($AO6,Data!$A$50:$B$56,2,FALSE),0) -> 0 | AX6: =IF(AX$2=$A6,0,IF(HLOOKUP(AX$2,Recipes!$H:$GI,'Production Calculator'!$A6+2,FALSE)=0,0,HLOOKUP(AX$2,Recipes!$H:$GI,'Production Calculator'!$A6+2,FALSE)*$AK6))+IF($AO6=AX$3,$AM6/VLOOKUP($AO6,Data!$A$50:$B$56,2,FALSE),0) -> 0 | ... HR6: =IF(HR$2=$A6,0,IF(HLOOKUP(HR$2,Recipes!$H:$GI,'Production Calculator'!$A6+2,FALSE)=0,0,HLOOKUP(HR$2,Recipes!$H:$GI,'Production Calculator'!$A6+2,FALSE)*$AK6))+IF($AO6=HR$3,$AM6/VLOOKUP($AO6,Data!$A$50:$B$56,2,FALSE),0) -> 0
A7: 158 | B7: =VLOOKUP(A7,Recipes!A:B,2) -> Iron ore | C7: 0 | D7: =HLOOKUP(A7,$AQ$2:$HR$202,$A$202-1,FALSE)+C7 -> 0 | E7: Electric Mining Drill | F7: =VLOOKUP(A7,Recipes!$A$3:$G$186,6,FALSE) -> 0 | G7: =VLOOKUP(A7,Recipes!$A$3:$G$186,7,FALSE) -> 0 | H7: =ROUNDUP(D7/AL7,0) -> 0 | I7: =VLOOKUP(E7,Data!$A$2:$C$26,3, FALSE) -> 0 | J7: 0 | K7: 0 | L7: 0 | M7: 0 | N7: 0 | O7: 0 | P7: 0 | Q7: 0 | R7: 0 | S7: =J7*$H7 -> 0 | T7: =K7*$H7 -> 0 | U7: =L7*$H7 -> 0 | V7: =M7*$H7 -> 0 | W7: =N7*$H7 -> 0 | X7: =O7*$H7 -> 0 | Y7: =P7*$H7 -> 0 | Z7: =Q7*$H7 -> 0 | AA7: =R7*$H7 -> 0 | AB7: =VLOOKUP(B7,Data!$A$28:$C$31,2,FALSE) -> 2 | AC7: =VLOOKUP(B7,Data!$A$28:$C$31,3,FALSE) -> 0.9 | AD7: =(VLOOKUP(E7,Data!$A$6:$F$7,6,FALSE)-AC7)/AB7 -> 1.05 | AE7: =VLOOKUP(E7,Data!$A$2:$F$26,5,FALSE) -> 0 | AF7: =VLOOKUP(E7,Data!$A$2:$F$26,4,FALSE) -> 90 | AG7: =VLOOKUP(E7,Data!$A$6:$F$7,2,FALSE) -> 0.5 | AH7: =1+VLOOKUP($J$3,Data!$A$40:$D$48,2,FALSE)*$J7+VLOOKUP($K$3,Data!$A$40:$D$48,2,FALSE)*$K7+VLOOKUP($L$3,Data!$A$40:$D$48,2,FALSE)*$L7+VLOOKUP($M$3,Data!$A$40:$D$48,2,FALSE)*$M7+VLOOKUP($N$3,Data!$A$40:$D$48,2,FALSE)*$N7+VLOOKUP($O$3,Data!$A$40:$D$48,2,FALSE)*$O7+VLOOKUP($P$3,Data!$A$40:$D$48,2,FALSE)*$P7+VLOOKUP($Q$3,Data!$A$40:$D$48,2,FALSE)*$Q7+VLOOKUP($R$3,Data!$A$40:$D$48,2,FALSE)*$R7 -> 1 | AI7: =MAX(1+VLOOKUP($J$3,Data!$A$40:$D$48,3,FALSE)*$J7+VLOOKUP($K$3,Data!$A$40:$D$48,3,FALSE)*$K7+VLOOKUP($L$3,Data!$A$40:$D$48,3,FALSE)*$L7+VLOOKUP($M$3,Data!$A$40:$D$48,3,FALSE)*$M7+VLOOKUP($N$3,Data!$A$40:$D$48,3,FALSE)*$N7+VLOOKUP($O$3,Data!$A$40:$D$48,3,FALSE)*$O7+VLOOKUP($P$3,Data!$A$40:$D$48,3,FALSE)*$P7+VLOOKUP($Q$3,Data!$A$40:$D$48,3,FALSE)*$Q7+VLOOKUP($R$3,Data!$A$40:$D$48,3,FALSE)*$R7,0) -> 1 | AJ7: =MAX(1-(VLOOKUP($J$3,Data!$A$40:$D$48,4,FALSE)*$J7+VLOOKUP($K$3,Data!$A$40:$D$48,4,FALSE)*$K7+VLOOKUP($L$3,Data!$A$40:$D$48,4,FALSE)*$L7+VLOOKUP($M$3,Data!$A$40:$D$48,4,FALSE)*$M7+VLOOKUP($N$3,Data!$A$40:$D$48,4,FALSE)*$N7+VLOOKUP($O$3,Data!$A$40:$D$48,4,FALSE)*$O7+VLOOKUP($P$3,Data!$A$40:$D$48,4,FALSE)*$P7+VLOOKUP($Q$3,Data!$A$40:$D$48,4,FALSE)*$Q7+VLOOKUP($R$3,Data!$A$40:$D$48,4,FALSE)*$R7),0.2) -> 1 | AK7: =D7*AC7/(AD7*AH7) -> 0 | AL7: =AD7*AG7*AH7*AI7 -> 0.525 | AM7: =AE7*H7*AJ7 -> 0 | AN7: =AF7*H7*AJ7 -> 0 | AO7: None | AQ7: =IF(AQ$2=$A7,0,IF(HLOOKUP(AQ$2,Recipes!$H:$GI,'Production Calculator'!$A7+2,FALSE)=0,0,HLOOKUP(AQ$2,Recipes!$H:$GI,'Production Calculator'!$A7+2,FALSE)*$AK7))+IF($AO7=AQ$3,$AM7/VLOOKUP($AO7,Data!$A$50:$B$56,2,FALSE),0) -> 0 | AR7: =IF(AR$2=$A7,0,IF(HLOOKUP(AR$2,Recipes!$H:$GI,'Production Calculator'!$A7+2,FALSE)=0,0,HLOOKUP(AR$2,Recipes!$H:$GI,'Production Calculator'!$A7+2,FALSE)*$AK7))+IF($AO7=AR$3,$AM7/VLOOKUP($AO7,Data!$A$50:$B$56,2,FALSE),0) -> 0 | AS7: =IF(AS$2=$A7,0,IF(HLOOKUP(AS$2,Recipes!$H:$GI,'Production Calculator'!$A7+2,FALSE)=0,0,HLOOKUP(AS$2,Recipes!$H:$GI,'Production Calculator'!$A7+2,FALSE)*$AK7))+IF($AO7=AS$3,$AM7/VLOOKUP($AO7,Data!$A$50:$B$56,2,FALSE),0) -> 0 | AT7: =IF(AT$2=$A7,0,IF(HLOOKUP(AT$2,Recipes!$H:$GI,'Production Calculator'!$A7+2,FALSE)=0,0,HLOOKUP(AT$2,Recipes!$H:$GI,'Production Calculator'!$A7+2,FALSE)*$AK7))+IF($AO7=AT$3,$AM7/VLOOKUP($AO7,Data!$A$50:$B$56,2,FALSE),0) -> 0 | AU7: =IF(AU$2=$A7,0,IF(HLOOKUP(AU$2,Recipes!$H:$GI,'Production Calculator'!$A7+2,FALSE)=0,0,HLOOKUP(AU$2,Recipes!$H:$GI,'Production Calculator'!$A7+2,FALSE)*$AK7))+IF($AO7=AU$3,$AM7/VLOOKUP($AO7,Data!$A$50:$B$56,2,FALSE),0) -> 0 | AV7: =IF(AV$2=$A7,0,IF(HLOOKUP(AV$2,Recipes!$H:$GI,'Production Calculator'!$A7+2,FALSE)=0,0,HLOOKUP(AV$2,Recipes!$H:$GI,'Production Calculator'!$A7+2,FALSE)*$AK7))+IF($AO7=AV$3,$AM7/VLOOKUP($AO7,Data!$A$50:$B$56,2,FALSE),0) -> 0 | AW7: =IF(AW$2=$A7,0,IF(HLOOKUP(AW$2,Recipes!$H:$GI,'Production Calculator'!$A7+2,FALSE)=0,0,HLOOKUP(AW$2,Recipes!$H:$GI,'Production Calculator'!$A7+2,FALSE)*$AK7))+IF($AO7=AW$3,$AM7/VLOOKUP($AO7,Data!$A$50:$B$56,2,FALSE),0) -> 0 | AX7: =IF(AX$2=$A7,0,IF(HLOOKUP(AX$2,Recipes!$H:$GI,'Production Calculator'!$A7+2,FALSE)=0,0,HLOOKUP(AX$2,Recipes!$H:$GI,'Production Calculator'!$A7+2,FALSE)*$AK7))+IF($AO7=AX$3,$AM7/VLOOKUP($AO7,Data!$A$50:$B$56,2,FALSE),0) -> 0 | ... HR7: =IF(HR$2=$A7,0,IF(HLOOKUP(HR$2,Recipes!$H:$GI,'Production Calculator'!$A7+2,FALSE)=0,0,HLOOKUP(HR$2,Recipes!$H:$GI,'Production Calculator'!$A7+2,FALSE)*$AK7))+IF($AO7=HR$3,$AM7/VLOOKUP($AO7,Data!$A$50:$B$56,2,FALSE),0) -> 0
A8: 159 | B8: =VLOOKUP(A8,Recipes!A:B,2) -> Raw wood | C8: 0 | D8: =HLOOKUP(A8,$AQ$2:$HR$202,$A$202-1,FALSE)+C8 -> 0 | E8: 0 | F8: 0 | G8: 0 | H8: 0 | I8: 0 | J8: 0 | K8: 0 | L8: 0 | M8: 0 | N8: 0 | O8: 0 | P8: 0 | Q8: 0 | R8: 0 | S8: =J8*$H8 -> 0 | T8: =K8*$H8 -> 0 | U8: =L8*$H8 -> 0 | V8: =M8*$H8 -> 0 | W8: =N8*$H8 -> 0 | X8: =O8*$H8 -> 0 | Y8: =P8*$H8 -> 0 | Z8: =Q8*$H8 -> 0 | AA8: =R8*$H8 -> 0 | AB8: =VLOOKUP($A8,Recipes!$A:$G,4) -> 0 | AC8: =VLOOKUP($A8,Recipes!$A:$G,5) -> 0 | AD8: 0 | AE8: 0 | AF8: 0 | AG8: 0 | AH8: 0 | AI8: 0 | AJ8: 0 | AK8: 0 | AL8: =AD8*AG8*AH8*AI8 -> 0 | AM8: =AE8*H8*AJ8 -> 0 | AN8: =AF8*H8*AJ8 -> 0 | AO8: None | AQ8: =IF(AQ$2=$A8,0,IF(HLOOKUP(AQ$2,Recipes!$H:$GI,'Production Calculator'!$A8+2,FALSE)=0,0,HLOOKUP(AQ$2,Recipes!$H:$GI,'Production Calculator'!$A8+2,FALSE)*$AK8))+IF($AO8=AQ$3,$AM8/VLOOKUP($AO8,Data!$A$50:$B$56,2,FALSE),0) -> 0 | AR8: =IF(AR$2=$A8,0,IF(HLOOKUP(AR$2,Recipes!$H:$GI,'Production Calculator'!$A8+2,FALSE)=0,0,HLOOKUP(AR$2,Recipes!$H:$GI,'Production Calculator'!$A8+2,FALSE)*$AK8))+IF($AO8=AR$3,$AM8/VLOOKUP($AO8,Data!$A$50:$B$56,2,FALSE),0) -> 0 | AS8: =IF(AS$2=$A8,0,IF(HLOOKUP(AS$2,Recipes!$H:$GI,'Production Calculator'!$A8+2,FALSE)=0,0,HLOOKUP(AS$2,Recipes!$H:$GI,'Production Calculator'!$A8+2,FALSE)*$AK8))+IF($AO8=AS$3,$AM8/VLOOKUP($AO8,Data!$A$50:$B$56,2,FALSE),0) -> 0 | AT8: =IF(AT$2=$A8,0,IF(HLOOKUP(AT$2,Recipes!$H:$GI,'Production Calculator'!$A8+2,FALSE)=0,0,HLOOKUP(AT$2,Recipes!$H:$GI,'Production Calculator'!$A8+2,FALSE)*$AK8))+IF($AO8=AT$3,$AM8/VLOOKUP($AO8,Data!$A$50:$B$56,2,FALSE),0) -> 0 | AU8: =IF(AU$2=$A8,0,IF(HLOOKUP(AU$2,Recipes!$H:$GI,'Production Calculator'!$A8+2,FALSE)=0,0,HLOOKUP(AU$2,Recipes!$H:$GI,'Production Calculator'!$A8+2,FALSE)*$AK8))+IF($AO8=AU$3,$AM8/VLOOKUP($AO8,Data!$A$50:$B$56,2,FALSE),0) -> 0 | AV8: =IF(AV$2=$A8,0,IF(HLOOKUP(AV$2,Recipes!$H:$GI,'Production Calculator'!$A8+2,FALSE)=0,0,HLOOKUP(AV$2,Recipes!$H:$GI,'Production Calculator'!$A8+2,FALSE)*$AK8))+IF($AO8=AV$3,$AM8/VLOOKUP($AO8,Data!$A$50:$B$56,2,FALSE),0) -> 0 | AW8: =IF(AW$2=$A8,0,IF(HLOOKUP(AW$2,Recipes!$H:$GI,'Production Calculator'!$A8+2,FALSE)=0,0,HLOOKUP(AW$2,Recipes!$H:$GI,'Production Calculator'!$A8+2,FALSE)*$AK8))+IF($AO8=AW$3,$AM8/VLOOKUP($AO8,Data!$A$50:$B$56,2,FALSE),0) -> 0 | AX8: =IF(AX$2=$A8,0,IF(HLOOKUP(AX$2,Recipes!$H:$GI,'Production Calculator'!$A8+2,FALSE)=0,0,HLOOKUP(AX$2,Recipes!$H:$GI,'Production Calculator'!$A8+2,FALSE)*$AK8))+IF($AO8=AX$3,$AM8/VLOOKUP($AO8,Data!$A$50:$B$56,2,FALSE),0) -> 0 | ... HR8: =IF(HR$2=$A8,0,IF(HLOOKUP(HR$2,Recipes!$H:$GI,'Production Calculator'!$A8+2,FALSE)=0,0,HLOOKUP(HR$2,Recipes!$H:$GI,'Production Calculator'!$A8+2,FALSE)*$AK8))+IF($AO8=HR$3,$AM8/VLOOKUP($AO8,Data!$A$50:$B$56,2,FALSE),0) -> 0
A9: 160 | B9: =VLOOKUP(A9,Recipes!A:B,2) -> Stone | C9: 0 | D9: =HLOOKUP(A9,$AQ$2:$HR$202,$A$202-1,FALSE)+C9 -> 0 | E9: Electric Mining Drill | F9: =VLOOKUP(A9,Recipes!$A$3:$G$186,6,FALSE) -> 0 | G9: =VLOOKUP(A9,Recipes!$A$3:$G$186,7,FALSE) -> 0 | H9: =ROUNDUP(D9/AL9,0) -> 0 | I9: =VLOOKUP(E9,Data!$A$2:$C$26,3, FALSE) -> 0 | J9: 0 | K9: 0 | L9: 0 | M9: 0 | N9: 0 | O9: 0 | P9: 0 | Q9: 0 | R9: 0 | S9: =J9*$H9 -> 0 | T9: =K9*$H9 -> 0 | U9: =L9*$H9 -> 0 | V9: =M9*$H9 -> 0 | W9: =N9*$H9 -> 0 | X9: =O9*$H9 -> 0 | Y9: =P9*$H9 -> 0 | Z9: =Q9*$H9 -> 0 | AA9: =R9*$H9 -> 0 | AB9: =VLOOKUP(B9,Data!$A$28:$C$31,2,FALSE) -> 2 | AC9: =VLOOKUP(B9,Data!$A$28:$C$31,3,FALSE) -> 0.4 | AD9: =(VLOOKUP(E9,Data!$A$6:$F$7,6,FALSE)-AC9)/AB9 -> 1.3 | AE9: =VLOOKUP(E9,Data!$A$2:$F$26,5,FALSE) -> 0 | AF9: =VLOOKUP(E9,Data!$A$2:$F$26,4,FALSE) -> 90 | AG9: =VLOOKUP(E9,Data!$A$6:$F$7,2,FALSE) -> 0.5 | AH9: =1+VLOOKUP($J$3,Data!$A$40:$D$48,2,FALSE)*$J9+VLOOKUP($K$3,Data!$A$40:$D$48,2,FALSE)*$K9+VLOOKUP($L$3,Data!$A$40:$D$48,2,FALSE)*$L9+VLOOKUP($M$3,Data!$A$40:$D$48,2,FALSE)*$M9+VLOOKUP($N$3,Data!$A$40:$D$48,2,FALSE)*$N9+VLOOKUP($O$3,Data!$A$40:$D$48,2,FALSE)*$O9+VLOOKUP($P$3,Data!$A$40:$D$48,2,FALSE)*$P9+VLOOKUP($Q$3,Data!$A$40:$D$48,2,FALSE)*$Q9+VLOOKUP($R$3,Data!$A$40:$D$48,2,FALSE)*$R9 -> 1 | AI9: =MAX(1+VLOOKUP($J$3,Data!$A$40:$D$48,3,FALSE)*$J9+VLOOKUP($K$3,Data!$A$40:$D$48,3,FALSE)*$K9+VLOOKUP($L$3,Data!$A$40:$D$48,3,FALSE)*$L9+VLOOKUP($M$3,Data!$A$40:$D$48,3,FALSE)*$M9+VLOOKUP($N$3,Data!$A$40:$D$48,3,FALSE)*$N9+VLOOKUP($O$3,Data!$A$40:$D$48,3,FALSE)*$O9+VLOOKUP($P$3,Data!$A$40:$D$48,3,FALSE)*$P9+VLOOKUP($Q$3,Data!$A$40:$D$48,3,FALSE)*$Q9+VLOOKUP($R$3,Data!$A$40:$D$48,3,FALSE)*$R9,0) -> 1 | AJ9: =MAX(1-(VLOOKUP($J$3,Data!$A$40:$D$48,4,FALSE)*$J9+VLOOKUP($K$3,Data!$A$40:$D$48,4,FALSE)*$K9+VLOOKUP($L$3,Data!$A$40:$D$48,4,FALSE)*$L9+VLOOKUP($M$3,Data!$A$40:$D$48,4,FALSE)*$M9+VLOOKUP($N$3,Data!$A$40:$D$48,4,FALSE)*$N9+VLOOKUP($O$3,Data!$A$40:$D$48,4,FALSE)*$O9+VLOOKUP($P$3,Data!$A$40:$D$48,4,FALSE)*$P9+VLOOKUP($Q$3,Data!$A$40:$D$48,4,FALSE)*$Q9+VLOOKUP($R$3,Data!$A$40:$D$48,4,FALSE)*$R9),0.2) -> 1 | AK9: =D9*AC9/(AD9*AH9) -> 0 | AL9: =AD9*AG9*AH9*AI9 -> 0.65 | AM9: =AE9*H9*AJ9 -> 0 | AN9: =AF9*H9*AJ9 -> 0 | AO9: None | AQ9: =IF(AQ$2=$A9,0,IF(HLOOKUP(AQ$2,Recipes!$H:$GI,'Production Calculator'!$A9+2,FALSE)=0,0,HLOOKUP(AQ$2,Recipes!$H:$GI,'Production Calculator'!$A9+2,FALSE)*$AK9))+IF($AO9=AQ$3,$AM9/VLOOKUP($AO9,Data!$A$50:$B$56,2,FALSE),0) -> 0 | AR9: =IF(AR$2=$A9,0,IF(HLOOKUP(AR$2,Recipes!$H:$GI,'Production Calculator'!$A9+2,FALSE)=0,0,HLOOKUP(AR$2,Recipes!$H:$GI,'Production Calculator'!$A9+2,FALSE)*$AK9))+IF($AO9=AR$3,$AM9/VLOOKUP($AO9,Data!$A$50:$B$56,2,FALSE),0) -> 0 | AS9: =IF(AS$2=$A9,0,IF(HLOOKUP(AS$2,Recipes!$H:$GI,'Production Calculator'!$A9+2,FALSE)=0,0,HLOOKUP(AS$2,Recipes!$H:$GI,'Production Calculator'!$A9+2,FALSE)*$AK9))+IF($AO9=AS$3,$AM9/VLOOKUP($AO9,Data!$A$50:$B$56,2,FALSE),0) -> 0 | AT9: =IF(AT$2=$A9,0,IF(HLOOKUP(AT$2,Recipes!$H:$GI,'Production Calculator'!$A9+2,FALSE)=0,0,HLOOKUP(AT$2,Recipes!$H:$GI,'Production Calculator'!$A9+2,FALSE)*$AK9))+IF($AO9=AT$3,$AM9/VLOOKUP($AO9,Data!$A$50:$B$56,2,FALSE),0) -> 0 | AU9: =IF(AU$2=$A9,0,IF(HLOOKUP(AU$2,Recipes!$H:$GI,'Production Calculator'!$A9+2,FALSE)=0,0,HLOOKUP(AU$2,Recipes!$H:$GI,'Production Calculator'!$A9+2,FALSE)*$AK9))+IF($AO9=AU$3,$AM9/VLOOKUP($AO9,Data!$A$50:$B$56,2,FALSE),0) -> 0 | AV9: =IF(AV$2=$A9,0,IF(HLOOKUP(AV$2,Recipes!$H:$GI,'Production Calculator'!$A9+2,FALSE)=0,0,HLOOKUP(AV$2,Recipes!$H:$GI,'Production Calculator'!$A9+2,FALSE)*$AK9))+IF($AO9=AV$3,$AM9/VLOOKUP($AO9,Data!$A$50:$B$56,2,FALSE),0) -> 0 | AW9: =IF(AW$2=$A9,0,IF(HLOOKUP(AW$2,Recipes!$H:$GI,'Production Calculator'!$A9+2,FALSE)=0,0,HLOOKUP(AW$2,Recipes!$H:$GI,'Production Calculator'!$A9+2,FALSE)*$AK9))+IF($AO9=AW$3,$AM9/VLOOKUP($AO9,Data!$A$50:$B$56,2,FALSE),0) -> 0 | AX9: =IF(AX$2=$A9,0,IF(HLOOKUP(AX$2,Recipes!$H:$GI,'Production Calculator'!$A9+2,FALSE)=0,0,HLOOKUP(AX$2,Recipes!$H:$GI,'Production Calculator'!$A9+2,FALSE)*$AK9))+IF($AO9=AX$3,$AM9/VLOOKUP($AO9,Data!$A$50:$B$56,2,FALSE),0) -> 0 | ... HR9: =IF(HR$2=$A9,0,IF(HLOOKUP(HR$2,Recipes!$H:$GI,'Production Calculator'!$A9+2,FALSE)=0,0,HLOOKUP(HR$2,Recipes!$H:$GI,'Production Calculator'!$A9+2,FALSE)*$AK9))+IF($AO9=HR$3,$AM9/VLOOKUP($AO9,Data!$A$50:$B$56,2,FALSE),0) -> 0
A10: 161 | B10: =VLOOKUP(A10,Recipes!A:B,2) -> Alien Artifact | C10: 0 | D10: =HLOOKUP(A10,$AQ$2:$HR$202,$A$202-1,FALSE)+C10 -> 0 | E10: 0 | F10: 0 | G10: 0 | H10: 0 | I10: 0 | J10: 0 | K10: 0 | L10: 0 | M10: 0 | N10: 0 | O10: 0 | P10: 0 | Q10: 0 | R10: 0 | S10: =J10*$H10 -> 0 | T10: =K10*$H10 -> 0 | U10: =L10*$H10 -> 0 | V10: =M10*$H10 -> 0 | W10: =N10*$H10 -> 0 | X10: =O10*$H10 -> 0 | Y10: =P10*$H10 -> 0 | Z10: =Q10*$H10 -> 0 | AA10: =R10*$H10 -> 0 | AB10: =VLOOKUP($A10,Recipes!$A:$G,4) -> 0 | AC10: =VLOOKUP($A10,Recipes!$A:$G,5) -> 0 | AD10: 0 | AE10: 0 | AF10: 0 | AG10: 0 | AH10: 0 | AI10: 0 | AJ10: 0 | AK10: 0 | AL10: =AD10*AG10*AH10*AI10 -> 0 | AM10: =AE10*H10*AJ10 -> 0 | AN10: =AF10*H10*AJ10 -> 0 | AO10: None | AQ10: =IF(AQ$2=$A10,0,IF(HLOOKUP(AQ$2,Recipes!$H:$GI,'Production Calculator'!$A10+2,FALSE)=0,0,HLOOKUP(AQ$2,Recipes!$H:$GI,'Production Calculator'!$A10+2,FALSE)*$AK10))+IF($AO10=AQ$3,$AM10/VLOOKUP($AO10,Data!$A$50:$B$56,2,FALSE),0) -> 0 | AR10: =IF(AR$2=$A10,0,IF(HLOOKUP(AR$2,Recipes!$H:$GI,'Production Calculator'!$A10+2,FALSE)=0,0,HLOOKUP(AR$2,Recipes!$H:$GI,'Production Calculator'!$A10+2,FALSE)*$AK10))+IF($AO10=AR$3,$AM10/VLOOKUP($AO10,Data!$A$50:$B$56,2,FALSE),0) -> 0 | AS10: =IF(AS$2=$A10,0,IF(HLOOKUP(AS$2,Recipes!$H:$GI,'Production Calculator'!$A10+2,FALSE)=0,0,HLOOKUP(AS$2,Recipes!$H:$GI,'Production Calculator'!$A10+2,FALSE)*$AK10))+IF($AO10=AS$3,$AM10/VLOOKUP($AO10,Data!$A$50:$B$56,2,FALSE),0) -> 0 | AT10: =IF(AT$2=$A10,0,IF(HLOOKUP(AT$2,Recipes!$H:$GI,'Production Calculator'!$A10+2,FALSE)=0,0,HLOOKUP(AT$2,Recipes!$H:$GI,'Production Calculator'!$A10+2,FALSE)*$AK10))+IF($AO10=AT$3,$AM10/VLOOKUP($AO10,Data!$A$50:$B$56,2,FALSE),0) -> 0 | AU10: =IF(AU$2=$A10,0,IF(HLOOKUP(AU$2,Recipes!$H:$GI,'Production Calculator'!$A10+2,FALSE)=0,0,HLOOKUP(AU$2,Recipes!$H:$GI,'Production Calculator'!$A10+2,FALSE)*$AK10))+IF($AO10=AU$3,$AM10/VLOOKUP($AO10,Data!$A$50:$B$56,2,FALSE),0) -> 0 | AV10: =IF(AV$2=$A10,0,IF(HLOOKUP(AV$2,Recipes!$H:$GI,'Production Calculator'!$A10+2,FALSE)=0,0,HLOOKUP(AV$2,Recipes!$H:$GI,'Production Calculator'!$A10+2,FALSE)*$AK10))+IF($AO10=AV$3,$AM10/VLOOKUP($AO10,Data!$A$50:$B$56,2,FALSE),0) -> 0 | AW10: =IF(AW$2=$A10,0,IF(HLOOKUP(AW$2,Recipes!$H:$GI,'Production Calculator'!$A10+2,FALSE)=0,0,HLOOKUP(AW$2,Recipes!$H:$GI,'Production Calculator'!$A10+2,FALSE)*$AK10))+IF($AO10=AW$3,$AM10/VLOOKUP($AO10,Data!$A$50:$B$56,2,FALSE),0) -> 0 | AX10: =IF(AX$2=$A10,0,IF(HLOOKUP(AX$2,Recipes!$H:$GI,'Production Calculator'!$A10+2,FALSE)=0,0,HLOOKUP(AX$2,Recipes!$H:$GI,'Production Calculator'!$A10+2,FALSE)*$AK10))+IF($AO10=AX$3,$AM10/VLOOKUP($AO10,Data!$A$50:$B$56,2,FALSE),0) -> 0 | ... HR10: =IF(HR$2=$A10,0,IF(HLOOKUP(HR$2,Recipes!$H:$GI,'Production Calculator'!$A10+2,FALSE)=0,0,HLOOKUP(HR$2,Recipes!$H:$GI,'Production Calculator'!$A10+2,FALSE)*$AK10))+IF($AO10=HR$3,$AM10/VLOOKUP($AO10,Data!$A$50:$B$56,2,FALSE),0) -> 0
B11: Base Materials
A12: 1 | B12: =VLOOKUP(A12,Recipes!A:B,2) -> Copper plate | C12: 0 | D12: =HLOOKUP(A12,$AQ$2:$HR$202,$A$202-1,FALSE)+C12 -> 0 | E12: Electric Furnace | F12: =VLOOKUP(A12,Recipes!$A$3:$G$186,6,FALSE) -> 1 | G12: =VLOOKUP(A12,Recipes!$A$3:$G$186,7,FALSE) -> 0 | H12: =ROUNDUP(D12/AL12,0) -> 0 | I12: =VLOOKUP(E12,Data!$A$2:$C$26,3, FALSE) -> 2 | J12: 0 | K12: 0 | L12: 0 | M12: 0 | N12: 0 | O12: 0 | P12: 0 | Q12: 0 | R12: 0 | S12: =J12*$H12 -> 0 | T12: =K12*$H12 -> 0 | U12: =L12*$H12 -> 0 | V12: =M12*$H12 -> 0 | W12: =N12*$H12 -> 0 | X12: =O12*$H12 -> 0 | Y12: =P12*$H12 -> 0 | Z12: =Q12*$H12 -> 0 | AA12: =R12*$H12 -> 0 | AB12: =VLOOKUP($A12,Recipes!$A:$G,4) -> 3.5 | AC12: =VLOOKUP($A12,Recipes!$A:$G,5) -> 1 | AD12: =AC12/AB12 -> 0.28571429 | AE12: =VLOOKUP(E12,Data!$A$2:$F$26,5,FALSE) -> 0 | AF12: =VLOOKUP(E12,Data!$A$2:$F$26,4,FALSE) -> 180 | AG12: =VLOOKUP(E12,Data!$A$2:$B$26,2, FALSE) -> 2 | AH12: =1+VLOOKUP($J$3,Data!$A$40:$D$48,2,FALSE)*$J12+VLOOKUP($K$3,Data!$A$40:$D$48,2,FALSE)*$K12+VLOOKUP($L$3,Data!$A$40:$D$48,2,FALSE)*$L12+VLOOKUP($M$3,Data!$A$40:$D$48,2,FALSE)*$M12+VLOOKUP($N$3,Data!$A$40:$D$48,2,FALSE)*$N12+VLOOKUP($O$3,Data!$A$40:$D$48,2,FALSE)*$O12+VLOOKUP($P$3,Data!$A$40:$D$48,2,FALSE)*$P12+VLOOKUP($Q$3,Data!$A$40:$D$48,2,FALSE)*$Q12+VLOOKUP($R$3,Data!$A$40:$D$48,2,FALSE)*$R12 -> 1 | AI12: =MAX(1+VLOOKUP($J$3,Data!$A$40:$D$48,3,FALSE)*$J12+VLOOKUP($K$3,Data!$A$40:$D$48,3,FALSE)*$K12+VLOOKUP($L$3,Data!$A$40:$D$48,3,FALSE)*$L12+VLOOKUP($M$3,Data!$A$40:$D$48,3,FALSE)*$M12+VLOOKUP($N$3,Data!$A$40:$D$48,3,FALSE)*$N12+VLOOKUP($O$3,Data!$A$40:$D$48,3,FALSE)*$O12+VLOOKUP($P$3,Data!$A$40:$D$48,3,FALSE)*$P12+VLOOKUP($Q$3,Data!$A$40:$D$48,3,FALSE)*$Q12+VLOOKUP($R$3,Data!$A$40:$D$48,3,FALSE)*$R12,0) -> 1 | AJ12: =MAX(1-(VLOOKUP($J$3,Data!$A$40:$D$48,4,FALSE)*$J12+VLOOKUP($K$3,Data!$A$40:$D$48,4,FALSE)*$K12+VLOOKUP($L$3,Data!$A$40:$D$48,4,FALSE)*$L12+VLOOKUP($M$3,Data!$A$40:$D$48,4,FALSE)*$M12+VLOOKUP($N$3,Data!$A$40:$D$48,4,FALSE)*$N12+VLOOKUP($O$3,Data!$A$40:$D$48,4,FALSE)*$O12+VLOOKUP($P$3,Data!$A$40:$D$48,4,FALSE)*$P12+VLOOKUP($Q$3,Data!$A$40:$D$48,4,FALSE)*$Q12+VLOOKUP($R$3,Data!$A$40:$D$48,4,FALSE)*$R12),0.2) -> 1 | AK12: =D12/(AC12*AH12) -> 0 | AL12: =AD12*AG12*AH12*AI12 -> 0.57142857 | AM12: =AE12*H12*AJ12 -> 0 | AN12: =AF12*H12*AJ12 -> 0 | AO12: None | AQ12: =IF(AQ$2=$A12,0,IF(HLOOKUP(AQ$2,Recipes!$H:$GI,'Production Calculator'!$A12+2,FALSE)=0,0,HLOOKUP(AQ$2,Recipes!$H:$GI,'Production Calculator'!$A12+2,FALSE)*$AK12))+IF($AO12=AQ$3,$AM12/VLOOKUP($AO12,Data!$A$50:$B$56,2,FALSE),0) -> 0 | AR12: =IF(AR$2=$A12,0,IF(HLOOKUP(AR$2,Recipes!$H:$GI,'Production Calculator'!$A12+2,FALSE)=0,0,HLOOKUP(AR$2,Recipes!$H:$GI,'Production Calculator'!$A12+2,FALSE)*$AK12))+IF($AO12=AR$3,$AM12/VLOOKUP($AO12,Data!$A$50:$B$56,2,FALSE),0) -> 0 | AS12: =IF(AS$2=$A12,0,IF(HLOOKUP(AS$2,Recipes!$H:$GI,'Production Calculator'!$A12+2,FALSE)=0,0,HLOOKUP(AS$2,Recipes!$H:$GI,'Production Calculator'!$A12+2,FALSE)*$AK12))+IF($AO12=AS$3,$AM12/VLOOKUP($AO12,Data!$A$50:$B$56,2,FALSE),0) -> 0 | AT12: =IF(AT$2=$A12,0,IF(HLOOKUP(AT$2,Recipes!$H:$GI,'Production Calculator'!$A12+2,FALSE)=0,0,HLOOKUP(AT$2,Recipes!$H:$GI,'Production Calculator'!$A12+2,FALSE)*$AK12))+IF($AO12=AT$3,$AM12/VLOOKUP($AO12,Data!$A$50:$B$56,2,FALSE),0) -> 0 | AU12: =IF(AU$2=$A12,0,IF(HLOOKUP(AU$2,Recipes!$H:$GI,'Production Calculator'!$A12+2,FALSE)=0,0,HLOOKUP(AU$2,Recipes!$H:$GI,'Production Calculator'!$A12+2,FALSE)*$AK12))+IF($AO12=AU$3,$AM12/VLOOKUP($AO12,Data!$A$50:$B$56,2,FALSE),0) -> 0 | AV12: =IF(AV$2=$A12,0,IF(HLOOKUP(AV$2,Recipes!$H:$GI,'Production Calculator'!$A12+2,FALSE)=0,0,HLOOKUP(AV$2,Recipes!$H:$GI,'Production Calculator'!$A12+2,FALSE)*$AK12))+IF($AO12=AV$3,$AM12/VLOOKUP($AO12,Data!$A$50:$B$56,2,FALSE),0) -> 0 | AW12: =IF(AW$2=$A12,0,IF(HLOOKUP(AW$2,Recipes!$H:$GI,'Production Calculator'!$A12+2,FALSE)=0,0,HLOOKUP(AW$2,Recipes!$H:$GI,'Production Calculator'!$A12+2,FALSE)*$AK12))+IF($AO12=AW$3,$AM12/VLOOKUP($AO12,Data!$A$50:$B$56,2,FALSE),0) -> 0 | AX12: =IF(AX$2=$A12,0,IF(HLOOKUP(AX$2,Recipes!$H:$GI,'Production Calculator'!$A12+2,FALSE)=0,0,HLOOKUP(AX$2,Recipes!$H:$GI,'Production Calculator'!$A12+2,FALSE)*$AK12))+IF($AO12=AX$3,$AM12/VLOOKUP($AO12,Data!$A$50:$B$56,2,FALSE),0) -> 0 | ... HR12: =IF(HR$2=$A12,0,IF(HLOOKUP(HR$2,Recipes!$H:$GI,'Production Calculator'!$A12+2,FALSE)=0,0,HLOOKUP(HR$2,Recipes!$H:$GI,'Production Calculator'!$A12+2,FALSE)*$AK12))+IF($AO12=HR$3,$AM12/VLOOKUP($AO12,Data!$A$50:$B$56,2,FALSE),0) -> 0
A13: 2 | B13: =VLOOKUP(A13,Recipes!A:B,2) -> Iron plate | C13: 0 | D13: =HLOOKUP(A13,$AQ$2:$HR$202,$A$202-1,FALSE)+C13 -> 0 | E13: Electric Furnace | F13: =VLOOKUP(A13,Recipes!$A$3:$G$186,6,FALSE) -> 1 | G13: =VLOOKUP(A13,Recipes!$A$3:$G$186,7,FALSE) -> 0 | H13: =ROUNDUP(D13/AL13,0) -> 0 | I13: =VLOOKUP(E13,Data!$A$2:$C$26,3, FALSE) -> 2 | J13: 0 | K13: 0 | L13: 0 | M13: 0 | N13: 0 | O13: 0 | P13: 0 | Q13: 0 | R13: 0 | S13: =J13*$H13 -> 0 | T13: =K13*$H13 -> 0 | U13: =L13*$H13 -> 0 | V13: =M13*$H13 -> 0 | W13: =N13*$H13 -> 0 | X13: =O13*$H13 -> 0 | Y13: =P13*$H13 -> 0 | Z13: =Q13*$H13 -> 0 | AA13: =R13*$H13 -> 0 | AB13: =VLOOKUP($A13,Recipes!$A:$G,4) -> 3.5 | AC13: =VLOOKUP($A13,Recipes!$A:$G,5) -> 1 | AD13: =AC13/AB13 -> 0.28571429 | AE13: =VLOOKUP(E13,Data!$A$2:$F$26,5,FALSE) -> 0 | AF13: =VLOOKUP(E13,Data!$A$2:$F$26,4,FALSE) -> 180 | AG13: =VLOOKUP(E13,Data!$A$2:$B$26,2, FALSE) -> 2 | AH13: =1+VLOOKUP($J$3,Data!$A$40:$D$48,2,FALSE)*$J13+VLOOKUP($K$3,Data!$A$40:$D$48,2,FALSE)*$K13+VLOOKUP($L$3,Data!$A$40:$D$48,2,FALSE)*$L13+VLOOKUP($M$3,Data!$A$40:$D$48,2,FALSE)*$M13+VLOOKUP($N$3,Data!$A$40:$D$48,2,FALSE)*$N13+VLOOKUP($O$3,Data!$A$40:$D$48,2,FALSE)*$O13+VLOOKUP($P$3,Data!$A$40:$D$48,2,FALSE)*$P13+VLOOKUP($Q$3,Data!$A$40:$D$48,2,FALSE)*$Q13+VLOOKUP($R$3,Data!$A$40:$D$48,2,FALSE)*$R13 -> 1 | AI13: =MAX(1+VLOOKUP($J$3,Data!$A$40:$D$48,3,FALSE)*$J13+VLOOKUP($K$3,Data!$A$40:$D$48,3,FALSE)*$K13+VLOOKUP($L$3,Data!$A$40:$D$48,3,FALSE)*$L13+VLOOKUP($M$3,Data!$A$40:$D$48,3,FALSE)*$M13+VLOOKUP($N$3,Data!$A$40:$D$48,3,FALSE)*$N13+VLOOKUP($O$3,Data!$A$40:$D$48,3,FALSE)*$O13+VLOOKUP($P$3,Data!$A$40:$D$48,3,FALSE)*$P13+VLOOKUP($Q$3,Data!$A$40:$D$48,3,FALSE)*$Q13+VLOOKUP($R$3,Data!$A$40:$D$48,3,FALSE)*$R13,0) -> 1 | AJ13: =MAX(1-(VLOOKUP($J$3,Data!$A$40:$D$48,4,FALSE)*$J13+VLOOKUP($K$3,Data!$A$40:$D$48,4,FALSE)*$K13+VLOOKUP($L$3,Data!$A$40:$D$48,4,FALSE)*$L13+VLOOKUP($M$3,Data!$A$40:$D$48,4,FALSE)*$M13+VLOOKUP($N$3,Data!$A$40:$D$48,4,FALSE)*$N13+VLOOKUP($O$3,Data!$A$40:$D$48,4,FALSE)*$O13+VLOOKUP($P$3,Data!$A$40:$D$48,4,FALSE)*$P13+VLOOKUP($Q$3,Data!$A$40:$D$48,4,FALSE)*$Q13+VLOOKUP($R$3,Data!$A$40:$D$48,4,FALSE)*$R13),0.2) -> 1 | AK13: =D13/(AC13*AH13) -> 0 | AL13: =AD13*AG13*AH13*AI13 -> 0.57142857 | AM13: =AE13*H13*AJ13 -> 0 | AN13: =AF13*H13*AJ13 -> 0 | AO13: None | AQ13: =IF(AQ$2=$A13,0,IF(HLOOKUP(AQ$2,Recipes!$H:$GI,'Production Calculator'!$A13+2,FALSE)=0,0,HLOOKUP(AQ$2,Recipes!$H:$GI,'Production Calculator'!$A13+2,FALSE)*$AK13))+IF($AO13=AQ$3,$AM13/VLOOKUP($AO13,Data!$A$50:$B$56,2,FALSE),0) -> 0 | AR13: =IF(AR$2=$A13,0,IF(HLOOKUP(AR$2,Recipes!$H:$GI,'Production Calculator'!$A13+2,FALSE)=0,0,HLOOKUP(AR$2,Recipes!$H:$GI,'Production Calculator'!$A13+2,FALSE)*$AK13))+IF($AO13=AR$3,$AM13/VLOOKUP($AO13,Data!$A$50:$B$56,2,FALSE),0) -> 0 | AS13: =IF(AS$2=$A13,0,IF(HLOOKUP(AS$2,Recipes!$H:$GI,'Production Calculator'!$A13+2,FALSE)=0,0,HLOOKUP(AS$2,Recipes!$H:$GI,'Production Calculator'!$A13+2,FALSE)*$AK13))+IF($AO13=AS$3,$AM13/VLOOKUP($AO13,Data!$A$50:$B$56,2,FALSE),0) -> 0 | AT13: =IF(AT$2=$A13,0,IF(HLOOKUP(AT$2,Recipes!$H:$GI,'Production Calculator'!$A13+2,FALSE)=0,0,HLOOKUP(AT$2,Recipes!$H:$GI,'Production Calculator'!$A13+2,FALSE)*$AK13))+IF($AO13=AT$3,$AM13/VLOOKUP($AO13,Data!$A$50:$B$56,2,FALSE),0) -> 0 | AU13: =IF(AU$2=$A13,0,IF(HLOOKUP(AU$2,Recipes!$H:$GI,'Production Calculator'!$A13+2,FALSE)=0,0,HLOOKUP(AU$2,Recipes!$H:$GI,'Production Calculator'!$A13+2,FALSE)*$AK13))+IF($AO13=AU$3,$AM13/VLOOKUP($AO13,Data!$A$50:$B$56,2,FALSE),0) -> 0 | AV13: =IF(AV$2=$A13,0,IF(HLOOKUP(AV$2,Recipes!$H:$GI,'Production Calculator'!$A13+2,FALSE)=0,0,HLOOKUP(AV$2,Recipes!$H:$GI,'Production Calculator'!$A13+2,FALSE)*$AK13))+IF($AO13=AV$3,$AM13/VLOOKUP($AO13,Data!$A$50:$B$56,2,FALSE),0) -> 0 | AW13: =IF(AW$2=$A13,0,IF(HLOOKUP(AW$2,Recipes!$H:$GI,'Production Calculator'!$A13+2,FALSE)=0,0,HLOOKUP(AW$2,Recipes!$H:$GI,'Production Calculator'!$A13+2,FALSE)*$AK13))+IF($AO13=AW$3,$AM13/VLOOKUP($AO13,Data!$A$50:$B$56,2,FALSE),0) -> 0 | AX13: =IF(AX$2=$A13,0,IF(HLOOKUP(AX$2,Recipes!$H:$GI,'Production Calculator'!$A13+2,FALSE)=0,0,HLOOKUP(AX$2,Recipes!$H:$GI,'Production Calculator'!$A13+2,FALSE)*$AK13))+IF($AO13=AX$3,$AM13/VLOOKUP($AO13,Data!$A$50:$B$56,2,FALSE),0) -> 0 | ... HR13: =IF(HR$2=$A13,0,IF(HLOOKUP(HR$2,Recipes!$H:$GI,'Production Calculator'!$A13+2,FALSE)=0,0,HLOOKUP(HR$2,Recipes!$H:$GI,'Production Calculator'!$A13+2,FALSE)*$AK13))+IF($AO13=HR$3,$AM13/VLOOKUP($AO13,Data!$A$50:$B$56,2,FALSE),0) -> 0
A14: 3 | B14: =VLOOKUP(A14,Recipes!A:B,2) -> Steel plate | C14: 0 | D14: =HLOOKUP(A14,$AQ$2:$HR$202,$A$202-1,FALSE)+C14 -> 0 | E14: Electric Furnace | F14: =VLOOKUP(A14,Recipes!$A$3:$G$186,6,FALSE) -> 1 | G14: =VLOOKUP(A14,Recipes!$A$3:$G$186,7,FALSE) -> 0 | H14: =ROUNDUP(D14/AL14,0) -> 0 | I14: =VLOOKUP(E14,Data!$A$2:$C$26,3, FALSE) -> 2 | J14: 0 | K14: 0 | L14: 0 | M14: 0 | N14: 0 | O14: 0 | P14: 0 | Q14: 0 | R14: 0 | S14: =J14*$H14 -> 0 | T14: =K14*$H14 -> 0 | U14: =L14*$H14 -> 0 | V14: =M14*$H14 -> 0 | W14: =N14*$H14 -> 0 | X14: =O14*$H14 -> 0 | Y14: =P14*$H14 -> 0 | Z14: =Q14*$H14 -> 0 | AA14: =R14*$H14 -> 0 | AB14: =VLOOKUP($A14,Recipes!$A:$G,4) -> 17.5 | AC14: =VLOOKUP($A14,Recipes!$A:$G,5) -> 1 | AD14: =AC14/AB14 -> 0.057142857 | AE14: =VLOOKUP(E14,Data!$A$2:$F$26,5,FALSE) -> 0 | AF14: =VLOOKUP(E14,Data!$A$2:$F$26,4,FALSE) -> 180 | AG14: =VLOOKUP(E14,Data!$A$2:$B$26,2, FALSE) -> 2 | AH14: =1+VLOOKUP($J$3,Data!$A$40:$D$48,2,FALSE)*$J14+VLOOKUP($K$3,Data!$A$40:$D$48,2,FALSE)*$K14+VLOOKUP($L$3,Data!$A$40:$D$48,2,FALSE)*$L14+VLOOKUP($M$3,Data!$A$40:$D$48,2,FALSE)*$M14+VLOOKUP($N$3,Data!$A$40:$D$48,2,FALSE)*$N14+VLOOKUP($O$3,Data!$A$40:$D$48,2,FALSE)*$O14+VLOOKUP($P$3,Data!$A$40:$D$48,2,FALSE)*$P14+VLOOKUP($Q$3,Data!$A$40:$D$48,2,FALSE)*$Q14+VLOOKUP($R$3,Data!$A$40:$D$48,2,FALSE)*$R14 -> 1 | AI14: =MAX(1+VLOOKUP($J$3,Data!$A$40:$D$48,3,FALSE)*$J14+VLOOKUP($K$3,Data!$A$40:$D$48,3,FALSE)*$K14+VLOOKUP($L$3,Data!$A$40:$D$48,3,FALSE)*$L14+VLOOKUP($M$3,Data!$A$40:$D$48,3,FALSE)*$M14+VLOOKUP($N$3,Data!$A$40:$D$48,3,FALSE)*$N14+VLOOKUP($O$3,Data!$A$40:$D$48,3,FALSE)*$O14+VLOOKUP($P$3,Data!$A$40:$D$48,3,FALSE)*$P14+VLOOKUP($Q$3,Data!$A$40:$D$48,3,FALSE)*$Q14+VLOOKUP($R$3,Data!$A$40:$D$48,3,FALSE)*$R14,0) -> 1 | AJ14: =MAX(1-(VLOOKUP($J$3,Data!$A$40:$D$48,4,FALSE)*$J14+VLOOKUP($K$3,Data!$A$40:$D$48,4,FALSE)*$K14+VLOOKUP($L$3,Data!$A$40:$D$48,4,FALSE)*$L14+VLOOKUP($M$3,Data!$A$40:$D$48,4,FALSE)*$M14+VLOOKUP($N$3,Data!$A$40:$D$48,4,FALSE)*$N14+VLOOKUP($O$3,Data!$A$40:$D$48,4,FALSE)*$O14+VLOOKUP($P$3,Data!$A$40:$D$48,4,FALSE)*$P14+VLOOKUP($Q$3,Data!$A$40:$D$48,4,FALSE)*$Q14+VLOOKUP($R$3,Data!$A$40:$D$48,4,FALSE)*$R14),0.2) -> 1 | AK14: =D14/(AC14*AH14) -> 0 | AL14: =AD14*AG14*AH14*AI14 -> 0.11428571 | AM14: =AE14*H14*AJ14 -> 0 | AN14: =AF14*H14*AJ14 -> 0 | AO14: None | AQ14: =IF(AQ$2=$A14,0,IF(HLOOKUP(AQ$2,Recipes!$H:$GI,'Production Calculator'!$A14+2,FALSE)=0,0,HLOOKUP(AQ$2,Recipes!$H:$GI,'Production Calculator'!$A14+2,FALSE)*$AK14))+IF($AO14=AQ$3,$AM14/VLOOKUP($AO14,Data!$A$50:$B$56,2,FALSE),0) -> 0 | AR14: =IF(AR$2=$A14,0,IF(HLOOKUP(AR$2,Recipes!$H:$GI,'Production Calculator'!$A14+2,FALSE)=0,0,HLOOKUP(AR$2,Recipes!$H:$GI,'Production Calculator'!$A14+2,FALSE)*$AK14))+IF($AO14=AR$3,$AM14/VLOOKUP($AO14,Data!$A$50:$B$56,2,FALSE),0) -> 0 | AS14: =IF(AS$2=$A14,0,IF(HLOOKUP(AS$2,Recipes!$H:$GI,'Production Calculator'!$A14+2,FALSE)=0,0,HLOOKUP(AS$2,Recipes!$H:$GI,'Production Calculator'!$A14+2,FALSE)*$AK14))+IF($AO14=AS$3,$AM14/VLOOKUP($AO14,Data!$A$50:$B$56,2,FALSE),0) -> 0 | AT14: =IF(AT$2=$A14,0,IF(HLOOKUP(AT$2,Recipes!$H:$GI,'Production Calculator'!$A14+2,FALSE)=0,0,HLOOKUP(AT$2,Recipes!$H:$GI,'Production Calculator'!$A14+2,FALSE)*$AK14))+IF($AO14=AT$3,$AM14/VLOOKUP($AO14,Data!$A$50:$B$56,2,FALSE),0) -> 0 | AU14: =IF(AU$2=$A14,0,IF(HLOOKUP(AU$2,Recipes!$H:$GI,'Production Calculator'!$A14+2,FALSE)=0,0,HLOOKUP(AU$2,Recipes!$H:$GI,'Production Calculator'!$A14+2,FALSE)*$AK14))+IF($AO14=AU$3,$AM14/VLOOKUP($AO14,Data!$A$50:$B$56,2,FALSE),0) -> 0 | AV14: =IF(AV$2=$A14,0,IF(HLOOKUP(AV$2,Recipes!$H:$GI,'Production Calculator'!$A14+2,FALSE)=0,0,HLOOKUP(AV$2,Recipes!$H:$GI,'Production Calculator'!$A14+2,FALSE)*$AK14))+IF($AO14=AV$3,$AM14/VLOOKUP($AO14,Data!$A$50:$B$56,2,FALSE),0) -> 0 | AW14: =IF(AW$2=$A14,0,IF(HLOOKUP(AW$2,Recipes!$H:$GI,'Production Calculator'!$A14+2,FALSE)=0,0,HLOOKUP(AW$2,Recipes!$H:$GI,'Production Calculator'!$A14+2,FALSE)*$AK14))+IF($AO14=AW$3,$AM14/VLOOKUP($AO14,Data!$A$50:$B$56,2,FALSE),0) -> 0 | AX14: =IF(AX$2=$A14,0,IF(HLOOKUP(AX$2,Recipes!$H:$GI,'Production Calculator'!$A14+2,FALSE)=0,0,HLOOKUP(AX$2,Recipes!$H:$GI,'Production Calculator'!$A14+2,FALSE)*$AK14))+IF($AO14=AX$3,$AM14/VLOOKUP($AO14,Data!$A$50:$B$56,2,FALSE),0) -> 0 | ... HR14: =IF(HR$2=$A14,0,IF(HLOOKUP(HR$2,Recipes!$H:$GI,'Production Calculator'!$A14+2,FALSE)=0,0,HLOOKUP(HR$2,Recipes!$H:$GI,'Production Calculator'!$A14+2,FALSE)*$AK14))+IF($AO14=HR$3,$AM14/VLOOKUP($AO14,Data!$A$50:$B$56,2,FALSE),0) -> 0
A15: 4 | B15: =VLOOKUP(A15,Recipes!A:B,2) -> Stone brick | C15: 0 | D15: =HLOOKUP(A15,$AQ$2:$HR$202,$A$202-1,FALSE)+C15 -> 0 | E15: Electric Furnace | F15: =VLOOKUP(A15,Recipes!$A$3:$G$186,6,FALSE) -> 1 | G15: =VLOOKUP(A15,Recipes!$A$3:$G$186,7,FALSE) -> 0 | H15: =ROUNDUP(D15/AL15,0) -> 0 | I15: =VLOOKUP(E15,Data!$A$2:$C$26,3, FALSE) -> 2 | J15: 0 | K15: 0 | L15: 0 | M15: 0 | N15: 0 | O15: 0 | P15: 0 | Q15: 0 | R15: 0 | S15: =J15*$H15 -> 0 | T15: =K15*$H15 -> 0 | U15: =L15*$H15 -> 0 | V15: =M15*$H15 -> 0 | W15: =N15*$H15 -> 0 | X15: =O15*$H15 -> 0 | Y15: =P15*$H15 -> 0 | Z15: =Q15*$H15 -> 0 | AA15: =R15*$H15 -> 0 | AB15: =VLOOKUP($A15,Recipes!$A:$G,4) -> 3.5 | AC15: =VLOOKUP($A15,Recipes!$A:$G,5) -> 1 | AD15: =AC15/AB15 -> 0.28571429 | AE15: =VLOOKUP(E15,Data!$A$2:$F$26,5,FALSE) -> 0 | AF15: =VLOOKUP(E15,Data!$A$2:$F$26,4,FALSE) -> 180 | AG15: =VLOOKUP(E15,Data!$A$2:$B$26,2, FALSE) -> 2 | AH15: =1+VLOOKUP($J$3,Data!$A$40:$D$48,2,FALSE)*$J15+VLOOKUP($K$3,Data!$A$40:$D$48,2,FALSE)*$K15+VLOOKUP($L$3,Data!$A$40:$D$48,2,FALSE)*$L15+VLOOKUP($M$3,Data!$A$40:$D$48,2,FALSE)*$M15+VLOOKUP($N$3,Data!$A$40:$D$48,2,FALSE)*$N15+VLOOKUP($O$3,Data!$A$40:$D$48,2,FALSE)*$O15+VLOOKUP($P$3,Data!$A$40:$D$48,2,FALSE)*$P15+VLOOKUP($Q$3,Data!$A$40:$D$48,2,FALSE)*$Q15+VLOOKUP($R$3,Data!$A$40:$D$48,2,FALSE)*$R15 -> 1 | AI15: =MAX(1+VLOOKUP($J$3,Data!$A$40:$D$48,3,FALSE)*$J15+VLOOKUP($K$3,Data!$A$40:$D$48,3,FALSE)*$K15+VLOOKUP($L$3,Data!$A$40:$D$48,3,FALSE)*$L15+VLOOKUP($M$3,Data!$A$40:$D$48,3,FALSE)*$M15+VLOOKUP($N$3,Data!$A$40:$D$48,3,FALSE)*$N15+VLOOKUP($O$3,Data!$A$40:$D$48,3,FALSE)*$O15+VLOOKUP($P$3,Data!$A$40:$D$48,3,FALSE)*$P15+VLOOKUP($Q$3,Data!$A$40:$D$48,3,FALSE)*$Q15+VLOOKUP($R$3,Data!$A$40:$D$48,3,FALSE)*$R15,0) -> 1 | AJ15: =MAX(1-(VLOOKUP($J$3,Data!$A$40:$D$48,4,FALSE)*$J15+VLOOKUP($K$3,Data!$A$40:$D$48,4,FALSE)*$K15+VLOOKUP($L$3,Data!$A$40:$D$48,4,FALSE)*$L15+VLOOKUP($M$3,Data!$A$40:$D$48,4,FALSE)*$M15+VLOOKUP($N$3,Data!$A$40:$D$48,4,FALSE)*$N15+VLOOKUP($O$3,Data!$A$40:$D$48,4,FALSE)*$O15+VLOOKUP($P$3,Data!$A$40:$D$48,4,FALSE)*$P15+VLOOKUP($Q$3,Data!$A$40:$D$48,4,FALSE)*$Q15+VLOOKUP($R$3,Data!$A$40:$D$48,4,FALSE)*$R15),0.2) -> 1 | AK15: =D15/(AC15*AH15) -> 0 | AL15: =AD15*AG15*AH15*AI15 -> 0.57142857 | AM15: =AE15*H15*AJ15 -> 0 | AN15: =AF15*H15*AJ15 -> 0 | AO15: None | AQ15: =IF(AQ$2=$A15,0,IF(HLOOKUP(AQ$2,Recipes!$H:$GI,'Production Calculator'!$A15+2,FALSE)=0,0,HLOOKUP(AQ$2,Recipes!$H:$GI,'Production Calculator'!$A15+2,FALSE)*$AK15))+IF($AO15=AQ$3,$AM15/VLOOKUP($AO15,Data!$A$50:$B$56,2,FALSE),0) -> 0 | AR15: =IF(AR$2=$A15,0,IF(HLOOKUP(AR$2,Recipes!$H:$GI,'Production Calculator'!$A15+2,FALSE)=0,0,HLOOKUP(AR$2,Recipes!$H:$GI,'Production Calculator'!$A15+2,FALSE)*$AK15))+IF($AO15=AR$3,$AM15/VLOOKUP($AO15,Data!$A$50:$B$56,2,FALSE),0) -> 0 | AS15: =IF(AS$2=$A15,0,IF(HLOOKUP(AS$2,Recipes!$H:$GI,'Production Calculator'!$A15+2,FALSE)=0,0,HLOOKUP(AS$2,Recipes!$H:$GI,'Production Calculator'!$A15+2,FALSE)*$AK15))+IF($AO15=AS$3,$AM15/VLOOKUP($AO15,Data!$A$50:$B$56,2,FALSE),0) -> 0 | AT15: =IF(AT$2=$A15,0,IF(HLOOKUP(AT$2,Recipes!$H:$GI,'Production Calculator'!$A15+2,FALSE)=0,0,HLOOKUP(AT$2,Recipes!$H:$GI,'Production Calculator'!$A15+2,FALSE)*$AK15))+IF($AO15=AT$3,$AM15/VLOOKUP($AO15,Data!$A$50:$B$56,2,FALSE),0) -> 0 | AU15: =IF(AU$2=$A15,0,IF(HLOOKUP(AU$2,Recipes!$H:$GI,'Production Calculator'!$A15+2,FALSE)=0,0,HLOOKUP(AU$2,Recipes!$H:$GI,'Production Calculator'!$A15+2,FALSE)*$AK15))+IF($AO15=AU$3,$AM15/VLOOKUP($AO15,Data!$A$50:$B$56,2,FALSE),0) -> 0 | AV15: =IF(AV$2=$A15,0,IF(HLOOKUP(AV$2,Recipes!$H:$GI,'Production Calculator'!$A15+2,FALSE)=0,0,HLOOKUP(AV$2,Recipes!$H:$GI,'Production Calculator'!$A15+2,FALSE)*$AK15))+IF($AO15=AV$3,$AM15/VLOOKUP($AO15,Data!$A$50:$B$56,2,FALSE),0) -> 0 | AW15: =IF(AW$2=$A15,0,IF(HLOOKUP(AW$2,Recipes!$H:$GI,'Production Calculator'!$A15+2,FALSE)=0,0,HLOOKUP(AW$2,Recipes!$H:$GI,'Production Calculator'!$A15+2,FALSE)*$AK15))+IF($AO15=AW$3,$AM15/VLOOKUP($AO15,Data!$A$50:$B$56,2,FALSE),0) -> 0 | AX15: =IF(AX$2=$A15,0,IF(HLOOKUP(AX$2,Recipes!$H:$GI,'Production Calculator'!$A15+2,FALSE)=0,0,HLOOKUP(AX$2,Recipes!$H:$GI,'Production Calculator'!$A15+2,FALSE)*$AK15))+IF($AO15=AX$3,$AM15/VLOOKUP($AO15,Data!$A$50:$B$56,2,FALSE),0) -> 0 | ... HR15: =IF(HR$2=$A15,0,IF(HLOOKUP(HR$2,Recipes!$H:$GI,'Production Calculator'!$A15+2,FALSE)=0,0,HLOOKUP(HR$2,Recipes!$H:$GI,'Production Calculator'!$A15+2,FALSE)*$AK15))+IF($AO15=HR$3,$AM15/VLOOKUP($AO15,Data!$A$50:$B$56,2,FALSE),0) -> 0
B16: Construction
A17: 5 | B17: =VLOOKUP(A17,Recipes!A:B,2) -> Concrete | C17: 0 | D17: =HLOOKUP(A17,$AQ$2:$HR$202,$A$202-1,FALSE)+C17 -> 0 | E17: Assembly Machine III | F17: =VLOOKUP(A17,Recipes!$A$3:$G$186,6,FALSE) -> 3 | G17: =VLOOKUP(A17,Recipes!$A$3:$G$186,7,FALSE) -> 0 | H17: =ROUNDUP(D17/AL17,0) -> 0 | I17: =VLOOKUP(E17,Data!$A$2:$C$26,3, FALSE) -> 4 | J17: 0 | K17: 0 | L17: 0 | M17: 0 | N17: 0 | O17: 0 | P17: 0 | Q17: 0 | R17: 0 | S17: =J17*$H17 -> 0 | T17: =K17*$H17 -> 0 | U17: =L17*$H17 -> 0 | V17: =M17*$H17 -> 0 | W17: =N17*$H17 -> 0 | X17: =O17*$H17 -> 0 | Y17: =P17*$H17 -> 0 | Z17: =Q17*$H17 -> 0 | AA17: =R17*$H17 -> 0 | AB17: =VLOOKUP($A17,Recipes!$A:$G,4) -> 10 | AC17: =VLOOKUP($A17,Recipes!$A:$G,5) -> 10 | AD17: =AC17/AB17 -> 1 | AE17: =VLOOKUP(E17,Data!$A$2:$F$26,5,FALSE) -> 0 | AF17: =VLOOKUP(E17,Data!$A$2:$F$26,4,FALSE) -> 210 | AG17: =VLOOKUP(E17,Data!$A$2:$B$26,2, FALSE) -> 1.25 | AH17: =1+VLOOKUP($J$3,Data!$A$40:$D$48,2,FALSE)*$J17+VLOOKUP($K$3,Data!$A$40:$D$48,2,FALSE)*$K17+VLOOKUP($L$3,Data!$A$40:$D$48,2,FALSE)*$L17+VLOOKUP($M$3,Data!$A$40:$D$48,2,FALSE)*$M17+VLOOKUP($N$3,Data!$A$40:$D$48,2,FALSE)*$N17+VLOOKUP($O$3,Data!$A$40:$D$48,2,FALSE)*$O17+VLOOKUP($P$3,Data!$A$40:$D$48,2,FALSE)*$P17+VLOOKUP($Q$3,Data!$A$40:$D$48,2,FALSE)*$Q17+VLOOKUP($R$3,Data!$A$40:$D$48,2,FALSE)*$R17 -> 1 | AI17: =MAX(1+VLOOKUP($J$3,Data!$A$40:$D$48,3,FALSE)*$J17+VLOOKUP($K$3,Data!$A$40:$D$48,3,FALSE)*$K17+VLOOKUP($L$3,Data!$A$40:$D$48,3,FALSE)*$L17+VLOOKUP($M$3,Data!$A$40:$D$48,3,FALSE)*$M17+VLOOKUP($N$3,Data!$A$40:$D$48,3,FALSE)*$N17+VLOOKUP($O$3,Data!$A$40:$D$48,3,FALSE)*$O17+VLOOKUP($P$3,Data!$A$40:$D$48,3,FALSE)*$P17+VLOOKUP($Q$3,Data!$A$40:$D$48,3,FALSE)*$Q17+VLOOKUP($R$3,Data!$A$40:$D$48,3,FALSE)*$R17,0) -> 1 | AJ17: =MAX(1-(VLOOKUP($J$3,Data!$A$40:$D$48,4,FALSE)*$J17+VLOOKUP($K$3,Data!$A$40:$D$48,4,FALSE)*$K17+VLOOKUP($L$3,Data!$A$40:$D$48,4,FALSE)*$L17+VLOOKUP($M$3,Data!$A$40:$D$48,4,FALSE)*$M17+VLOOKUP($N$3,Data!$A$40:$D$48,4,FALSE)*$N17+VLOOKUP($O$3,Data!$A$40:$D$48,4,FALSE)*$O17+VLOOKUP($P$3,Data!$A$40:$D$48,4,FALSE)*$P17+VLOOKUP($Q$3,Data!$A$40:$D$48,4,FALSE)*$Q17+VLOOKUP($R$3,Data!$A$40:$D$48,4,FALSE)*$R17),0.2) -> 1 | AK17: =D17/(AC17*AH17) -> 0 | AL17: =AD17*AG17*AH17*AI17 -> 1.25 | AM17: =AE17*H17*AJ17 -> 0 | AN17: =AF17*H17*AJ17 -> 0 | AO17: None | AQ17: =IF(AQ$2=$A17,0,IF(HLOOKUP(AQ$2,Recipes!$H:$GI,'Production Calculator'!$A17+2,FALSE)=0,0,HLOOKUP(AQ$2,Recipes!$H:$GI,'Production Calculator'!$A17+2,FALSE)*$AK17))+IF($AO17=AQ$3,$AM17/VLOOKUP($AO17,Data!$A$50:$B$56,2,FALSE),0) -> 0 | AR17: =IF(AR$2=$A17,0,IF(HLOOKUP(AR$2,Recipes!$H:$GI,'Production Calculator'!$A17+2,FALSE)=0,0,HLOOKUP(AR$2,Recipes!$H:$GI,'Production Calculator'!$A17+2,FALSE)*$AK17))+IF($AO17=AR$3,$AM17/VLOOKUP($AO17,Data!$A$50:$B$56,2,FALSE),0) -> 0 | AS17: =IF(AS$2=$A17,0,IF(HLOOKUP(AS$2,Recipes!$H:$GI,'Production Calculator'!$A17+2,FALSE)=0,0,HLOOKUP(AS$2,Recipes!$H:$GI,'Production Calculator'!$A17+2,FALSE)*$AK17))+IF($AO17=AS$3,$AM17/VLOOKUP($AO17,Data!$A$50:$B$56,2,FALSE),0) -> 0 | AT17: =IF(AT$2=$A17,0,IF(HLOOKUP(AT$2,Recipes!$H:$GI,'Production Calculator'!$A17+2,FALSE)=0,0,HLOOKUP(AT$2,Recipes!$H:$GI,'Production Calculator'!$A17+2,FALSE)*$AK17))+IF($AO17=AT$3,$AM17/VLOOKUP($AO17,Data!$A$50:$B$56,2,FALSE),0) -> 0 | AU17: =IF(AU$2=$A17,0,IF(HLOOKUP(AU$2,Recipes!$H:$GI,'Production Calculator'!$A17+2,FALSE)=0,0,HLOOKUP(AU$2,Recipes!$H:$GI,'Production Calculator'!$A17+2,FALSE)*$AK17))+IF($AO17=AU$3,$AM17/VLOOKUP($AO17,Data!$A$50:$B$56,2,FALSE),0) -> 0 | AV17: =IF(AV$2=$A17,0,IF(HLOOKUP(AV$2,Recipes!$H:$GI,'Production Calculator'!$A17+2,FALSE)=0,0,HLOOKUP(AV$2,Recipes!$H:$GI,'Production Calculator'!$A17+2,FALSE)*$AK17))+IF($AO17=AV$3,$AM17/VLOOKUP($AO17,Data!$A$50:$B$56,2,FALSE),0) -> 0 | AW17: =IF(AW$2=$A17,0,IF(HLOOKUP(AW$2,Recipes!$H:$GI,'Production Calculator'!$A17+2,FALSE)=0,0,HLOOKUP(AW$2,Recipes!$H:$GI,'Production Calculator'!$A17+2,FALSE)*$AK17))+IF($AO17=AW$3,$AM17/VLOOKUP($AO17,Data!$A$50:$B$56,2,FALSE),0) -> 0 | AX17: =IF(AX$2=$A17,0,IF(HLOOKUP(AX$2,Recipes!$H:$GI,'Production Calculator'!$A17+2,FALSE)=0,0,HLOOKUP(AX$2,Recipes!$H:$GI,'Production Calculator'!$A17+2,FALSE)*$AK17))+IF($AO17=AX$3,$AM17/VLOOKUP($AO17,Data!$A$50:$B$56,2,FALSE),0) -> 0 | ... HR17: =IF(HR$2=$A17,0,IF(HLOOKUP(HR$2,Recipes!$H:$GI,'Production Calculator'!$A17+2,FALSE)=0,0,HLOOKUP(HR$2,Recipes!$H:$GI,'Production Calculator'!$A17+2,FALSE)*$AK17))+IF($AO17=HR$3,$AM17/VLOOKUP($AO17,Data!$A$50:$B$56,2,FALSE),0) -> 0
A18: 6 | B18: =VLOOKUP(A18,Recipes!A:B,2) -> Hazard concrete | C18: 0 | D18: =HLOOKUP(A18,$AQ$2:$HR$202,$A$202-1,FALSE)+C18 -> 0 | E18: Assembly Machine III | F18: =VLOOKUP(A18,Recipes!$A$3:$G$186,6,FALSE) -> 1 | G18: =VLOOKUP(A18,Recipes!$A$3:$G$186,7,FALSE) -> 0 | H18: =ROUNDUP(D18/AL18,0) -> 0 | I18: =VLOOKUP(E18,Data!$A$2:$C$26,3, FALSE) -> 4 | J18: 0 | K18: 0 | L18: 0 | M18: 0 | N18: 0 | O18: 0 | P18: 0 | Q18: 0 | R18: 0 | S18: =J18*$H18 -> 0 | T18: =K18*$H18 -> 0 | U18: =L18*$H18 -> 0 | V18: =M18*$H18 -> 0 | W18: =N18*$H18 -> 0 | X18: =O18*$H18 -> 0 | Y18: =P18*$H18 -> 0 | Z18: =Q18*$H18 -> 0 | AA18: =R18*$H18 -> 0 | AB18: =VLOOKUP($A18,Recipes!$A:$G,4) -> 0.25 | AC18: =VLOOKUP($A18,Recipes!$A:$G,5) -> 10 | AD18: =AC18/AB18 -> 40 | AE18: =VLOOKUP(E18,Data!$A$2:$F$26,5,FALSE) -> 0 | AF18: =VLOOKUP(E18,Data!$A$2:$F$26,4,FALSE) -> 210 | AG18: =VLOOKUP(E18,Data!$A$2:$B$26,2, FALSE) -> 1.25 | AH18: =1+VLOOKUP($J$3,Data!$A$40:$D$48,2,FALSE)*$J18+VLOOKUP($K$3,Data!$A$40:$D$48,2,FALSE)*$K18+VLOOKUP($L$3,Data!$A$40:$D$48,2,FALSE)*$L18+VLOOKUP($M$3,Data!$A$40:$D$48,2,FALSE)*$M18+VLOOKUP($N$3,Data!$A$40:$D$48,2,FALSE)*$N18+VLOOKUP($O$3,Data!$A$40:$D$48,2,FALSE)*$O18+VLOOKUP($P$3,Data!$A$40:$D$48,2,FALSE)*$P18+VLOOKUP($Q$3,Data!$A$40:$D$48,2,FALSE)*$Q18+VLOOKUP($R$3,Data!$A$40:$D$48,2,FALSE)*$R18 -> 1 | AI18: =MAX(1+VLOOKUP($J$3,Data!$A$40:$D$48,3,FALSE)*$J18+VLOOKUP($K$3,Data!$A$40:$D$48,3,FALSE)*$K18+VLOOKUP($L$3,Data!$A$40:$D$48,3,FALSE)*$L18+VLOOKUP($M$3,Data!$A$40:$D$48,3,FALSE)*$M18+VLOOKUP($N$3,Data!$A$40:$D$48,3,FALSE)*$N18+VLOOKUP($O$3,Data!$A$40:$D$48,3,FALSE)*$O18+VLOOKUP($P$3,Data!$A$40:$D$48,3,FALSE)*$P18+VLOOKUP($Q$3,Data!$A$40:$D$48,3,FALSE)*$Q18+VLOOKUP($R$3,Data!$A$40:$D$48,3,FALSE)*$R18,0) -> 1 | AJ18: =MAX(1-(VLOOKUP($J$3,Data!$A$40:$D$48,4,FALSE)*$J18+VLOOKUP($K$3,Data!$A$40:$D$48,4,FALSE)*$K18+VLOOKUP($L$3,Data!$A$40:$D$48,4,FALSE)*$L18+VLOOKUP($M$3,Data!$A$40:$D$48,4,FALSE)*$M18+VLOOKUP($N$3,Data!$A$40:$D$48,4,FALSE)*$N18+VLOOKUP($O$3,Data!$A$40:$D$48,4,FALSE)*$O18+VLOOKUP($P$3,Data!$A$40:$D$48,4,FALSE)*$P18+VLOOKUP($Q$3,Data!$A$40:$D$48,4,FALSE)*$Q18+VLOOKUP($R$3,Data!$A$40:$D$48,4,FALSE)*$R18),0.2) -> 1 | AK18: =D18/(AC18*AH18) -> 0 | AL18: =AD18*AG18*AH18*AI18 -> 50 | AM18: =AE18*H18*AJ18 -> 0 | AN18: =AF18*H18*AJ18 -> 0 | AO18: None | AQ18: =IF(AQ$2=$A18,0,IF(HLOOKUP(AQ$2,Recipes!$H:$GI,'Production Calculator'!$A18+2,FALSE)=0,0,HLOOKUP(AQ$2,Recipes!$H:$GI,'Production Calculator'!$A18+2,FALSE)*$AK18))+IF($AO18=AQ$3,$AM18/VLOOKUP($AO18,Data!$A$50:$B$56,2,FALSE),0) -> 0 | AR18: =IF(AR$2=$A18,0,IF(HLOOKUP(AR$2,Recipes!$H:$GI,'Production Calculator'!$A18+2,FALSE)=0,0,HLOOKUP(AR$2,Recipes!$H:$GI,'Production Calculator'!$A18+2,FALSE)*$AK18))+IF($AO18=AR$3,$AM18/VLOOKUP($AO18,Data!$A$50:$B$56,2,FALSE),0) -> 0 | AS18: =IF(AS$2=$A18,0,IF(HLOOKUP(AS$2,Recipes!$H:$GI,'Production Calculator'!$A18+2,FALSE)=0,0,HLOOKUP(AS$2,Recipes!$H:$GI,'Production Calculator'!$A18+2,FALSE)*$AK18))+IF($AO18=AS$3,$AM18/VLOOKUP($AO18,Data!$A$50:$B$56,2,FALSE),0) -> 0 | AT18: =IF(AT$2=$A18,0,IF(HLOOKUP(AT$2,Recipes!$H:$GI,'Production Calculator'!$A18+2,FALSE)=0,0,HLOOKUP(AT$2,Recipes!$H:$GI,'Production Calculator'!$A18+2,FALSE)*$AK18))+IF($AO18=AT$3,$AM18/VLOOKUP($AO18,Data!$A$50:$B$56,2,FALSE),0) -> 0 | AU18: =IF(AU$2=$A18,0,IF(HLOOKUP(AU$2,Recipes!$H:$GI,'Production Calculator'!$A18+2,FALSE)=0,0,HLOOKUP(AU$2,Recipes!$H:$GI,'Production Calculator'!$A18+2,FALSE)*$AK18))+IF($AO18=AU$3,$AM18/VLOOKUP($AO18,Data!$A$50:$B$56,2,FALSE),0) -> 0 | AV18: =IF(AV$2=$A18,0,IF(HLOOKUP(AV$2,Recipes!$H:$GI,'Production Calculator'!$A18+2,FALSE)=0,0,HLOOKUP(AV$2,Recipes!$H:$GI,'Production Calculator'!$A18+2,FALSE)*$AK18))+IF($AO18=AV$3,$AM18/VLOOKUP($AO18,Data!$A$50:$B$56,2,FALSE),0) -> 0 | AW18: =IF(AW$2=$A18,0,IF(HLOOKUP(AW$2,Recipes!$H:$GI,'Production Calculator'!$A18+2,FALSE)=0,0,HLOOKUP(AW$2,Recipes!$H:$GI,'Production Calculator'!$A18+2,FALSE)*$AK18))+IF($AO18=AW$3,$AM18/VLOOKUP($AO18,Data!$A$50:$B$56,2,FALSE),0) -> 0 | AX18: =IF(AX$2=$A18,0,IF(HLOOKUP(AX$2,Recipes!$H:$GI,'Production Calculator'!$A18+2,FALSE)=0,0,HLOOKUP(AX$2,Recipes!$H:$GI,'Production Calculator'!$A18+2,FALSE)*$AK18))+IF($AO18=AX$3,$AM18/VLOOKUP($AO18,Data!$A$50:$B$56,2,FALSE),0) -> 0 | ... HR18: =IF(HR$2=$A18,0,IF(HLOOKUP(HR$2,Recipes!$H:$GI,'Production Calculator'!$A18+2,FALSE)=0,0,HLOOKUP(HR$2,Recipes!$H:$GI,'Production Calculator'!$A18+2,FALSE)*$AK18))+IF($AO18=HR$3,$AM18/VLOOKUP($AO18,Data!$A$50:$B$56,2,FALSE),0) -> 0
