Workbook

Sheet Dashboard
B2: Number of Rocket Silos | C2: Module | D2: # Speed | E2: # Productivity | F2: # Efficency | G2: Speed | H2: Production | I2: Energy | K2: Module Tips!
C3: Level
B4: 1 | C4: Default | D4: 0 | E4: 0 | F4: 0 | G4: =1*((1+D4*VLOOKUP(C4,DataTables!$B$2:$G$6,2,FALSE))-(E4*0.15)) -> 1 | H4: =1*(1+E4*VLOOKUP(C4,DataTables!$B$2:$G$6,4,FALSE)) -> 1 | I4: =4000*(1+IF(D4*VLOOKUP(C4,DataTables!$B$2:$G$6,3,FALSE)+E4*VLOOKUP(C4,DataTables!$B$2:$G$6,5,FALSE)-F4*VLOOKUP(C4,DataTables!$B$2:$G$6,6)<-0.8,-0.8,(D4*VLOOKUP(C4,DataTables!$B$2:$G$6,3,FALSE)+E4*VLOOKUP(C4,DataTables!$B$2:$G$6,5,FALSE)-F4*VLOOKUP(C4,DataTables!$B$2:$G$6,6)))) -> 4000
K5: Click Me! | M5: Example
B6: One Rocket Launch every: | C6: =300/(G4*B4) -> 300 | D6: seconds | F6: If it's green you can change it!
K7: Click Me! | M7: Example
B8: Your Module Level | C8: 3 | E8: All modules, assembly machines, and furnaces will default to what you select here. However, you can change each type on the specific section if you want to by going to the proper tab.
B9: Assembly Machine Level | C9: 3 | K9: Click Me! | M9: Example
B10: Furnace Level | C10: Electric
K11: Beacon & Energy Tips!
B12: Raw Resources to Build | C12: Iron | D12: Copper | E12: Plastic | F12: Stone | H12: Total Energy | I12: =I4+'Rocket Parts'!C22+'Intermediate Products'!C21+'Modules & Circuits'!C22+Oil!C26+'Mining & Smelting'!C8 -> 322840
B13: Modules | C13: ='Rocket Parts'!F9+'Intermediate Products'!F9+'Modules & Circuits'!F11+Oil!F18+'Mining & Smelting'!F12+D4*VLOOKUP(C4,DataTables!$B$2:$N$6,8,FALSE)+(E4+F4)*VLOOKUP(C4,DataTables!$B$2:$N$6,11,FALSE) -> 0 | D13: ='Rocket Parts'!G9+'Intermediate Products'!G9+'Modules & Circuits'!G11+Oil!G18+'Mining & Smelting'!G12+D4*VLOOKUP(C4,DataTables!$B$2:$N$6,9,FALSE)+(E4+F4)*VLOOKUP(C4,DataTables!$B$2:$N$6,12,FALSE) -> 0 | E13: ='Rocket Parts'!H9+'Intermediate Products'!H9+'Modules & Circuits'!H11+Oil!H18+'Mining & Smelting'!H12+D4*VLOOKUP(C4,DataTables!$B$2:$N$6,10,FALSE)+(E4+F4)*VLOOKUP(C4,DataTables!$B$2:$N$6,13,FALSE) -> 0 | H13: Needed
B14: Silo, Assembly, Chem, etc. | C14: =B4*11500+'Rocket Parts'!F12+'Intermediate Products'!F12+'Modules & Circuits'!F14+Oil!F21+'Mining & Smelting'!F15 -> 126813 | D14: =B4*8800+'Rocket Parts'!G12+'Intermediate Products'!G12+'Modules & Circuits'!G14+Oil!G21+'Mining & Smelting'!G15 -> 96638.5 | E14: =B4*800+'Rocket Parts'!H12+'Intermediate Products'!H12+'Modules & Circuits'!H14+Oil!H21+'Mining & Smelting'!H15 -> 23425 | F14: =B4*1000+'Mining & Smelting'!Q3*VLOOKUP('Mining & Smelting'!H3,DataTables!B14:I18,8,FALSE)+'Mining & Smelting'!Q4*VLOOKUP('Mining & Smelting'!H4,DataTables!B14:I18,8,FALSE)+'Mining & Smelting'!Q5*VLOOKUP('Mining & Smelting'!H5,DataTables!B14:I18,8,FALSE) -> 3160 | H14: Panels | I14: =I12/1000*23.8 -> 7683.592 | K14: Click Me! | M14: Example
B15: Total | C15: =SUM(C13:C14) -> 126813 | D15: =SUM(D13:D14) -> 96638.5 | E15: =SUM(E13:E14) -> 23425 | F15: =SUM(F13:F14) -> 3160 | H15: Accumulators | I15: =I14*0.84 -> 6454.2173
K16: Click Me! | M16: Example
B17: Raw Resources | C17: Iron Ore | D17: Copper Ore | E17: Coal | F17: Crude Oil | H17: After | I17: =IF(I4<960,I4,IF(I4<1200,I4*0.5,I4*0.2))*B4+'Rocket Parts'!C23+'Intermediate Products'!C22+'Modules & Circuits'!C23+Oil!C27+'Mining & Smelting'!C9 -> 319640
B18: to Maintain (s) | C18: ='Mining & Smelting'!C4 -> 715.95087 | D18: ='Mining & Smelting'!C6 -> 576.07316 | E18: =Oil!C17 -> 31.537562 | F18: =Oil!C24 -> 133.54888 | H18: Efficency | K18: Click Me! | M18: Example
H19: Beacons
B20: Resources per Rocket | C20: =C18*$C$6 -> 214785.26 | D20: =D18*$C$6 -> 172821.95 | E20: =E18*$C$6 -> 9461.2687 | F20: =F18*$C$6 -> 40064.665 | H20: Panels | I20: =I17/1000*23.8 -> 7607.432 | K20: Click Me!
H21: Accumulators | I21: =I20*0.84 -> 6390.2429
K22: Click Me!

Sheet Rocket Parts
B2: Items | C2: Inputs (s) | E2: Process | G2: Module Level | H2: Assembly Machine Level | I2: # Speed | J2: # Productivity | K2: # Efficency | L2: Speed | M2: Production | N2: Energy | O2: Input Need /s | P2: Output Need /s | Q2: Assembly Machines*
E3: Satellite | G3: Default | H3: Default | I3: 0 | J3: 0 | K3: 0 | L3: =(VLOOKUP(H3,DataTables!B8:D12,2,FALSE)*((1+I3*VLOOKUP(G3,DataTables!B2:G6,2,FALSE))-(J3*0.15))) -> 1.25 | M3: =1*(1+J3*VLOOKUP(G3,DataTables!$B$2:$G$6,4,FALSE)) -> 1 | N3: =VLOOKUP(H3,DataTables!$B$9:$D$12,3,FALSE)*(1+IF((I3*VLOOKUP(G3,DataTables!$B$2:$G$6,3,FALSE)+J3*VLOOKUP(G3,DataTables!$B$2:$G$6,5,FALSE)-K3*VLOOKUP(G3,DataTables!$B$2:$G$6,6))<-0.8,-0.8,(I3*VLOOKUP(G3,DataTables!$B$2:$G$6,3,FALSE)+J3*VLOOKUP(G3,DataTables!$B$2:$G$6,5,FALSE)-K3*VLOOKUP(G3,DataTables!$B$2:$G$6,6)))) -> 210 | O3: =P3*L3 -> 0.0041666667 | P3: =1/Dashboard!C6 -> 0.0033333333 | Q3: 1
B4: Low Density Structure | E4: Low Density Structure | G4: Default | H4: Default | I4: 0 | J4: 0 | K4: 0 | L4: =(VLOOKUP(H4,DataTables!$B$8:$D$12,2,FALSE)*((1+I4*VLOOKUP(G4,DataTables!$B$2:$G$6,2,FALSE))-(J4*0.15))) -> 1.25 | M4: =1*(1+J4*VLOOKUP(G4,DataTables!$B$2:$G$6,4,FALSE)) -> 1 | N4: =VLOOKUP(H4,DataTables!$B$9:$D$12,3,FALSE)*(1+IF((I4*VLOOKUP(G4,DataTables!$B$2:$G$6,3,FALSE)+J4*VLOOKUP(G4,DataTables!$B$2:$G$6,5,FALSE)-K4*VLOOKUP(G4,DataTables!$B$2:$G$6,6))<-0.8,-0.8,(I4*VLOOKUP(G4,DataTables!$B$2:$G$6,3,FALSE)+J4*VLOOKUP(G4,DataTables!$B$2:$G$6,5,FALSE)-K4*VLOOKUP(G4,DataTables!$B$2:$G$6,6)))) -> 210 | O4: =P4/(L4*M4) -> 2.9333333 | P4: =((100/Dashboard!H4)*10+100)/Dashboard!C6 -> 3.6666667 | Q4: =CEILING(O4*30,1) -> 88
B5: Steel | C5: =O4*10 -> 29.333333 | E5: Rocket Fuel | G5: Default | H5: Default | I5: 0 | J5: 0 | K5: 0 | L5: =(VLOOKUP(H5,DataTables!$B$8:$D$12,2,FALSE)*((1+I5*VLOOKUP(G5,DataTables!$B$2:$G$6,2,FALSE))-(J5*0.15))) -> 1.25 | M5: =1*(1+J5*VLOOKUP(G5,DataTables!$B$2:$G$6,4,FALSE)) -> 1 | N5: =VLOOKUP(H5,DataTables!$B$9:$D$12,3,FALSE)*(1+IF((I5*VLOOKUP(G5,DataTables!$B$2:$G$6,3,FALSE)+J5*VLOOKUP(G5,DataTables!$B$2:$G$6,5,FALSE)-K5*VLOOKUP(G5,DataTables!$B$2:$G$6,6))<-0.8,-0.8,(I5*VLOOKUP(G5,DataTables!$B$2:$G$6,3,FALSE)+J5*VLOOKUP(G5,DataTables!$B$2:$G$6,5,FALSE)-K5*VLOOKUP(G5,DataTables!$B$2:$G$6,6)))) -> 210 | O5: =P5/(L5*M5) -> 2.8 | P5: =((100/Dashboard!H4)*10+50)/Dashboard!C6 -> 3.5 | Q5: =CEILING(O5*30,1) -> 84
B6: Copper | C6: =O4*5 -> 14.666667 | E6: Control Unit | G6: Default | H6: Default | I6: 0 | J6: 0 | K6: 0 | L6: =(VLOOKUP(H6,DataTables!$B$8:$D$12,2,FALSE)*((1+I6*VLOOKUP(G6,DataTables!$B$2:$G$6,2,FALSE))-(J6*0.15))) -> 1.25 | M6: =1*(1+J6*VLOOKUP(G6,DataTables!$B$2:$G$6,4,FALSE)) -> 1 | N6: =VLOOKUP(H6,DataTables!$B$9:$D$12,3,FALSE)*(1+IF((I6*VLOOKUP(G6,DataTables!$B$2:$G$6,3,FALSE)+J6*VLOOKUP(G6,DataTables!$B$2:$G$6,5,FALSE)-K6*VLOOKUP(G6,DataTables!$B$2:$G$6,6))<-0.8,-0.8,(I6*VLOOKUP(G6,DataTables!$B$2:$G$6,3,FALSE)+J6*VLOOKUP(G6,DataTables!$B$2:$G$6,5,FALSE)-K6*VLOOKUP(G6,DataTables!$B$2:$G$6,6)))) -> 210 | O6: =P6/(L6*M6) -> 2.6666667 | P6: =((100/Dashboard!H4)*10)/Dashboard!C6 -> 3.3333333 | Q6: =CEILING(O6*30,1) -> 80
B7: Plastic | C7: =O4*5 -> 14.666667
E8: Module | F8: Iron | G8: Copper | H8: Plastic | O8: *Only highlighted to be easier to pick out, not as editable!
B9: Rocket Fuel | E9: Costs | F9: =I3*VLOOKUP(G3,DataTables!$B$2:$N$6,8,FALSE)+I4*VLOOKUP(G4,DataTables!$B$2:$N$6,8,FALSE)+I5*VLOOKUP(G5,DataTables!$B$2:$N$6,8,FALSE)+I6*VLOOKUP(G6,DataTables!$B$2:$N$6,8,FALSE)+(J3+K3)*VLOOKUP(G3,DataTables!$B$2:$N$6,11,FALSE)+(J4+K4)*VLOOKUP(G4,DataTables!$B$2:$N$6,11,FALSE)+(J5+K5)*VLOOKUP(G5,DataTables!$B$2:$N$6,11,FALSE)+(J6+K6)*VLOOKUP(G6,DataTables!$B$2:$N$6,11,FALSE) -> 0 | G9: =I3*VLOOKUP(G3,DataTables!$B$2:$N$6,9,FALSE)+I4*VLOOKUP(G4,DataTables!$B$2:$N$6,9,FALSE)+I5*VLOOKUP(G5,DataTables!$B$2:$N$6,9,FALSE)+I6*VLOOKUP(G6,DataTables!$B$2:$N$6,9,FALSE)+(J3+K3)*VLOOKUP(G3,DataTables!$B$2:$N$6,12,FALSE)+(J4+K4)*VLOOKUP(G4,DataTables!$B$2:$N$6,12,FALSE)+(J5+K5)*VLOOKUP(G5,DataTables!$B$2:$N$6,12,FALSE)+(J6+K6)*VLOOKUP(G6,DataTables!$B$2:$N$6,12,FALSE) -> 0 | H9: =I3*VLOOKUP(G3,DataTables!$B$2:$N$6,10,FALSE)+I4*VLOOKUP(G4,DataTables!$B$2:$N$6,10,FALSE)+I5*VLOOKUP(G5,DataTables!$B$2:$N$6,10,FALSE)+I6*VLOOKUP(G6,DataTables!$B$2:$N$6,10,FALSE)+(J3+K3)*VLOOKUP(G3,DataTables!$B$2:$N$6,13,FALSE)+(J4+K4)*VLOOKUP(G4,DataTables!$B$2:$N$6,13,FALSE)+(J5+K5)*VLOOKUP(G5,DataTables!$B$2:$N$6,13,FALSE)+(J6+K6)*VLOOKUP(G6,DataTables!$B$2:$N$6,13,FALSE) -> 0
B10: Solid Fuel | C10: =O5*10 -> 28
E11: Assembely | F11: Iron | G11: Copper | H11: Plastic
B12: Rocket Control Unit | E12: Costs | F12: =Q3*VLOOKUP(H3,DataTables!$B$8:$H$12,5,FALSE)+Q4*VLOOKUP(H4,DataTables!$B$8:$H$12,5,FALSE)+Q5*VLOOKUP(H5,DataTables!$B$8:$H$12,5,FALSE)+Q6*VLOOKUP(H6,DataTables!$B$8:$H$12,5,FALSE) -> 37444 | G12: =Q3*VLOOKUP(H3,DataTables!$B$8:$H$12,6,FALSE)+Q4*VLOOKUP(H4,DataTables!$B$8:$H$12,6,FALSE)+Q5*VLOOKUP(H5,DataTables!$B$8:$H$12,6,FALSE)+Q6*VLOOKUP(H6,DataTables!$B$8:$H$12,6,FALSE) -> 37444 | H12: =Q3*VLOOKUP(H3,DataTables!$B$8:$H$12,7,FALSE)+Q4*VLOOKUP(H4,DataTables!$B$8:$H$12,7,FALSE)+Q5*VLOOKUP(H5,DataTables!$B$8:$H$12,7,FALSE)+Q6*VLOOKUP(H6,DataTables!$B$8:$H$12,7,FALSE) -> 10120
B13: Blue Circuit | C13: =O6 -> 2.6666667
B14: Speed Module 1 | C14: =O6 -> 2.6666667
B16: Satellite**
B17: Solar Panels | C17: =100/(Dashboard!$C$6-3) -> 0.33670034
B18: Accumulators | C18: =100/(Dashboard!$C$6-3) -> 0.33670034
B19: Radar | C19: =5/(Dashboard!$C$6-3) -> 0.016835017
B20: Blue Circuits | C20: =100/(Dashboard!$C$6-3) -> 0.33670034
B22: Energy Total | C22: =N3*Q3+N4*Q4+N5*Q5+N6*Q6 -> 53130
B23: With Efficency Beacons | C23: =IF(N3<960,N3,IF(N3<1200,N3*0.5,N3*0.2))*Q3+IF(N4<960,N4,IF(N4<1200,N4*0.5,N4*0.2))*Q4+IF(N5<960,N5,IF(N5<1200,N5*0.5,N5*0.2))*Q5+IF(N6<960,N6,IF(N6<1200,N6*0.5,N6*0.2))*Q6 -> 53130
B25: **Rocket fuel and low denisty structures used for satellites are included in the above section.

Sheet Intermediate Products
B2: Items* | C2: Inputs (s) | E2: Process | G2: Module Level | H2: Assembly Machine Level | I2: # Speed | J2: # Productivity | K2: # Efficency | L2: Speed | M2: Production | N2: Energy | O2: Input Need /s | P2: Output Need /s | Q2: Assembly Machines
E3: Solar Panels | G3: Default | H3: Default | I3: 0 | J3: 0 | K3: 0 | L3: =(VLOOKUP(H3,DataTables!$B$8:$D$12,2,FALSE)*((1+I3*VLOOKUP(G3,DataTables!$B$2:$G$6,2,FALSE))-(J3*0.15))) -> 1.25 | M3: =1*(1+J3*VLOOKUP(G3,DataTables!$B$2:$G$6,4,FALSE)) -> 1 | N3: =VLOOKUP(H3,DataTables!$B$9:$D$12,3,FALSE)*(1+IF((I3*VLOOKUP(G3,DataTables!$B$2:$G$6,3,FALSE)+J3*VLOOKUP(G3,DataTables!$B$2:$G$6,5,FALSE)-K3*VLOOKUP(G3,DataTables!$B$2:$G$6,6))<-0.8,-0.8,(I3*VLOOKUP(G3,DataTables!$B$2:$G$6,3,FALSE)+J3*VLOOKUP(G3,DataTables!$B$2:$G$6,5,FALSE)-K3*VLOOKUP(G3,DataTables!$B$2:$G$6,6)))) -> 210 | O3: =P3/(L3*M3) -> 0.26936027 | P3: ='Rocket Parts'!C17 -> 0.33670034 | Q3: =CEILING(O3*10,1) -> 3
B4: Solar Panels | E4: Accumulator | G4: Default | H4: Default | I4: 0 | J4: 0 | K4: 0 | L4: =(VLOOKUP(H4,DataTables!$B$8:$D$12,2,FALSE)*((1+I4*VLOOKUP(G4,DataTables!$B$2:$G$6,2,FALSE))-(J4*0.15))) -> 1.25 | M4: =1*(1+J4*VLOOKUP(G4,DataTables!$B$2:$G$6,4,FALSE)) -> 1 | N4: =VLOOKUP(H4,DataTables!$B$9:$D$12,3,FALSE)*(1+IF((I4*VLOOKUP(G4,DataTables!$B$2:$G$6,3,FALSE)+J4*VLOOKUP(G4,DataTables!$B$2:$G$6,5,FALSE)-K4*VLOOKUP(G4,DataTables!$B$2:$G$6,6))<-0.8,-0.8,(I4*VLOOKUP(G4,DataTables!$B$2:$G$6,3,FALSE)+J4*VLOOKUP(G4,DataTables!$B$2:$G$6,5,FALSE)-K4*VLOOKUP(G4,DataTables!$B$2:$G$6,6)))) -> 210 | O4: =P4/(L4*M4) -> 0.26936027 | P4: ='Rocket Parts'!C18 -> 0.33670034 | Q4: =CEILING(O4*10,1) -> 3
B5: Steel | C5: =5*O3 -> 1.3468013 | E5: Radar | G5: Default | H5: Default | I5: 0 | J5: 0 | K5: 0 | L5: =(VLOOKUP(H5,DataTables!$B$8:$D$12,2,FALSE)*((1+I5*VLOOKUP(G5,DataTables!$B$2:$G$6,2,FALSE))-(J5*0.15))) -> 1.25 | M5: =1*(1+J5*VLOOKUP(G5,DataTables!$B$2:$G$6,4,FALSE)) -> 1 | N5: =VLOOKUP(H5,DataTables!$B$9:$D$12,3,FALSE)*(1+IF((I5*VLOOKUP(G5,DataTables!$B$2:$G$6,3,FALSE)+J5*VLOOKUP(G5,DataTables!$B$2:$G$6,5,FALSE)-K5*VLOOKUP(G5,DataTables!$B$2:$G$6,6))<-0.8,-0.8,(I5*VLOOKUP(G5,DataTables!$B$2:$G$6,3,FALSE)+J5*VLOOKUP(G5,DataTables!$B$2:$G$6,5,FALSE)-K5*VLOOKUP(G5,DataTables!$B$2:$G$6,6)))) -> 210 | O5: =P5/(L5*M5) -> 0.013468013 | P5: ='Rocket Parts'!C19 -> 0.016835017 | Q5: =CEILING(O5*0.5,1) -> 1
B6: Green Circuit | C6: =15*O3 -> 4.040404 | E6: Gear | G6: Default | H6: Default | I6: 0 | J6: 0 | K6: 0 | L6: =(VLOOKUP(H6,DataTables!$B$8:$D$12,2,FALSE)*((1+I6*VLOOKUP(G6,DataTables!$B$2:$G$6,2,FALSE))-(J6*0.15))) -> 1.25 | M6: =1*(1+J6*VLOOKUP(G6,DataTables!$B$2:$G$6,4,FALSE)) -> 1 | N6: =VLOOKUP(H6,DataTables!$B$9:$D$12,3,FALSE)*(1+IF((I6*VLOOKUP(G6,DataTables!$B$2:$G$6,3,FALSE)+J6*VLOOKUP(G6,DataTables!$B$2:$G$6,5,FALSE)-K6*VLOOKUP(G6,DataTables!$B$2:$G$6,6))<-0.8,-0.8,(I6*VLOOKUP(G6,DataTables!$B$2:$G$6,3,FALSE)+J6*VLOOKUP(G6,DataTables!$B$2:$G$6,5,FALSE)-K6*VLOOKUP(G6,DataTables!$B$2:$G$6,6)))) -> 210 | O6: =P6/(L6*M6) -> 0.053872054 | P6: =C16 -> 0.067340067 | Q6: =CEILING(O6*0.5,1) -> 1
B7: Copper Plate | C7: =5*O3 -> 1.3468013
E8: Module | F8: Iron | G8: Copper | H8: Plastic
B9: Accumulator | E9: Costs | F9: =I3*VLOOKUP(G3,DataTables!$B$2:$N$6,8,FALSE)+I4*VLOOKUP(G4,DataTables!$B$2:$N$6,8,FALSE)+I5*VLOOKUP(G5,DataTables!$B$2:$N$6,8,FALSE)+I6*VLOOKUP(G6,DataTables!$B$2:$N$6,8,FALSE)+(J3+K3)*VLOOKUP(G3,DataTables!$B$2:$N$6,11,FALSE)+(J4+K4)*VLOOKUP(G4,DataTables!$B$2:$N$6,11,FALSE)+(J5+K5)*VLOOKUP(G5,DataTables!$B$2:$N$6,11,FALSE)+(J6+K6)*VLOOKUP(G6,DataTables!$B$2:$N$6,11,FALSE) -> 0 | G9: =I3*VLOOKUP(G3,DataTables!$B$2:$N$6,9,FALSE)+I4*VLOOKUP(G4,DataTables!$B$2:$N$6,9,FALSE)+I5*VLOOKUP(G5,DataTables!$B$2:$N$6,9,FALSE)+I6*VLOOKUP(G6,DataTables!$B$2:$N$6,9,FALSE)+(J3+K3)*VLOOKUP(G3,DataTables!$B$2:$N$6,12,FALSE)+(J4+K4)*VLOOKUP(G4,DataTables!$B$2:$N$6,12,FALSE)+(J5+K5)*VLOOKUP(G5,DataTables!$B$2:$N$6,12,FALSE)+(J6+K6)*VLOOKUP(G6,DataTables!$B$2:$N$6,12,FALSE) -> 0 | H9: =I3*VLOOKUP(G3,DataTables!$B$2:$N$6,10,FALSE)+I4*VLOOKUP(G4,DataTables!$B$2:$N$6,10,FALSE)+I5*VLOOKUP(G5,DataTables!$B$2:$N$6,10,FALSE)+I6*VLOOKUP(G6,DataTables!$B$2:$N$6,10,FALSE)+(J3+K3)*VLOOKUP(G3,DataTables!$B$2:$N$6,13,FALSE)+(J4+K4)*VLOOKUP(G4,DataTables!$B$2:$N$6,13,FALSE)+(J5+K5)*VLOOKUP(G5,DataTables!$B$2:$N$6,13,FALSE)+(J6+K6)*VLOOKUP(G6,DataTables!$B$2:$N$6,13,FALSE) -> 0
B10: Iron Plate | C10: =2*O4 -> 0.53872054
B11: Battery | C11: =5*O4 -> 1.3468013 | E11: Assembely | F11: Iron | G11: Copper | H11: Plastic
E12: Costs | F12: =Q3*VLOOKUP(H3,DataTables!$B$8:$H$12,5,FALSE)+Q4*VLOOKUP(H4,DataTables!$B$8:$H$12,5,FALSE)+Q5*VLOOKUP(H5,DataTables!$B$8:$H$12,5,FALSE)+Q6*VLOOKUP(H6,DataTables!$B$8:$H$12,5,FALSE) -> 1184 | G12: =Q3*VLOOKUP(H3,DataTables!$B$8:$H$12,6,FALSE)+Q4*VLOOKUP(H4,DataTables!$B$8:$H$12,6,FALSE)+Q5*VLOOKUP(H5,DataTables!$B$8:$H$12,6,FALSE)+Q6*VLOOKUP(H6,DataTables!$B$8:$H$12,6,FALSE) -> 1184 | H12: =Q3*VLOOKUP(H3,DataTables!$B$8:$H$12,7,FALSE)+Q4*VLOOKUP(H4,DataTables!$B$8:$H$12,7,FALSE)+Q5*VLOOKUP(H5,DataTables!$B$8:$H$12,7,FALSE)+Q6*VLOOKUP(H6,DataTables!$B$8:$H$12,7,FALSE) -> 320
B13: Radar
B14: Green Circuit | C14: =5*O5 -> 0.067340067
B15: Iron Plate | C15: =10*O5 -> 0.13468013
B16: Iron Gear Wheel | C16: =5*O5 -> 0.067340067
B18: Iron Gear Wheel
B19: Iron Plate | C19: =2*O6 -> 0.10774411
B21: Energy Total | C21: =N3*Q3+N4*Q4+N5*Q5+N6*Q6 -> 1680
B22: With Efficency Beacons | C22: =IF(N3<960,N3,IF(N3<1200,N3*0.5,N3*0.2))*Q3+IF(N4<960,N4,IF(N4<1200,N4*0.5,N4*0.2))*Q4+IF(N5<960,N5,IF(N5<1200,N5*0.5,N5*0.2))*Q5+IF(N6<960,N6,IF(N6<1200,N6*0.5,N6*0.2))*Q6 -> 1680
B24: *Copper Cable should be here, but I choose to make on site, so I seperated it into Green and Red sections on the Modules & Circuits tab

Sheet Modules & Circuits
B2: Items | C2: Inputs (s) | E2: Process | G2: Module Level | H2: Assembly Machine Level | I2: # Speed | J2: # Productivity | K2: # Efficency | L2: Speed | M2: Production | N2: Energy | O2: Input Need /s | P2: Output Need /s | Q2: Assembly Machines
E3: Speed Module 1 | G3: Default | H3: Default | I3: 0 | J3: 0 | K3: 0 | L3: =(VLOOKUP(H3,DataTables!$B$8:$D$12,2,FALSE)*((1+I3*VLOOKUP(G3,DataTables!$B$2:$G$6,2,FALSE))-(J3*0.15))) -> 1.25 | M3: =1*(1+J3*VLOOKUP(G3,DataTables!$B$2:$G$6,4,FALSE)) -> 1 | N3: =VLOOKUP(H3,DataTables!$B$9:$D$12,3,FALSE)*(1+IF((I3*VLOOKUP(G3,DataTables!$B$2:$G$6,3,FALSE)+J3*VLOOKUP(G3,DataTables!$B$2:$G$6,5,FALSE)-K3*VLOOKUP(G3,DataTables!$B$2:$G$6,6))<-0.8,-0.8,(I3*VLOOKUP(G3,DataTables!$B$2:$G$6,3,FALSE)+J3*VLOOKUP(G3,DataTables!$B$2:$G$6,5,FALSE)-K3*VLOOKUP(G3,DataTables!$B$2:$G$6,6)))) -> 210 | O3: =P3/(L3*M3) -> 2.1333333 | P3: ='Rocket Parts'!C14 -> 2.6666667 | Q3: =CEILING(O3*15,1) -> 32
B4: Speed Module 1 | E4: Blue Circuit | G4: Default | H4: Default | I4: 0 | J4: 0 | K4: 0 | L4: =(VLOOKUP(H4,DataTables!$B$8:$D$12,2,FALSE)*((1+I4*VLOOKUP(G4,DataTables!$B$2:$G$6,2,FALSE))-(J4*0.15))) -> 1.25 | M4: =1*(1+J4*VLOOKUP(G4,DataTables!$B$2:$G$6,4,FALSE)) -> 1 | N4: =VLOOKUP(H4,DataTables!$B$9:$D$12,3,FALSE)*(1+IF((I4*VLOOKUP(G4,DataTables!$B$2:$G$6,3,FALSE)+J4*VLOOKUP(G4,DataTables!$B$2:$G$6,5,FALSE)-K4*VLOOKUP(G4,DataTables!$B$2:$G$6,6))<-0.8,-0.8,(I4*VLOOKUP(G4,DataTables!$B$2:$G$6,3,FALSE)+J4*VLOOKUP(G4,DataTables!$B$2:$G$6,5,FALSE)-K4*VLOOKUP(G4,DataTables!$B$2:$G$6,6)))) -> 210 | O4: =P4/(L4*M4) -> 2.4026936 | P4: ='Rocket Parts'!C20+'Rocket Parts'!C13 -> 3.003367 | Q4: =CEILING(O4*15,1) -> 37
B5: Green Circuit | C5: =5*O3 -> 10.666667 | E5: Red Circuit | G5: Default | H5: Default | I5: 0 | J5: 0 | K5: 0 | L5: =(VLOOKUP(H5,DataTables!$B$8:$D$12,2,FALSE)*((1+I5*VLOOKUP(G5,DataTables!$B$2:$G$6,2,FALSE))-(J5*0.15))) -> 1.25 | M5: =1*(1+J5*VLOOKUP(G5,DataTables!$B$2:$G$6,4,FALSE)) -> 1 | N5: =VLOOKUP(H5,DataTables!$B$9:$D$12,3,FALSE)*(1+IF((I5*VLOOKUP(G5,DataTables!$B$2:$G$6,3,FALSE)+J5*VLOOKUP(G5,DataTables!$B$2:$G$6,5,FALSE)-K5*VLOOKUP(G5,DataTables!$B$2:$G$6,6))<-0.8,-0.8,(I5*VLOOKUP(G5,DataTables!$B$2:$G$6,3,FALSE)+J5*VLOOKUP(G5,DataTables!$B$2:$G$6,5,FALSE)-K5*VLOOKUP(G5,DataTables!$B$2:$G$6,6)))) -> 210 | O5: =P5/(L5*M5) -> 12.377643 | P5: =C6+C10 -> 15.472054 | Q5: =CEILING(O5*8,1) -> 100
B6: Red Circuit | C6: =5*O3 -> 10.666667 | E6: Copper Cable | G6: Default | H6: Default | I6: 0 | J6: 0 | K6: 0 | L6: =(VLOOKUP(H6,DataTables!$B$8:$D$12,2,FALSE)*((1+I6*VLOOKUP(G6,DataTables!$B$2:$G$6,2,FALSE))-(J6*0.15))) -> 1.25 | M6: =1*(1+J6*VLOOKUP(G6,DataTables!$B$2:$G$6,4,FALSE)) -> 1 | N6: =VLOOKUP(H6,DataTables!$B$9:$D$12,3,FALSE)*(1+IF((I6*VLOOKUP(G6,DataTables!$B$2:$G$6,3,FALSE)+J6*VLOOKUP(G6,DataTables!$B$2:$G$6,5,FALSE)-K6*VLOOKUP(G6,DataTables!$B$2:$G$6,6))<-0.8,-0.8,(I6*VLOOKUP(G6,DataTables!$B$2:$G$6,3,FALSE)+J6*VLOOKUP(G6,DataTables!$B$2:$G$6,5,FALSE)-K6*VLOOKUP(G6,DataTables!$B$2:$G$6,6)))) -> 210 | O6: =P6/(L6*M6)/2 -> 19.804229 | P6: =4*O5 -> 49.510572 | Q6: =CEILING(O6*0.5,1) -> 10
E7: Green Circuit | G7: Default | H7: Default | I7: 0 | J7: 0 | K7: 0 | L7: =(VLOOKUP(H7,DataTables!$B$8:$D$12,2,FALSE)*((1+I7*VLOOKUP(G7,DataTables!$B$2:$G$6,2,FALSE))-(J7*0.15))) -> 1.25 | M7: =1*(1+J7*VLOOKUP(G7,DataTables!$B$2:$G$6,4,FALSE)) -> 1 | N7: =VLOOKUP(H7,DataTables!$B$9:$D$12,3,FALSE)*(1+IF((I7*VLOOKUP(G7,DataTables!$B$2:$G$6,3,FALSE)+J7*VLOOKUP(G7,DataTables!$B$2:$G$6,5,FALSE)-K7*VLOOKUP(G7,DataTables!$B$2:$G$6,6))<-0.8,-0.8,(I7*VLOOKUP(G7,DataTables!$B$2:$G$6,3,FALSE)+J7*VLOOKUP(G7,DataTables!$B$2:$G$6,5,FALSE)-K7*VLOOKUP(G7,DataTables!$B$2:$G$6,6)))) -> 210 | O7: =P7/(L7*M7) -> 70.066855 | P7: =C5+C9+C14+'Intermediate Products'!C6+'Intermediate Products'!C14 -> 87.583569 | Q7: =CEILING(O7*0.5,1) -> 36
B8: Blue Circuit | E8: Copper Cable | G8: Default | H8: Default | I8: 0 | J8: 0 | K8: 0 | L8: =(VLOOKUP(H8,DataTables!$B$8:$D$12,2,FALSE)*((1+I8*VLOOKUP(G8,DataTables!$B$2:$G$6,2,FALSE))-(J8*0.15))) -> 1.25 | M8: =1*(1+J8*VLOOKUP(G8,DataTables!$B$2:$G$6,4,FALSE)) -> 1 | N8: =VLOOKUP(H8,DataTables!$B$9:$D$12,3,FALSE)*(1+IF((I8*VLOOKUP(G8,DataTables!$B$2:$G$6,3,FALSE)+J8*VLOOKUP(G8,DataTables!$B$2:$G$6,5,FALSE)-K8*VLOOKUP(G8,DataTables!$B$2:$G$6,6))<-0.8,-0.8,(I8*VLOOKUP(G8,DataTables!$B$2:$G$6,3,FALSE)+J8*VLOOKUP(G8,DataTables!$B$2:$G$6,5,FALSE)-K8*VLOOKUP(G8,DataTables!$B$2:$G$6,6)))) -> 210 | O8: =P8/(L8*M8)/2 -> 84.080226 | P8: =3*O7 -> 210.20057 | Q8: =CEILING(O8*0.5,1) -> 43
B9: Green Circuit | C9: =20*O4 -> 48.053872
B10: Red Circuit | C10: =2*O4 -> 4.8053872 | E10: Module | F10: Iron | G10: Copper | H10: Plastic
B11: Sulfuric Acid | C11: =0.5*O4 -> 1.2013468 | E11: Costs | F11: =I3*VLOOKUP(G3,DataTables!$B$2:$N$6,8,FALSE)+I4*VLOOKUP(G4,DataTables!$B$2:$N$6,8,FALSE)+I5*VLOOKUP(G5,DataTables!$B$2:$N$6,8,FALSE)+I6*VLOOKUP(G6,DataTables!$B$2:$N$6,8,FALSE)+I7*VLOOKUP(G7,DataTables!$B$2:$N$6,8,FALSE)+I8*VLOOKUP(G8,DataTables!$B$2:$N$6,8,FALSE)+(J3+K3)*VLOOKUP(G3,DataTables!$B$2:$N$6,11,FALSE)+(J4+K4)*VLOOKUP(G4,DataTables!$B$2:$N$6,11,FALSE)+(J5+K5)*VLOOKUP(G5,DataTables!$B$2:$N$6,11,FALSE)+(J6+K6)*VLOOKUP(G6,DataTables!$B$2:$N$6,11,FALSE)+(J7+K7)*VLOOKUP(G7,DataTables!$B$2:$N$6,11,FALSE)+(J8+K8)*VLOOKUP(G8,DataTables!$B$2:$N$6,11,FALSE) -> 0 | G11: =I3*VLOOKUP(G3,DataTables!$B$2:$N$6,9,FALSE)+I4*VLOOKUP(G4,DataTables!$B$2:$N$6,9,FALSE)+I5*VLOOKUP(G5,DataTables!$B$2:$N$6,9,FALSE)+I6*VLOOKUP(G6,DataTables!$B$2:$N$6,9,FALSE)+I7*VLOOKUP(G7,DataTables!$B$2:$N$6,9,FALSE)+I8*VLOOKUP(G8,DataTables!$B$2:$N$6,9,FALSE)+(J3+K3)*VLOOKUP(G3,DataTables!$B$2:$N$6,12,FALSE)+(J4+K4)*VLOOKUP(G4,DataTables!$B$2:$N$6,12,FALSE)+(J5+K5)*VLOOKUP(G5,DataTables!$B$2:$N$6,12,FALSE)+(J6+K6)*VLOOKUP(G6,DataTables!$B$2:$N$6,12,FALSE)+(J7+K7)*VLOOKUP(G7,DataTables!$B$2:$N$6,12,FALSE)+(J8+K8)*VLOOKUP(G8,DataTables!$B$2:$N$6,12,FALSE) -> 0 | H11: =I3*VLOOKUP(G3,DataTables!$B$2:$N$6,10,FALSE)+I4*VLOOKUP(G4,DataTables!$B$2:$N$6,10,FALSE)+I5*VLOOKUP(G5,DataTables!$B$2:$N$6,10,FALSE)+I6*VLOOKUP(G6,DataTables!$B$2:$N$6,10,FALSE)+I7*VLOOKUP(G7,DataTables!$B$2:$N$6,10,FALSE)+I8*VLOOKUP(G8,DataTables!$B$2:$N$6,10,FALSE)+(J3+K3)*VLOOKUP(G3,DataTables!$B$2:$N$6,13,FALSE)+(J4+K4)*VLOOKUP(G4,DataTables!$B$2:$N$6,13,FALSE)+(J5+K5)*VLOOKUP(G5,DataTables!$B$2:$N$6,13,FALSE)+(J6+K6)*VLOOKUP(G6,DataTables!$B$2:$N$6,13,FALSE)+(J7+K7)*VLOOKUP(G7,DataTables!$B$2:$N$6,13,FALSE)+(J8+K8)*VLOOKUP(G8,DataTables!$B$2:$N$6,13,FALSE) -> 0
B13: Red Circuit | E13: Assembely | F13: Iron | G13: Copper | H13: Plastic
B14: Green Circuit | C14: =2*O5 -> 24.755286 | E14: Costs | F14: =Q3*VLOOKUP(H3,DataTables!$B$8:$H$12,5,FALSE)+Q4*VLOOKUP(H4,DataTables!$B$8:$H$12,5,FALSE)+Q5*VLOOKUP(H5,DataTables!$B$8:$H$12,5,FALSE)+Q6*VLOOKUP(H6,DataTables!$B$8:$H$12,5,FALSE)+Q7*VLOOKUP(H7,DataTables!$B$8:$H$12,5,FALSE)+Q8*VLOOKUP(H8,DataTables!$B$8:$H$12,5,FALSE) -> 38184 | G14: =Q3*VLOOKUP(H3,DataTables!$B$8:$H$12,6,FALSE)+Q4*VLOOKUP(H4,DataTables!$B$8:$H$12,6,FALSE)+Q5*VLOOKUP(H5,DataTables!$B$8:$H$12,6,FALSE)+Q6*VLOOKUP(H6,DataTables!$B$8:$H$12,6,FALSE)+Q7*VLOOKUP(H7,DataTables!$B$8:$H$12,6,FALSE)+Q8*VLOOKUP(H8,DataTables!$B$8:$H$12,6,FALSE) -> 38184 | H14: =Q3*VLOOKUP(H3,DataTables!$B$8:$H$12,7,FALSE)+Q4*VLOOKUP(H4,DataTables!$B$8:$H$12,7,FALSE)+Q5*VLOOKUP(H5,DataTables!$B$8:$H$12,7,FALSE)+Q6*VLOOKUP(H6,DataTables!$B$8:$H$12,7,FALSE) -> 7160
B15: Plastic | C15: =2*O5 -> 24.755286
B16: Copper cable | C16: =4*O5 -> 49.510572
B18: Green Circuit
B19: Iron Plate | C19: =1*O7 -> 70.066855
B20: Copper Cable | C20: =3*O7 -> 210.20057
B22: Energy Total | C22: =N3*Q3+N4*Q4+N5*Q5+N6*Q6+N7*Q7+N8*Q8 -> 54180
B23: With Efficency Beacons | C23: =IF(N3<960,N3,IF(N3<1200,N3*0.5,N3*0.2))*Q3+IF(N4<960,N4,IF(N4<1200,N4*0.5,N4*0.2))*Q4+IF(N5<960,N5,IF(N5<1200,N5*0.5,N5*0.2))*Q5+IF(N6<960,N6,IF(N6<1200,N6*0.5,N6*0.2))*Q6+IF(N7<960,N7,IF(N7<1200,N7*0.5,N7*0.2))*Q7+IF(N8<960,N8,IF(N8<1200,N8*0.5,N8*0.2))*Q8 -> 54180

Sheet Oil
B2: Item | C2: Inputs (s) | E2: Process | G2: Module Level | I2: # Speed | J2: # Productivity | K2: # Efficency | L2: Speed | M2: Production | N2: Energy | O2: Input Need /s | P2: Output Need /s | Q2: Chemical Plants
E3: Battery | G3: Default | I3: 0 | J3: 0 | K3: 0 | L3: =1.25*((1+I3*VLOOKUP(G3,DataTables!$B$2:$G$6,2,FALSE))-(J3*0.15)) -> 1.25 | M3: =1*(1+J3*VLOOKUP(G3,DataTables!$B$2:$G$6,4,FALSE)) -> 1 | N3: =210*(1+IF((I3*VLOOKUP(G3,DataTables!$B$2:$G$6,3,FALSE)+J3*VLOOKUP(G3,DataTables!$B$2:$G$6,5,FALSE)-K3*VLOOKUP(G3,DataTables!$B$2:$G$6,6))<-0.8,-0.8,(I3*VLOOKUP(G3,DataTables!$B$2:$G$6,3,FALSE)+J3*VLOOKUP(G3,DataTables!$B$2:$G$6,5,FALSE)-K3*VLOOKUP(G3,DataTables!$B$2:$G$6,6)))) -> 210 | O3: =P3/(L3*M3) -> 1.0774411 | P3: ='Intermediate Products'!C11 -> 1.3468013 | Q3: =CEILING(O3*5,1) -> 6
B4: Battery | E4: Sulfuric Acid | G4: Default | I4: 0 | J4: 0 | K4: 0 | L4: =1.25*((1+I4*VLOOKUP(G4,DataTables!$B$2:$G$6,2,FALSE))-(J4*0.15)) -> 1.25 | M4: =1*(1+J4*VLOOKUP(G4,DataTables!$B$2:$G$6,4,FALSE)) -> 1 | N4: =210*(1+IF((I4*VLOOKUP(G4,DataTables!$B$2:$G$6,3,FALSE)+J4*VLOOKUP(G4,DataTables!$B$2:$G$6,5,FALSE)-K4*VLOOKUP(G4,DataTables!$B$2:$G$6,6))<-0.8,-0.8,(I4*VLOOKUP(G4,DataTables!$B$2:$G$6,3,FALSE)+J4*VLOOKUP(G4,DataTables!$B$2:$G$6,5,FALSE)-K4*VLOOKUP(G4,DataTables!$B$2:$G$6,6)))) -> 210 | O4: =P4/(L4*M4) -> 1.7239057 | P4: =C7 -> 2.1548822 | Q4: =CEILING(O4*1,1) -> 2
B5: Iron Plate | C5: =1*$O$3 -> 1.0774411 | E5: Sulfur | G5: Default | I5: 0 | J5: 0 | K5: 0 | L5: =1.25*((1+I5*VLOOKUP(G5,DataTables!$B$2:$G$6,2,FALSE))-(J5*0.15)) -> 1.25 | M5: =1*(1+J5*VLOOKUP(G5,DataTables!$B$2:$G$6,4,FALSE)) -> 1 | N5: =210*(1+IF((I5*VLOOKUP(G5,DataTables!$B$2:$G$6,3,FALSE)+J5*VLOOKUP(G5,DataTables!$B$2:$G$6,5,FALSE)-K5*VLOOKUP(G5,DataTables!$B$2:$G$6,6))<-0.8,-0.8,(I5*VLOOKUP(G5,DataTables!$B$2:$G$6,3,FALSE)+J5*VLOOKUP(G5,DataTables!$B$2:$G$6,5,FALSE)-K5*VLOOKUP(G5,DataTables!$B$2:$G$6,6)))) -> 210 | O5: =P5/(L5*M5) -> 6.8956229 | P5: =C10 -> 8.6195286 | Q5: =CEILING(O5*5,1) -> 35
B6: Copper Plate | C6: =1*$O$3 -> 1.0774411 | E6: Plastic | G6: Default | I6: 0 | J6: 0 | K6: 0 | L6: =1.25*((1+I6*VLOOKUP(G6,DataTables!$B$2:$G$6,2,FALSE))-(J6*0.15)) -> 1.25 | M6: =1*(1+J6*VLOOKUP(G6,DataTables!$B$2:$G$6,4,FALSE)) -> 1 | N6: =210*(1+IF((I6*VLOOKUP(G6,DataTables!$B$2:$G$6,3,FALSE)+J6*VLOOKUP(G6,DataTables!$B$2:$G$6,5,FALSE)-K6*VLOOKUP(G6,DataTables!$B$2:$G$6,6))<-0.8,-0.8,(I6*VLOOKUP(G6,DataTables!$B$2:$G$6,3,FALSE)+J6*VLOOKUP(G6,DataTables!$B$2:$G$6,5,FALSE)-K6*VLOOKUP(G6,DataTables!$B$2:$G$6,6)))) -> 210 | O6: =P6/(L6*M6) -> 31.537562 | P6: ='Modules & Circuits'!C15+'Rocket Parts'!C7 -> 39.421953 | Q6: =CEILING(O6*5,1) -> 158
B7: Sulfuric Acid | C7: =2*$O$3 -> 2.1548822 | E7: Solid Fuel | G7: Default | I7: 0 | J7: 0 | K7: 0 | L7: =1.25*((1+I7*VLOOKUP(G7,DataTables!$B$2:$G$6,2,FALSE))-(J7*0.15)) -> 1.25 | M7: =1*(1+J7*VLOOKUP(G7,DataTables!$B$2:$G$6,4,FALSE)) -> 1 | N7: =210*(1+IF((I7*VLOOKUP(G7,DataTables!$B$2:$G$6,3,FALSE)+J7*VLOOKUP(G7,DataTables!$B$2:$G$6,5,FALSE)-K7*VLOOKUP(G7,DataTables!$B$2:$G$6,6))<-0.8,-0.8,(I7*VLOOKUP(G7,DataTables!$B$2:$G$6,3,FALSE)+J7*VLOOKUP(G7,DataTables!$B$2:$G$6,5,FALSE)-K7*VLOOKUP(G7,DataTables!$B$2:$G$6,6)))) -> 210 | O7: =P7/(L7*M7) -> 22.4 | P7: ='Rocket Parts'!C10 -> 28 | Q7: =CEILING(O7*3,1) -> 68
B9: Sulfuric Acid | E9: Refining | G9: Default | I9: 0 | J9: 0 | K9: 0 | L9: =1*((1+I9*VLOOKUP(G9,DataTables!$B$2:$G$6,2,FALSE))-(J9*0.15)) -> 1 | M9: =1*(1+J9*VLOOKUP(G9,DataTables!$B$2:$G$6,4,FALSE)) -> 1 | N9: =420*(1+IF((I9*VLOOKUP(G9,DataTables!$B$2:$G$6,3,FALSE)+J9*VLOOKUP(G9,DataTables!$B$2:$G$6,5,FALSE)-K9*VLOOKUP(G9,DataTables!$B$2:$G$6,6))<-0.8,-0.8,(I9*VLOOKUP(G9,DataTables!$B$2:$G$6,3,FALSE)+J9*VLOOKUP(G9,DataTables!$B$2:$G$6,5,FALSE)-K9*VLOOKUP(G9,DataTables!$B$2:$G$6,6)))) -> 420 | O9: =C24 -> 133.54888 | Q9: =CEILING(O9*0.5,1) -> 67
B10: Sulfur | C10: =5*O4 -> 8.6195286 | E10: Heavy | G10: =G9 -> Default | I10: =I9 -> 0 | J10: =J9 -> 0 | K10: =K9 -> 0 | L10: =1*((1+I10*VLOOKUP(G10,DataTables!$B$2:$G$6,2,FALSE))-(J10*0.15)) -> 1 | M10: =1*(1+J10*VLOOKUP(G10,DataTables!$B$2:$G$6,4,FALSE)) -> 1 | O10: =1*C24/10 -> 13.354888 | P10: =O10*(L10*M10) -> 13.354888
B11: Iron Plate | C11: =1*O4 -> 1.7239057 | E11: Light | G11: =G10 -> Default | I11: =I10 -> 0 | J11: =J10 -> 0 | K11: =K10 -> 0 | L11: =1*((1+I11*VLOOKUP(G11,DataTables!$B$2:$G$6,2,FALSE))-(J11*0.15)) -> 1 | M11: =1*(1+J11*VLOOKUP(G11,DataTables!$B$2:$G$6,4,FALSE)) -> 1 | O11: =4.5*C24/10 -> 60.096997 | P11: =O11*(L11*M11) -> 60.096997
E12: Petrol | G12: =G11 -> Default | I12: =I11 -> 0 | J12: =J11 -> 0 | K12: =K11 -> 0 | L12: =1*((1+I12*VLOOKUP(G12,DataTables!$B$2:$G$6,2,FALSE))-(J12*0.15)) -> 1 | M12: =1*(1+J12*VLOOKUP(G12,DataTables!$B$2:$G$6,4,FALSE)) -> 1 | O12: =5.5*C24/10 -> 73.451885 | P12: =O12*(L12*M12) -> 73.451885
B13: Sulfur
B14: Petrol | C14: =3*O5 -> 20.686869 | E14: Heavy Cracking | G14: Default | I14: 0 | J14: 0 | K14: 0 | L14: =1.25*((1+I14*VLOOKUP(G14,DataTables!$B$2:$G$6,2,FALSE))-(J14*0.15)) -> 1.25 | M14: =1*(1+J14*VLOOKUP(G14,DataTables!$B$2:$G$6,4,FALSE)) -> 1 | N14: =210*(1+IF((I14*VLOOKUP(G14,DataTables!$B$2:$G$6,3,FALSE)+J14*VLOOKUP(G14,DataTables!$B$2:$G$6,5,FALSE)-K14*VLOOKUP(G14,DataTables!$B$2:$G$6,6))<-0.8,-0.8,(I14*VLOOKUP(G14,DataTables!$B$2:$G$6,3,FALSE)+J14*VLOOKUP(G14,DataTables!$B$2:$G$6,5,FALSE)-K14*VLOOKUP(G14,DataTables!$B$2:$G$6,6)))) -> 210 | O14: =P10 -> 13.354888 | P14: =(3/4)*O14*M14*L14 -> 12.520208 | Q14: =CEILING(O14*5,1) -> 67
E15: Light Cracking | G15: Default | I15: 0 | J15: 0 | K15: 0 | L15: =1.25*((1+I15*VLOOKUP(G15,DataTables!$B$2:$G$6,2,FALSE))-(J15*0.15)) -> 1.25 | M15: =1*(1+J15*VLOOKUP(G15,DataTables!$B$2:$G$6,4,FALSE)) -> 1 | N15: =210*(1+IF((I15*VLOOKUP(G15,DataTables!$B$2:$G$6,3,FALSE)+J15*VLOOKUP(G15,DataTables!$B$2:$G$6,5,FALSE)-K15*VLOOKUP(G15,DataTables!$B$2:$G$6,6))<-0.8,-0.8,(I15*VLOOKUP(G15,DataTables!$B$2:$G$6,3,FALSE)+J15*VLOOKUP(G15,DataTables!$B$2:$G$6,5,FALSE)-K15*VLOOKUP(G15,DataTables!$B$2:$G$6,6)))) -> 210 | O15: =P14+P11-O7 -> 50.217205 | P15: =(2/3)*O15*M15*L15 -> 41.84767 | Q15: =CEILING(O15*5,1) -> 252
B16: Plastic
B17: Coal | C17: =1*O6 -> 31.537562 | E17: Module | F17: Iron | G17: Copper | H17: Plastic
B18: Petrol | C18: =3*O6 -> 94.612687 | E18: Cost | F18: =I3*VLOOKUP(G3,DataTables!$B$2:$N$6,8,FALSE)+I4*VLOOKUP(G4,DataTables!$B$2:$N$6,8,FALSE)+I5*VLOOKUP(G5,DataTables!$B$2:$N$6,8,FALSE)+I6*VLOOKUP(G6,DataTables!$B$2:$N$6,8,FALSE)+I7*VLOOKUP(G7,DataTables!$B$2:$N$6,8,FALSE)+I9*VLOOKUP(G9,DataTables!$B$2:$N$6,8,FALSE)+I10*VLOOKUP(G10,DataTables!$B$2:$N$6,8,FALSE)+I11*VLOOKUP(G11,DataTables!$B$2:$N$6,8,FALSE)+I12*VLOOKUP(G12,DataTables!$B$2:$N$6,8,FALSE)+I14*VLOOKUP(G14,DataTables!$B$2:$N$6,8,FALSE)+I15*VLOOKUP(G15,DataTables!$B$2:$N$6,8,FALSE)+(J3+K3)*VLOOKUP(G3,DataTables!$B$2:$N$6,11,FALSE)+(J4+K4)*VLOOKUP(G4,DataTables!$B$2:$N$6,11,FALSE)+(J5+K5)*VLOOKUP(G5,DataTables!$B$2:$N$6,11,FALSE)+(J6+K6)*VLOOKUP(G6,DataTables!$B$2:$N$6,11,FALSE)+(J7+K7)*VLOOKUP(G7,DataTables!$B$2:$N$6,11,FALSE)+(J9+K9)*VLOOKUP(G9,DataTables!$B$2:$N$6,11,FALSE)+(J10+K10)*VLOOKUP(G10,DataTables!$B$2:$N$6,11,FALSE)+(J11+K11)*VLOOKUP(G11,DataTables!$B$2:$N$6,11,FALSE)+(J12+K12)*VLOOKUP(G12,DataTables!$B$2:$N$6,11,FALSE)+(J14+K14)*VLOOKUP(G14,DataTables!$B$2:$N$6,11,FALSE)+(J15+K15)*VLOOKUP(G15,DataTables!$B$2:$N$6,11,FALSE) -> 0 | G18: =I3*VLOOKUP(G3,DataTables!$B$2:$N$6,9,FALSE)+I4*VLOOKUP(G4,DataTables!$B$2:$N$6,9,FALSE)+I5*VLOOKUP(G5,DataTables!$B$2:$N$6,9,FALSE)+I6*VLOOKUP(G6,DataTables!$B$2:$N$6,9,FALSE)+I7*VLOOKUP(G7,DataTables!$B$2:$N$6,9,FALSE)+I9*VLOOKUP(G9,DataTables!$B$2:$N$6,9,FALSE)+I10*VLOOKUP(G10,DataTables!$B$2:$N$6,9,FALSE)+I11*VLOOKUP(G11,DataTables!$B$2:$N$6,9,FALSE)+I12*VLOOKUP(G12,DataTables!$B$2:$N$6,9,FALSE)+I14*VLOOKUP(G14,DataTables!$B$2:$N$6,9,FALSE)+I15*VLOOKUP(G15,DataTables!$B$2:$N$6,9,FALSE)+(J3+K3)*VLOOKUP(G3,DataTables!$B$2:$N$6,12,FALSE)+(J4+K4)*VLOOKUP(G4,DataTables!$B$2:$N$6,12,FALSE)+(J5+K5)*VLOOKUP(G5,DataTables!$B$2:$N$6,12,FALSE)+(J6+K6)*VLOOKUP(G6,DataTables!$B$2:$N$6,12,FALSE)+(J7+K7)*VLOOKUP(G7,DataTables!$B$2:$N$6,12,FALSE)+(J9+K9)*VLOOKUP(G9,DataTables!$B$2:$N$6,12,FALSE)+(J10+K10)*VLOOKUP(G10,DataTables!$B$2:$N$6,12,FALSE)+(J11+K11)*VLOOKUP(G11,DataTables!$B$2:$N$6,12,FALSE)+(J12+K12)*VLOOKUP(G12,DataTables!$B$2:$N$6,12,FALSE)+(J14+K14)*VLOOKUP(G14,DataTables!$B$2:$N$6,12,FALSE)+(J15+K15)*VLOOKUP(G15,DataTables!$B$2:$N$6,12,FALSE) -> 0 | H18: =I3*VLOOKUP(G3,DataTables!$B$2:$N$6,10,FALSE)+I4*VLOOKUP(G4,DataTables!$B$2:$N$6,10,FALSE)+I5*VLOOKUP(G5,DataTables!$B$2:$N$6,10,FALSE)+I6*VLOOKUP(G6,DataTables!$B$2:$N$6,10,FALSE)+I7*VLOOKUP(G7,DataTables!$B$2:$N$6,10,FALSE)+I9*VLOOKUP(G9,DataTables!$B$2:$N$6,10,FALSE)+I10*VLOOKUP(G10,DataTables!$B$2:$N$6,10,FALSE)+I11*VLOOKUP(G11,DataTables!$B$2:$N$6,10,FALSE)+I12*VLOOKUP(G12,DataTables!$B$2:$N$6,10,FALSE)+I14*VLOOKUP(G14,DataTables!$B$2:$N$6,10,FALSE)+I15*VLOOKUP(G15,DataTables!$B$2:$N$6,10,FALSE)+(J3+K3)*VLOOKUP(G3,DataTables!$B$2:$N$6,13,FALSE)+(J4+K4)*VLOOKUP(G4,DataTables!$B$2:$N$6,13,FALSE)+(J5+K5)*VLOOKUP(G5,DataTables!$B$2:$N$6,13,FALSE)+(J6+K6)*VLOOKUP(G6,DataTables!$B$2:$N$6,13,FALSE)+(J7+K7)*VLOOKUP(G7,DataTables!$B$2:$N$6,13,FALSE)+(J9+K9)*VLOOKUP(G9,DataTables!$B$2:$N$6,13,FALSE)+(J10+K10)*VLOOKUP(G10,DataTables!$B$2:$N$6,13,FALSE)+(J11+K11)*VLOOKUP(G11,DataTables!$B$2:$N$6,13,FALSE)+(J12+K12)*VLOOKUP(G12,DataTables!$B$2:$N$6,13,FALSE)+(J14+K14)*VLOOKUP(G14,DataTables!$B$2:$N$6,13,FALSE)+(J15+K15)*VLOOKUP(G15,DataTables!$B$2:$N$6,13,FALSE) -> 0
B20: Solid Fuel | E20: Assembely | F20: Iron | G20: Copper | H20: Steel | I20: Stone
B21: Light Oil | C21: =1*O7 -> 22.4 | E21: Cost | F21: =(SUM(Q3:Q7)+Q14+Q15)*20+Q9*40 -> 14440 | G21: =(SUM(Q3:Q7)+Q14+Q15)*7.5+Q9*15 -> 5415 | H21: =(SUM(Q3:Q7)+Q14+Q15)*5+Q9*15 -> 3945 | I21: =Q9*50 -> 3350
B23: Refining
B24: Crude | C24: =((C18+C14)+((2/3)*L15*M15*O7))/((L9*M9)*(((1/20)*L15*M15*L14*M14)+((3/10)*L15*M15)+(5.5/10))) -> 133.54888
B26: Energy Total | C26: =N3*Q3+N4*Q4+N5*Q5+N6*Q6+N7*Q7+N9*Q9+N14*Q14+N15*Q15 -> 151620
B27: With Efficency Beacons | C27: =IF(N3<960,N3,IF(N3<1200,N3*0.5,N3*0.2))*Q3+IF(N4<960,N4,IF(N4<1200,N4*0.5,N4*0.2))*Q4+IF(N5<960,N5,IF(N5<1200,N5*0.5,N5*0.2))*Q5+IF(N6<960,N6,IF(N6<1200,N6*0.5,N6*0.2))*Q6+IF(N7<960,N7,IF(N7<1200,N7*0.5,N7*0.2))*Q7+IF(N9<960,N9,IF(N9<1200,N9*0.5,N9*0.2))*Q9+IF(N14<960,N14,IF(N14<1200,N14*0.5,N14*0.2))*Q14+IF(N15<960,N15,IF(N15<1200,N15*0.5,N15*0.2))*Q15 -> 151620

Sheet Mining & Smelting
B2: Process | C2: Inputs | E2: Process | G2: Module Level | H2: Furnace Level | I2: # Speed | J2: # Productivity | K2: # Efficency | L2: Speed | M2: Production | N2: Energy | O2: Input Need /s | P2: Output Need /s | Q2: Furnaces
E3: Steel Smelting | G3: Default | H3: Default | I3: 0 | J3: 0 | K3: 0 | L3: =(VLOOKUP(H3,DataTables!$B$14:$D$18,2,FALSE)*((1+I3*VLOOKUP(G3,DataTables!$B$2:$G$6,2,FALSE))-(J3*0.15))) -> 2 | M3: =1*(1+J3*VLOOKUP(G3,DataTables!$B$2:$G$6,4,FALSE)) -> 1 | N3: =VLOOKUP(H3,DataTables!$B$14:$D$18,3,FALSE)*(1+IF((I3*VLOOKUP(G3,DataTables!$B$2:$G$6,3,FALSE)+J3*VLOOKUP(G3,DataTables!$B$2:$G$6,5,FALSE)-K3*VLOOKUP(G3,DataTables!$B$2:$G$6,6))<-0.8,-0.8,(I3*VLOOKUP(G3,DataTables!$B$2:$G$6,3,FALSE)+J3*VLOOKUP(G3,DataTables!$B$2:$G$6,5,FALSE)-K3*VLOOKUP(G3,DataTables!$B$2:$G$6,6)))) -> 180 | O3: =P3*5/(L3*M3) -> 76.700337 | P3: ='Intermediate Products'!C5+'Rocket Parts'!C5 -> 30.680135 | Q3: =CEILING(O3*0.5,1) -> 39
B4: Iron Ore | C4: =O8 -> 715.95087 | E4: Iron Smelting | G4: Default | H4: Default | I4: 0 | J4: 0 | K4: 0 | L4: =(VLOOKUP(H4,DataTables!$B$14:$D$18,2,FALSE)*((1+I4*VLOOKUP(G4,DataTables!$B$2:$G$6,2,FALSE))-(J4*0.15))) -> 2 | M4: =1*(1+J4*VLOOKUP(G4,DataTables!$B$2:$G$6,4,FALSE)) -> 1 | N4: =VLOOKUP(H4,DataTables!$B$14:$D$18,3,FALSE)*(1+IF((I4*VLOOKUP(G4,DataTables!$B$2:$G$6,3,FALSE)+J4*VLOOKUP(G4,DataTables!$B$2:$G$6,5,FALSE)-K4*VLOOKUP(G4,DataTables!$B$2:$G$6,6))<-0.8,-0.8,(I4*VLOOKUP(G4,DataTables!$B$2:$G$6,3,FALSE)+J4*VLOOKUP(G4,DataTables!$B$2:$G$6,5,FALSE)-K4*VLOOKUP(G4,DataTables!$B$2:$G$6,6)))) -> 180 | O4: =P4/(L4*M4) -> 75.174842 | P4: =O3+Oil!C5+Oil!C11+'Modules & Circuits'!C19+'Intermediate Products'!C10+'Intermediate Products'!C15+'Intermediate Products'!C19 -> 150.34968 | Q4: =CEILING(O4*0.5,1) -> 38
E5: Copper Smelting | G5: Default | H5: Default | I5: 0 | J5: 0 | K5: 0 | L5: =(VLOOKUP(H5,DataTables!$B$14:$D$18,2,FALSE)*((1+I5*VLOOKUP(G5,DataTables!$B$2:$G$6,2,FALSE))-(J5*0.15))) -> 2 | M5: =1*(1+J5*VLOOKUP(G5,DataTables!$B$2:$G$6,4,FALSE)) -> 1 | N5: =VLOOKUP(H5,DataTables!$B$14:$D$18,3,FALSE)*(1+IF((I5*VLOOKUP(G5,DataTables!$B$2:$G$6,3,FALSE)+J5*VLOOKUP(G5,DataTables!$B$2:$G$6,5,FALSE)-K5*VLOOKUP(G5,DataTables!$B$2:$G$6,6))<-0.8,-0.8,(I5*VLOOKUP(G5,DataTables!$B$2:$G$6,3,FALSE)+J5*VLOOKUP(G5,DataTables!$B$2:$G$6,5,FALSE)-K5*VLOOKUP(G5,DataTables!$B$2:$G$6,6)))) -> 180 | O5: =P5/(L5*M5) -> 60.487682 | P5: =Oil!C6+'Modules & Circuits'!O8+'Modules & Circuits'!O6+'Intermediate Products'!C7+'Rocket Parts'!C6 -> 120.97536 | Q5: =CEILING(O5*0.5,1) -> 31
B6: Copper Ore | C6: =O9 -> 576.07316
E7: Process | G7: Module Level | I7: # Speed | J7: # Productivity | K7: # Efficency | L7: Speed | M7: Production | N7: Energy | O7: Input Need /s | P7: Output Need /s | Q7: Electric Mining Drills
B8: Energy Total | C8: =N8*Q8+N9*Q9 -> 58230 | E8: Iron Mining | G8: Default | I8: 0 | J8: 0 | K8: 0 | L8: =0.525*((1+I8*VLOOKUP(G8,DataTables!$B$2:$G$6,2,FALSE))-(J8*0.15)) -> 0.525 | M8: =1*(1+J8*VLOOKUP(G8,DataTables!$B$2:$G$6,4,FALSE)) -> 1 | N8: =90*(1+IF((I8*VLOOKUP(G8,DataTables!$B$2:$G$6,3,FALSE)+J8*VLOOKUP(G8,DataTables!$B$2:$G$6,5,FALSE)-K8*VLOOKUP(G8,DataTables!$B$2:$G$6,6))<-0.8,-0.8,(I8*VLOOKUP(G8,DataTables!$B$2:$G$6,3,FALSE)+J8*VLOOKUP(G8,DataTables!$B$2:$G$6,5,FALSE)-K8*VLOOKUP(G8,DataTables!$B$2:$G$6,6)))) -> 90 | O8: =P8*5/(L8*M8) -> 715.95087 | P8: =O4 -> 75.174842 | Q8: =CEILING(O8*0.5,1) -> 358
B9: With Efficency Beacons | C9: =IF(N8<960,N8,IF(N8<1200,N8*0.5,N8*0.2))*Q8+IF(N9<960,N9,IF(N9<1200,N9*0.5,N9*0.2))*Q9 -> 58230 | E9: Copper Mining | G9: Default | I9: 0 | J9: 0 | K9: 0 | L9: =0.525*((1+I9*VLOOKUP(G9,DataTables!$B$2:$G$6,2,FALSE))-(J9*0.15)) -> 0.525 | M9: =1*(1+J9*VLOOKUP(G9,DataTables!$B$2:$G$6,4,FALSE)) -> 1 | N9: =90*(1+IF((I9*VLOOKUP(G9,DataTables!$B$2:$G$6,3,FALSE)+J9*VLOOKUP(G9,DataTables!$B$2:$G$6,5,FALSE)-K9*VLOOKUP(G9,DataTables!$B$2:$G$6,6))<-0.8,-0.8,(I9*VLOOKUP(G9,DataTables!$B$2:$G$6,3,FALSE)+J9*VLOOKUP(G9,DataTables!$B$2:$G$6,5,FALSE)-K9*VLOOKUP(G9,DataTables!$B$2:$G$6,6)))) -> 90 | O9: =P9*5/(L9*M9) -> 576.07316 | P9: =O5 -> 60.487682 | Q9: =CEILING(O9*0.5,1) -> 289
E11: Module | F11: Iron | G11: Copper | H11: Plastic
E12: Cost | F12: =I3*VLOOKUP(G3,DataTables!$B$2:$N$6,8,FALSE)+I4*VLOOKUP(G4,DataTables!$B$2:$N$6,8,FALSE)+I5*VLOOKUP(G5,DataTables!$B$2:$N$6,8,FALSE)+I8*VLOOKUP(G8,DataTables!$B$2:$N$6,8,FALSE)+I9*VLOOKUP(G9,DataTables!$B$2:$N$6,8,FALSE)+(J3+K3)*VLOOKUP(G3,DataTables!$B$2:$N$6,11,FALSE)+(J4+K4)*VLOOKUP(G4,DataTables!$B$2:$N$6,11,FALSE)+(J5+K5)*VLOOKUP(G5,DataTables!$B$2:$N$6,11,FALSE)+(J8+K8)*VLOOKUP(G8,DataTables!$B$2:$N$6,11,FALSE)+(J9+K9)*VLOOKUP(G9,DataTables!$B$2:$N$6,11,FALSE) -> 0 | G12: =I3*VLOOKUP(G3,DataTables!$B$2:$N$6,9,FALSE)+I4*VLOOKUP(G4,DataTables!$B$2:$N$6,9,FALSE)+I5*VLOOKUP(G5,DataTables!$B$2:$N$6,9,FALSE)+I8*VLOOKUP(G8,DataTables!$B$2:$N$6,9,FALSE)+I9*VLOOKUP(G9,DataTables!$B$2:$N$6,9,FALSE)+(J3+K3)*VLOOKUP(G3,DataTables!$B$2:$N$6,12,FALSE)+(J4+K4)*VLOOKUP(G4,DataTables!$B$2:$N$6,12,FALSE)+(J5+K5)*VLOOKUP(G5,DataTables!$B$2:$N$6,12,FALSE)+(J8+K8)*VLOOKUP(G8,DataTables!$B$2:$N$6,12,FALSE)+(J9+K9)*VLOOKUP(G9,DataTables!$B$2:$N$6,12,FALSE) -> 0 | H12: =I3*VLOOKUP(G3,DataTables!$B$2:$N$6,10,FALSE)+I4*VLOOKUP(G4,DataTables!$B$2:$N$6,10,FALSE)+I5*VLOOKUP(G5,DataTables!$B$2:$N$6,10,FALSE)+I8*VLOOKUP(G8,DataTables!$B$2:$N$6,10,FALSE)+I9*VLOOKUP(G9,DataTables!$B$2:$N$6,10,FALSE)+(J3+K3)*VLOOKUP(G3,DataTables!$B$2:$N$6,13,FALSE)+(J4+K4)*VLOOKUP(G4,DataTables!$B$2:$N$6,13,FALSE)+(J5+K5)*VLOOKUP(G5,DataTables!$B$2:$N$6,13,FALSE)+(J8+K8)*VLOOKUP(G8,DataTables!$B$2:$N$6,13,FALSE)+(J9+K9)*VLOOKUP(G9,DataTables!$B$2:$N$6,13,FALSE) -> 0
E14: Assembely | F14: Iron | G14: Copper | H14: Plastic | I14: Stone
E15: Cost | F15: =Q3*VLOOKUP(H3,DataTables!B14:I18,5,FALSE)+Q4*VLOOKUP(H4,DataTables!B14:I18,5,FALSE)+Q5*VLOOKUP(H5,DataTables!B14:I18,5,FALSE)+Q8*23+Q9*23 -> 24061 | G15: =Q3*VLOOKUP(H3,DataTables!B14:I18,6,FALSE)+Q4*VLOOKUP(H4,DataTables!B14:I18,6,FALSE)+Q5*VLOOKUP(H5,DataTables!B14:I18,6,FALSE)+Q8*4.5+Q9*4.5 -> 5611.5 | H15: =Q3*VLOOKUP(H3,DataTables!B14:I18,7,FALSE)+Q4*VLOOKUP(H4,DataTables!B14:I18,7,FALSE)+Q5*VLOOKUP(H5,DataTables!B14:I18,7,FALSE) -> 1080 | I15: =Q3*VLOOKUP(H3,DataTables!B14:I18,8,FALSE)+Q4*VLOOKUP(H4,DataTables!B14:I18,8,FALSE)+Q5*VLOOKUP(H5,DataTables!B14:I18,8,FALSE) -> 2160

Sheet DataTables
I1: Speed | L1: Other
B2: Module Level | C2: Speed | D2: Energy | E2: Production | F2: Energy | G2: Efficency | I2: Iron | J2: Copper | K2: Plastic | L2: Iron | M2: Copper | N2: Plastic
B3: 1 | C3: 0.2 | D3: 0.5 | E3: 0.04 | F3: 0.4 | G3: 0.3 | I3: 15 | J3: 32.5 | K3: 10 | L3: 15 | M3: 32.5 | N3: 10
B4: 2 | C4: 0.3 | D4: 0.6 | E4: 0.06 | F4: 0.6 | G4: 0.4 | I4: 190 | J4: 355 | K4: 70 | L4: 190 | M4: 355 | N4: 70
B5: 3 | C5: 0.5 | D5: 0.7 | E5: 0.1 | F5: 0.8 | G5: 0.5 | I5: 890 | J5: 1645 | K5: 310 | L5: 1080 | M5: 2000 | N5: 380
B6: Default | C6: =VLOOKUP(Dashboard!$C$8,$B$2:$G$5,2,FALSE) -> 0.5 | D6: =VLOOKUP(Dashboard!$C$8,$B$2:$G$5,3,FALSE) -> 0.7 | E6: =VLOOKUP(Dashboard!$C$8,$B$2:$G$5,4,FALSE) -> 0.1 | F6: =VLOOKUP(Dashboard!$C$8,$B$2:$G$5,5,FALSE) -> 0.8 | G6: =VLOOKUP(Dashboard!$C$8,$B$2:$G$5,6,FALSE) -> 0.5 | I6: =VLOOKUP(Dashboard!$C$8,$B$2:$N$5,8,FALSE) -> 890 | J6: =VLOOKUP(Dashboard!$C$8,$B$2:$N$5,9,FALSE) -> 1645 | K6: =VLOOKUP(Dashboard!$C$8,$B$2:$N$5,10,FALSE) -> 310 | L6: =VLOOKUP(Dashboard!$C$8,$B$2:$N$5,11,FALSE) -> 1080 | M6: =VLOOKUP(Dashboard!$C$8,$B$2:$N$5,12,FALSE) -> 2000 | N6: =VLOOKUP(Dashboard!$C$8,$B$2:$N$5,13,FALSE) -> 380
B8: Assembly Machine | C8: Speed | D8: Energy | F8: iron | G8: copper | H8: plastic
B9: 1 | C9: 0.5 | D9: 90 | F9: 22 | G9: 4.5
B10: 2 | C10: 0.75 | D10: 150 | F10: 44 | G10: 9
B11: 3 | C11: 1.25 | D11: 210 | F11: 148 | G11: 148 | H11: 40
B12: Default | C12: =VLOOKUP(Dashboard!$C$9,$B$8:$H$11,2,FALSE) -> 1.25 | D12: =VLOOKUP(Dashboard!$C$9,$B$8:$H$11,3,FALSE) -> 210 | F12: =VLOOKUP(Dashboard!$C$9,$B$8:$H$11,5,FALSE) -> 148 | G12: =VLOOKUP(Dashboard!$C$9,$B$8:$H$11,6,FALSE) -> 148 | H12: =VLOOKUP(Dashboard!$C$9,$B$8:$H$11,7,FALSE) -> 40
B14: Furnace Level | C14: Speed | D14: Energy | F14: Iron | G14: Copper | H14: Plastic | I14: Stone
B15: Stone | C15: 1 | D15: 180 | I15: 5
B16: Steel | C16: 2 | D16: 180 | F16: 40 | I16: 20
B17: Electric | C17: 2 | D17: 180 | F17: 85 | G17: 25 | H17: 10 | I17: 20
B18: Default | C18: =VLOOKUP(Dashboard!$C$10,$B$14:$D$17,2,FALSE) -> 2 | D18: =VLOOKUP(Dashboard!$C$10,$B$14:$D$17,3,FALSE) -> 180 | F18: =VLOOKUP(Dashboard!$C$10,$B$14:$I$17,5,FALSE) -> 85 | G18: =VLOOKUP(Dashboard!$C$10,$B$14:$I$17,6,FALSE) -> 25 | H18: =VLOOKUP(Dashboard!$C$10,$B$14:$I$17,7,FALSE) -> 10 | I18: =VLOOKUP(Dashboard!$C$10,$B$14:$I$17,8,FALSE) -> 20
