Workbook
Name ModNum: 'Testing of stuff'!$B$39:$D$39
Name ProdNum: Tables!$E$6
Name ProdNum2: Tables!$K$6
Name ProdNum3: Tables!$Q$6
Name QualNum: Tables!$C$6
Name QualNum2: Tables!$I$6
Name QualNum3: Tables!$O$6
Name SpeedNum: Tables!$D$6
Name SpeedNum2: Tables!$J$6
Name SpeedNum3: Tables!$P$6

Sheet Tables
A1: Output of the calculators below are in # of quality items per unit of time, with the assumtion of a default output of 100 items per unit of time. (this was done to make it easier to read and so that they can be read as % of output.)
A2: All three calculators are independent so that you can easily compare and contrast different builds
A3: level3* = level 3 modules except for speed, which is level 2. this calculation is added since the ratio between speed and quality loss is higher for speed3's
B4: Calculator 1 | H4: Calculator 2 | N4: Calculator 3
C5: qual | D5: speed | E5: prod | F5: total | I5: qual | J5: speed | K5: prod | L5: total | O5: qual | P5: speed | Q5: prod | R5: total
B6: # of mod | C6: 4 | D6: 0 | E6: 0 | F6: =C6+D6+E6 -> 4 | H6: # of mod | I6: 4 | J6: 1.5 | K6: 0 | L6: =I6+J6+K6 -> 5.5 | N6: # of mod | O6: 4 | P6: 1.06066 | Q6: 0 | R6: =O6+P6+Q6 -> 5.06066
C7: level 1 | D7: level 2 | E7: level 3 | F7: level 3* | I7: level 1 | J7: level 2 | K7: level 3 | L7: level 3* | O7: level 1 | P7: level 2 | Q7: level 3 | R7: level 3*
B8: qual 1 | C8: {=100*(1+SpeedN[1])*(1+ProdN[1])*QualN[1]} -> 3.2 | D8: {=100*(1+SpeedN[2])*(1+ProdN[2])*QualN[2]} -> 6.4 | E8: {=100*(1+SpeedN[3])*(1+ProdN[3])*QualN[3]} -> 8 | F8: {=100*(1+SpeedN[4])*(1+ProdN[4])*QualN[4]} -> 8 | H8: qual 1 | I8: =Calcs!AF20 -> 2.75 | J8: =Calcs!AG20 -> 7.1875 | K8: =Calcs!AH20 -> 9.6875 | L8: =Calcs!AI20 -> 9.6875 | N8: qual 1 | O8: =Calcs!N70 -> 2.9750001 | P8: =Calcs!O70 -> 7.1665422 | Q8: =Calcs!P70 -> 9.7757305 | R8: =Calcs!Q70 -> 9.4029382
B9: qual 2 | C9: {=100*(1+SpeedU[1])*(1+ProdU[1])*QualU[1]} -> 4.16 | D9: {=100*(1+SpeedU[2])*(1+ProdU[2])*QualU[2]} -> 8.32 | E9: {=100*(1+SpeedU[3])*(1+ProdU[3])*QualU[3]} -> 10.24 | F9: {=100*(1+SpeedU[4])*(1+ProdU[4])*QualU[4]} -> 10.24 | H9: qual 2 | I9: =Calcs!AF21 -> 4.403 | J9: =Calcs!AG21 -> 11.28775 | K9: =Calcs!AH21 -> 16.06375 | L9: =Calcs!AI21 -> 14.61175 | N9: qual 2 | O9: =Calcs!N71 -> 4.4529844 | P9: =Calcs!O71 -> 10.69112 | Q9: =Calcs!P71 -> 15.115247 | R9: =Calcs!Q71 -> 13.603898
B10: qual 3 | C10: {=100*(1+SpeedR[1])*(1+ProdR[1])*QualR[1]} -> 5.12 | D10: {=100*(1+SpeedR[2])*(1+ProdR[2])*QualR[2]} -> 10.24 | E10: {=100*(1+SpeedR[3])*(1+ProdR[3])*QualR[3]} -> 12.8 | F10: {=100*(1+SpeedR[4])*(1+ProdR[4])*QualR[4]} -> 12.8 | H10: qual 3 | I10: =Calcs!AF22 -> 6.272 | J10: =Calcs!AG22 -> 16.036 | K10: =Calcs!AH22 -> 24.5 | L10: =Calcs!AI22 -> 20.9 | N10: qual 3 | O10: =Calcs!N72 -> 6.0837038 | P10: =Calcs!O72 -> 14.673903 | Q10: =Calcs!P72 -> 22.005129 | R10: =Calcs!Q72 -> 18.863077
B11: qual 4 | C11: {=100*(1+SpeedE[1])*(1+ProdE[1])*QualE[1]} -> 6.08 | D11: {=100*(1+SpeedE[2])*(1+ProdE[2])*QualE[2]} -> 12.16 | E11: {=100*(1+SpeedE[3])*(1+ProdE[3])*QualE[3]} -> 15.04 | F11: {=100*(1+SpeedE[4])*(1+ProdE[4])*QualE[4]} -> 15.04 | H11: qual 4 | I11: =Calcs!AF23 -> 8.357 | J11: =Calcs!AG23 -> 21.43225 | K11: =Calcs!AH23 -> 33.48625 | L11: =Calcs!AI23 -> 27.39025 | N11: qual 4 | O11: =Calcs!N73 -> 7.8671582 | P11: =Calcs!O73 -> 19.114892 | Q11: =Calcs!P73 -> 29.190193 | R11: =Calcs!Q73 -> 24.171366
B12: qual 5 | C12: {=100*(1+SpeedL[1])*(1+ProdL[1])*QualL[1]} -> 8 | D12: {=100*(1+SpeedL[2])*(1+ProdL[2])*QualL[2]} -> 16 | E12: {=100*(1+SpeedL[3])*(1+ProdL[3])*QualL[3]} -> 19.84 | F12: {=100*(1+SpeedL[4])*(1+ProdL[4])*QualL[4]} -> 19.84 | H12: qual 5 | I12: =Calcs!AF24 -> 13.175 | J12: =Calcs!AG24 -> 34.16875 | K12: =Calcs!AH24 -> 56.30875 | L12: =Calcs!AI24 -> 43.40875 | N12: qual 5 | O12: =Calcs!N74 -> 11.892272 | P12: =Calcs!O74 -> 29.371483 | Q12: =Calcs!P74 -> 47.083516 | R12: =Calcs!Q74 -> 37.029859
B14: # of modules in a beacon calculator: | H14: # of modules in a beacon calculator: | N14: # of modules in a beacon calculator: | S14: Single calculator for level 1 modules. change the red cells to change the module type
B15: 1 | C15: # of beacons | H15: 1 | I15: # of beacons | N15: 2 | O15: # of beacons | S15: type | T15: qual | U15: speed | V15: prod | W15: total | X15: output
B16: 1.5 | C16: distribution% | H16: 1.5 | I16: distribution% | N16: 1.5 | O16: distribution% | S16: # of mod | T16: 4 | U16: 0 | V16: 0 | W16: =T16+U16+V16 -> 4 | X16: 100 | Y16: default production per unit time
B17: 1 | C17: # of modules | H17: 2 | I17: # of modules | N17: 2 | O17: # of modules | S17: speed | T17: {=T16*Qual[11]} -> -0.2 | U17: {=U16*Speed[11]} -> 0 | V17: {=V16*Prod[11]} -> 0 | W17: =T17+U17+V17 -> -0.2 | X17: =X16*(1+W17)*(1+W19) -> 80 | Y17: output items per unit time
B18: =B17*(B16/SQRT(B15)) -> 1.5 | C18: "total" modules | H18: =H17*(H16/SQRT(H15)) -> 3 | I18: "total" modules | N18: =N17*(N16/SQRT(N15)) -> 2.1213203 | O18: "total" modules | S18: qual | T18: 0.04 | U18: 0 | V18: 0 | W18: =T18+U18+V18 -> 0.04 | X18: =X17*(W18) -> 3.2 | Y18: quality items per unit time
S19: prod | T19: 0 | U19: 0 | V19: 0 | W19: =V19+U19+T19 -> 0
A21: Two calculators that show the math for normal and uncommon modules at all 3 levels (the highlighted cell shows that instead of speed3, it is speed2
A22: Linked # of Mods:
A23: qual | B23: speed | C23: prod
A24: 1 | B24: 0 | C24: 0
C25: LEVEL 1 | K25: LEVEL 2 | S25: LEVEL 3
A26: Level1 qual 1 Calc | I26: Level2 qual 1 Calc | Q26: Level3 qual 1 Calc
B27: qual | C27: speed | D27: prod | E27: total | F27: output | J27: qual | K27: speed | L27: prod | M27: total | N27: output | R27: qual | S27: speed | T27: prod | U27: total | V27: output
A28: # of mod | B28: =A24 -> 1 | C28: =B24 -> 0 | D28: =C24 -> 0 | E28: =B28+C28+D28 -> 1 | I28: # of mod | J28: =A24 -> 1 | K28: =B24 -> 0 | L28: =C24 -> 0 | M28: =J28+K28+L28 -> 1 | Q28: # of mod | R28: =A24 -> 1 | S28: =B24 -> 0 | T28: =C24 -> 0 | U28: =R28+S28+T28 -> 1
A29: speed | B29: {=B28*Qual[11]} -> -0.05 | C29: {=C28*Speed[11]} -> 0 | D29: {=D28*Prod[11]} -> 0 | E29: =B29+C29+D29 -> -0.05 | F29: =100*(1+E29)*(1+E31) -> 95 | G29: item | H29: QUAL 1 | I29: speed | J29: {=J28*Qual[21]} -> -0.05 | K29: {=K28*Speed[21]} -> 0 | L29: {=L28*Prod[21]} -> 0 | M29: =J29+K29+L29 -> -0.05 | N29: =100*(1+M29)*(1+M31) -> 95 | O29: item | P29: QUAL 1 | Q29: speed | R29: {=R28*Qual[31]} -> -0.05 | S29: {=S28*Speed[21]} -> 0 | T29: {=T28*Prod[31]} -> 0 | U29: =R29+S29+T29 -> -0.05 | V29: =100*(1+U29)*(1+U31) -> 95 | W29: item
A30: qual | B30: 0.01 | C30: 0 | D30: 0 | E30: =B30+C30+D30 -> 0.01 | F30: =F29*(E30) -> 0.95 | G30: qualitem | I30: qual | J30: 0.02 | K30: 0 | L30: 0 | M30: =J30+K30+L30 -> 0.02 | N30: =N29*(M30) -> 1.9 | O30: qualitem | Q30: qual | R30: 0.025 | S30: 0 | T30: 0 | U30: =R30+S30+T30 -> 0.025 | V30: =V29*(U30) -> 2.375 | W30: qualitem
A31: prod | B31: 0 | C31: 0 | D31: 0 | E31: =D31+C31+B31 -> 0 | I31: prod | J31: 0 | K31: 0 | L31: 0 | M31: =L31+K31+J31 -> 0 | Q31: prod | R31: 0 | S31: 0 | T31: 0 | U31: =T31+S31+R31 -> 0
A33: Level1 qual 2 Calc | I33: Level2 qual 2 Calc | Q33: Level3 qual 2 Calc
B34: qual | C34: speed | D34: prod | E34: total | F34: output | J34: qual | K34: speed | L34: prod | M34: total | N34: output | R34: qual | S34: speed | T34: prod | U34: total | V34: output
A35: # of mod | B35: =A24 -> 1 | C35: =B24 -> 0 | D35: =C24 -> 0 | E35: =B35+C35+D35 -> 1 | H35: QUAL 2 | I35: # of mod | J35: =A24 -> 1 | K35: =B24 -> 0 | L35: =C24 -> 0 | M35: =J35+K35+L35 -> 1 | P35: QUAL 2 | Q35: # of mod | R35: =A24 -> 1 | S35: =B24 -> 0 | T35: =C24 -> 0 | U35: =R35+S35+T35 -> 1
A36: speed | B36: {=B35*Qual[12]} -> -0.05 | C36: {=C35*Speed[12]} -> 0 | D36: {=D35*Prod[12]} -> 0 | E36: =B36+C36+D36 -> -0.05 | F36: =100*(1+E36)*(1+E38) -> 95 | G36: item | I36: speed | J36: {=J35*Qual[22]} -> -0.05 | K36: {=K35*Speed[22]} -> 0 | L36: {=L35*Prod[22]} -> 0 | M36: =J36+K36+L36 -> -0.05 | N36: =100*(1+M36)*(1+M38) -> 95 | O36: item | Q36: speed | R36: {=R35*Qual[32]} -> -0.05 | S36: {=S35*Speed[22]} -> 0 | T36: {=T35*Prod[32]} -> 0 | U36: =R36+S36+T36 -> -0.05 | V36: =100*(1+U36)*(1+U38) -> 95 | W36: item
A37: qual | B37: 0.013 | C37: 0 | D37: 0 | E37: =B37+C37+D37 -> 0.013 | F37: =F36*(E37) -> 1.235 | G37: qualitem | I37: qual | J37: 0.026 | K37: 0 | L37: 0 | M37: =J37+K37+L37 -> 0.026 | N37: =N36*(M37) -> 2.47 | O37: qualitem | Q37: qual | R37: 0.032 | S37: 0 | T37: 0 | U37: =R37+S37+T37 -> 0.032 | V37: =V36*(U37) -> 3.04 | W37: qualitem
A38: prod | B38: 0 | C38: 0 | D38: 0 | E38: =D38+C38+B38 -> 0 | I38: prod | J38: 0 | K38: 0 | L38: 0 | M38: =L38+K38+J38 -> 0 | Q38: prod | R38: 0 | S38: 0 | T38: 0 | U38: =T38+S38+R38 -> 0
A40: Linked # of Mods:
A41: qual | B41: speed | C41: prod
A42: 0 | B42: 1 | C42: 0
C43: LEVEL 1 | K43: LEVEL 2 | S43: LEVEL 3 | Z43: LEVEL 3
A44: Level1 qual 1 Calc | I44: Level2 qual 1 Calc | Q44: Level3 qual 1 Calc | X44: Level3 qual 1 Calc
B45: qual | C45: speed | D45: prod | E45: total | F45: output | J45: qual | K45: speed | L45: prod | M45: total | N45: output | R45: qual | S45: speed | T45: prod | U45: total | V45: output | Y45: qual | Z45: speed | AA45: prod | AB45: total | AC45: output
A46: # of mod | B46: =A42 -> 0 | C46: =B42 -> 1 | D46: =C42 -> 0 | E46: =B46+C46+D46 -> 1 | I46: # of mod | J46: =A42 -> 0 | K46: =B42 -> 1 | L46: =C42 -> 0 | M46: =J46+K46+L46 -> 1 | Q46: # of mod | R46: =A42 -> 0 | S46: =B42 -> 1 | T46: =C42 -> 0 | U46: =R46+S46+T46 -> 1 | X46: # of mod | Y46: =R46 -> 0 | Z46: =S46 -> 1 | AA46: =T46 -> 0 | AB46: =Y46+Z46+AA46 -> 1
A47: speed | B47: {=B46*Qual[11]} -> 0 | C47: {=C46*Speed[11]} -> 0.2 | D47: {=D46*Prod[11]} -> 0 | E47: =B47+C47+D47 -> 0.2 | F47: =100*(1+E47)*(1+E49) -> 120 | G47: item | H47: QUAL 1 | I47: speed | J47: {=J46*Qual[21]} -> 0 | K47: {=K46*Speed[21]} -> 0.3 | L47: {=L46*Prod[21]} -> 0 | M47: =J47+K47+L47 -> 0.3 | N47: =100*(1+M47)*(1+M49) -> 130 | O47: item | P47: QUAL 1 | Q47: speed | R47: {=R46*Qual[31]} -> 0 | S47: {=S46*Speed[31]} -> 0.5 | T47: {=T46*Prod[31]} -> 0 | U47: =R47+S47+T47 -> 0.5 | V47: =100*(1+U47)*(1+U49) -> 150 | W47: item | X47: speed | Y47: {=Y46*Qual[31]} -> 0 | Z47: {=Z46*Speed[21]} -> 0.3 | AA47: {=AA46*Prod[31]} -> 0 | AB47: =Y47+Z47+AA47 -> 0.3 | AC47: =100*(1+AB47)*(1+AB49) -> 130 | AD47: item
A48: qual | B48: 0 | C48: -0.01 | D48: 0 | E48: =B48+C48+D48 -> -0.01 | F48: =F47*(E48) -> -1.2 | G48: qualitem | I48: qual | J48: 0 | K48: -0.015 | L48: 0 | M48: =J48+K48+L48 -> -0.015 | N48: =N47*(M48) -> -1.95 | O48: qualitem | Q48: qual | R48: 0 | S48: -0.025 | T48: 0 | U48: =R48+S48+T48 -> -0.025 | V48: =V47*(U48) -> -3.75 | W48: qualitem | X48: qual | Y48: 0 | Z48: -0.015 | AA48: 0 | AB48: =Y48+Z48+AA48 -> -0.015 | AC48: =AC47*(AB48) -> -1.95 | AD48: qualitem
A49: prod | B49: 0 | C49: 0 | D49: 0 | E49: =D49+C49+B49 -> 0 | I49: prod | J49: 0 | K49: 0 | L49: 0 | M49: =L49+K49+J49 -> 0 | Q49: prod | R49: 0 | S49: 0 | T49: 0 | U49: =T49+S49+R49 -> 0 | X49: prod | Y49: 0 | Z49: 0 | AA49: 0 | AB49: =AA49+Z49+Y49 -> 0
A51: Level1 qual 2 Calc | I51: Level2 qual 2 Calc | Q51: Level3 qual 2 Calc | X51: Level3 qual 2 Calc
B52: qual | C52: speed | D52: prod | E52: total | F52: output | J52: qual | K52: speed | L52: prod | M52: total | N52: output | R52: qual3 | S52: speed3 | T52: prod3 | U52: total | V52: output | Y52: qual3 | Z52: speed3 | AA52: prod3 | AB52: total | AC52: output
A53: # of mod | B53: =A42 -> 0 | C53: =B42 -> 1 | D53: =C42 -> 0 | E53: =B53+C53+D53 -> 1 | H53: QUAL 2 | I53: # of mod | J53: =A42 -> 0 | K53: =B42 -> 1 | L53: =C42 -> 0 | M53: =J53+K53+L53 -> 1 | P53: QUAL 2 | Q53: # of mod | R53: =A42 -> 0 | S53: =B42 -> 1 | T53: =C42 -> 0 | U53: =R53+S53+T53 -> 1 | X53: # of mod | Y53: =R53 -> 0 | Z53: =S53 -> 1 | AA53: =T53 -> 0 | AB53: =Y53+Z53+AA53 -> 1
A54: speed | B54: {=B53*Qual[12]} -> 0 | C54: {=C53*Speed[12]} -> 0.26 | D54: {=D53*Prod[12]} -> 0 | E54: =B54+C54+D54 -> 0.26 | F54: =100*(1+E54)*(1+E56) -> 126 | G54: item | I54: speed | J54: {=J53*Qual[22]} -> 0 | K54: {=K53*Speed[22]} -> 0.39 | L54: {=L53*Prod[22]} -> 0 | M54: =J54+K54+L54 -> 0.39 | N54: =100*(1+M54)*(1+M56) -> 139 | O54: item | Q54: speed | R54: {=R53*Qual[32]} -> 0 | S54: {=S53*Speed[32]} -> 0.65 | T54: {=T53*Prod[32]} -> 0 | U54: =R54+S54+T54 -> 0.65 | V54: =100*(1+U54)*(1+U56) -> 165 | W54: item | X54: speed | Y54: {=Y53*Qual[32]} -> 0 | Z54: {=Z53*Speed[22]} -> 0.39 | AA54: {=AA53*Prod[32]} -> 0 | AB54: =Y54+Z54+AA54 -> 0.39 | AC54: =100*(1+AB54)*(1+AB56) -> 139 | AD54: item
A55: qual | B55: 0 | C55: -0.01 | D55: 0 | E55: =B55+C55+D55 -> -0.01 | F55: =F54*(E55) -> -1.26 | G55: qualitem | I55: qual | J55: 0 | K55: -0.015 | L55: 0 | M55: =J55+K55+L55 -> -0.015 | N55: =N54*(M55) -> -2.085 | O55: qualitem | Q55: qual | R55: 0 | S55: -0.025 | T55: 0 | U55: =R55+S55+T55 -> -0.025 | V55: =V54*(U55) -> -4.125 | W55: qualitem | X55: qual | Y55: 0 | Z55: -0.015 | AA55: 0 | AB55: =Y55+Z55+AA55 -> -0.015 | AC55: =AC54*(AB55) -> -2.085 | AD55: qualitem
A56: prod | B56: 0 | C56: 0 | D56: 0 | E56: =D56+C56+B56 -> 0 | I56: prod | J56: 0 | K56: 0 | L56: 0 | M56: =L56+K56+J56 -> 0 | Q56: prod | R56: 0 | S56: 0 | T56: 0 | U56: =T56+S56+R56 -> 0 | X56: prod | Y56: 0 | Z56: 0 | AA56: 0 | AB56: =AA56+Z56+Y56 -> 0
B67: # of modules in a beacon calculator: | F67: # of modules in a beacon calculator: | K67: # of modules in a beacon calculator:
B68: 1 | C68: # of beacons | F68: 1 | G68: # of beacons | K68: 9 | L68: # of beacons
B69: 1.5 | C69: distribution% | F69: 1.5 | G69: distribution% | K69: 1.5 | L69: distribution%
B70: 2 | C70: # of mods | F70: 1 | G70: # of mods | K70: 18 | L70: # of mods (max is:
B71: =B70*(B69/SQRT(B68)) -> 3 | C71: "total" mods | F71: =F70*(F69/SQRT(F68)) -> 1.5 | G71: "total" mods | K71: =K70*(K69/SQRT(K68)) -> 9 | L71: "total" mods

Sheet Raw Data
A1: Speed | F1: Qual | K1: Prod
A2: speed%+ | B2: qual%- | C2: level | D2: qual | F2: speed%- | G2: qual%+ | H2: level | I2: qual | K2: speed%- | L2: PROD%+ | M2: level | N2: qual | P2: Data pulled from wiki.factorio.com
A3: 0.2 | B3: -0.01 | C3: 1 | D3: 1 | F3: -0.05 | G3: 0.01 | H3: 1 | I3: 1 | K3: -0.05 | L3: 0.04 | M3: 1 | N3: 1 | P3: doesn’t include energy cost or pollution increase
A4: 0.26 | B4: -0.01 | C4: 1 | D4: 2 | F4: -0.05 | G4: 0.013 | H4: 1 | I4: 2 | K4: -0.05 | L4: 0.05 | M4: 1 | N4: 2
A5: 0.32 | B5: -0.01 | C5: 1 | D5: 3 | F5: -0.05 | G5: 0.016 | H5: 1 | I5: 3 | K5: -0.05 | L5: 0.06 | M5: 1 | N5: 3
A6: 0.38 | B6: -0.01 | C6: 1 | D6: 4 | F6: -0.05 | G6: 0.019 | H6: 1 | I6: 4 | K6: -0.05 | L6: 0.07 | M6: 1 | N6: 4
A7: 0.5 | B7: -0.01 | C7: 1 | D7: 5 | F7: -0.05 | G7: 0.025 | H7: 1 | I7: 5 | K7: -0.05 | L7: 0.09 | M7: 1 | N7: 5
A8: 0.3 | B8: -0.015 | C8: 2 | D8: 1 | F8: -0.05 | G8: 0.02 | H8: 2 | I8: 1 | K8: -0.1 | L8: 0.06 | M8: 2 | N8: 1
A9: 0.39 | B9: -0.015 | C9: 2 | D9: 2 | F9: -0.05 | G9: 0.026 | H9: 2 | I9: 2 | K9: -0.1 | L9: 0.07 | M9: 2 | N9: 2
A10: 0.48 | B10: -0.015 | C10: 2 | D10: 3 | F10: -0.05 | G10: 0.032 | H10: 2 | I10: 3 | K10: -0.1 | L10: 0.08 | M10: 2 | N10: 3
A11: 0.57 | B11: -0.015 | C11: 2 | D11: 4 | F11: -0.05 | G11: 0.038 | H11: 2 | I11: 4 | K11: -0.1 | L11: 0.11 | M11: 2 | N11: 4
A12: 0.75 | B12: -0.015 | C12: 2 | D12: 5 | F12: -0.05 | G12: 0.05 | H12: 2 | I12: 5 | K12: -0.1 | L12: 0.15 | M12: 2 | N12: 5
A13: 0.5 | B13: -0.025 | C13: 3 | D13: 1 | F13: -0.05 | G13: 0.025 | H13: 3 | I13: 1 | K13: -0.15 | L13: 0.1 | M13: 3 | N13: 1
A14: 0.65 | B14: -0.025 | C14: 3 | D14: 2 | F14: -0.05 | G14: 0.032 | H14: 3 | I14: 2 | K14: -0.15 | L14: 0.13 | M14: 3 | N14: 2
A15: 0.8 | B15: -0.025 | C15: 3 | D15: 3 | F15: -0.05 | G15: 0.04 | H15: 3 | I15: 3 | K15: -0.15 | L15: 0.16 | M15: 3 | N15: 3
... A17: 1.25 | B17: -0.025 | C17: 3 | D17: 5 | F17: -0.05 | G17: 0.062 | H17: 3 | I17: 5 | K17: -0.15 | L17: 0.25 | M17: 3 | N17: 5
B21: SpeedTable
B22: 11 | C22: 12 | D22: 13 | E22: 14 | F22: 15 | G22: 21 | H22: 22 | I22: 23 | J22: 24 | K22: 25 | L22: 31 | M22: 32 | N22: 33 | O22: 34 | P22: 35 | Q22: first digit is level, second digit is quality. yes it would be better to just have separate tables, but sunk cost falacy has struck again
A23: speed% | B23: 0.2 | C23: 0.26 | D23: 0.32 | E23: 0.38 | F23: 0.5 | G23: 0.3 | H23: 0.39 | I23: 0.48 | J23: 0.57 | K23: 0.75 | L23: 0.5 | M23: 0.65 | N23: 0.8 | O23: 0.95 | P23: 1.25
A24: Qual% | B24: -0.01 | C24: -0.01 | D24: -0.01 | E24: -0.01 | F24: -0.01 | G24: -0.015 | H24: -0.015 | I24: -0.015 | J24: -0.015 | K24: -0.015 | L24: -0.025 | M24: -0.025 | N24: -0.025 | O24: -0.025 | P24: -0.025
A25: Prod% | B25: 0 | C25: 0 | D25: 0 | E25: 0 | F25: 0 | G25: 0 | H25: 0 | I25: 0 | J25: 0 | K25: 0 | L25: 0 | M25: 0 | N25: 0 | O25: 0 | P25: 0
R27: `
B28: Qual
B29: 11 | C29: 12 | D29: 13 | E29: 14 | F29: 15 | G29: 21 | H29: 22 | I29: 23 | J29: 24 | K29: 25 | L29: 31 | M29: 32 | N29: 33 | O29: 34 | P29: 35
A30: speed% | B30: -0.05 | C30: -0.05 | D30: -0.05 | E30: -0.05 | F30: -0.05 | G30: -0.05 | H30: -0.05 | I30: -0.05 | J30: -0.05 | K30: -0.05 | L30: -0.05 | M30: -0.05 | N30: -0.05 | O30: -0.05 | P30: -0.05
A31: Qual% | B31: 0.01 | C31: 0.013 | D31: 0.016 | E31: 0.019 | F31: 0.025 | G31: 0.02 | H31: 0.026 | I31: 0.032 | J31: 0.038 | K31: 0.05 | L31: 0.025 | M31: 0.032 | N31: 0.04 | O31: 0.047 | P31: 0.062
A32: Prod% | B32: 0 | C32: 0 | D32: 0 | E32: 0 | F32: 0 | G32: 0 | H32: 0 | I32: 0 | J32: 0 | K32: 0 | L32: 0 | M32: 0 | N32: 0 | O32: 0 | P32: 0
B34: Prod
B35: 11 | C35: 12 | D35: 13 | E35: 14 | F35: 15 | G35: 21 | H35: 22 | I35: 23 | J35: 24 | K35: 25 | L35: 31 | M35: 32 | N35: 33 | O35: 34 | P35: 35
A36: speed% | B36: -0.05 | C36: -0.05 | D36: -0.05 | E36: -0.05 | F36: -0.05 | G36: -0.1 | H36: -0.1 | I36: -0.1 | J36: -0.1 | K36: -0.1 | L36: -0.15 | M36: -0.15 | N36: -0.15 | O36: -0.15 | P36: -0.15
A37: Qual% | B37: 0 | C37: 0 | D37: 0 | E37: 0 | F37: 0 | G37: 0 | H37: 0 | I37: 0 | J37: 0 | K37: 0 | L37: 0 | M37: 0 | N37: 0 | O37: 0 | P37: 0
A38: Prod% | B38: 0.04 | C38: 0.05 | D38: 0.06 | E38: 0.07 | F38: 0.09 | G38: 0.06 | H38: 0.07 | I38: 0.08 | J38: 0.11 | K38: 0.15 | L38: 0.1 | M38: 0.13 | N38: 0.16 | O38: 0.19 | P38: 0.25

Sheet Calcs
A1: Background calcs for table | C1: level 1 | G1: level 2 | K1: level 3 | O1: level 3, speed2 | S1: #2 | U1: level 1 | Y1: level 2 | AC1: level 3 | AG1: level 3, speed2
B2: {=QualNum*Qual[11]} -> -0.2 | C2: {=SpeedNum*Speed[11]} -> 0 | D2: {=ProdNum*Prod[11]} -> 0 | E2: =B2+C2+D2 -> -0.2 | F2: {=QualNum*Qual[21]} -> -0.2 | G2: {=SpeedNum*Speed[21]} -> 0 | H2: {=ProdNum*Prod[21]} -> 0 | I2: =F2+G2+H2 -> -0.2 | J2: {=QualNum*Qual[31]} -> -0.2 | K2: {=SpeedNum*Speed[31]} -> 0 | L2: {=ProdNum*Prod[31]} -> 0 | M2: =J2+K2+L2 -> -0.2 | N2: {=QualNum*Qual[31]} -> -0.2 | O2: {=SpeedNum*Speed[21]} -> 0 | P2: {=ProdNum*Prod[31]} -> 0 | Q2: =N2+O2+P2 -> -0.2 | R2: speed | T2: {=QualNum2*Qual[11]} -> -0.2 | U2: {=SpeedNum2*Speed[11]} -> 0.3 | V2: {=ProdNum2*Prod[11]} -> 0 | W2: =T2+U2+V2 -> 0.1 | X2: {=QualNum2*Qual[21]} -> -0.2 | Y2: {=SpeedNum2*Speed[21]} -> 0.45 | Z2: {=ProdNum2*Prod[21]} -> 0 | AA2: =X2+Y2+Z2 -> 0.25 | AB2: {=QualNum2*Qual[31]} -> -0.2 | AC2: {=SpeedNum2*Speed[31]} -> 0.75 | AD2: {=ProdNum2*Prod[31]} -> 0 | AE2: =AB2+AC2+AD2 -> 0.55 | AF2: {=QualNum2*Qual[31]} -> -0.2 | AG2: {=SpeedNum2*Speed[21]} -> 0.45 | AH2: {=ProdNum2*Prod[31]} -> 0 | AI2: =AF2+AG2+AH2 -> 0.25 | AJ2: speed
A3: qual 1 | B3: 0.04 | C3: 0 | D3: 0 | E3: =B3+C3+D3 -> 0.04 | F3: 0.08 | G3: 0 | H3: 0 | I3: =F3+G3+H3 -> 0.08 | J3: 0.1 | K3: 0 | L3: 0 | M3: =J3+K3+L3 -> 0.1 | N3: 0.1 | O3: 0 | P3: 0 | Q3: =N3+O3+P3 -> 0.1 | R3: qual | S3: qual 1 | T3: 0.04 | U3: -0.015 | V3: 0 | W3: =T3+U3+V3 -> 0.025 | X3: 0.08 | Y3: -0.0225 | Z3: 0 | AA3: =X3+Y3+Z3 -> 0.0575 | AB3: 0.1 | AC3: -0.0375 | AD3: 0 | AE3: =AB3+AC3+AD3 -> 0.0625 | AF3: 0.1 | AG3: -0.0225 | AH3: 0 | AI3: =AF3+AG3+AH3 -> 0.0775 | AJ3: qual
B4: 0 | C4: 0 | D4: 0 | E4: =B4+C4+D4 -> 0 | F4: 0 | G4: 0 | H4: 0 | I4: =F4+G4+H4 -> 0 | J4: 0 | K4: 0 | L4: 0 | M4: =J4+K4+L4 -> 0 | N4: 0 | O4: 0 | P4: 0 | Q4: =N4+O4+P4 -> 0 | R4: prod | T4: 0 | U4: 0 | V4: 0 | W4: =T4+U4+V4 -> 0 | X4: 0 | Y4: 0 | Z4: 0 | AA4: =X4+Y4+Z4 -> 0 | AB4: 0 | AC4: 0 | AD4: 0 | AE4: =AB4+AC4+AD4 -> 0 | AF4: 0 | AG4: 0 | AH4: 0 | AI4: =AF4+AG4+AH4 -> 0 | AJ4: prod
B5: {=QualNum*Qual[12]} -> -0.2 | C5: {=SpeedNum*Speed[12]} -> 0 | D5: {=ProdNum*Prod[12]} -> 0 | E5: =B5+C5+D5 -> -0.2 | F5: {=QualNum*Qual[22]} -> -0.2 | G5: {=SpeedNum*Speed[22]} -> 0 | H5: {=ProdNum*Prod[22]} -> 0 | I5: =F5+G5+H5 -> -0.2 | J5: {=QualNum*Qual[32]} -> -0.2 | K5: {=SpeedNum*Speed[32]} -> 0 | L5: {=ProdNum*Prod[32]} -> 0 | M5: =J5+K5+L5 -> -0.2 | N5: {=QualNum*Qual[32]} -> -0.2 | O5: {=SpeedNum*Speed[22]} -> 0 | P5: {=ProdNum*Prod[32]} -> 0 | Q5: =N5+O5+P5 -> -0.2 | T5: {=QualNum2*Qual[12]} -> -0.2 | U5: {=SpeedNum2*Speed[12]} -> 0.39 | V5: {=ProdNum2*Prod[12]} -> 0 | W5: =T5+U5+V5 -> 0.19 | X5: {=QualNum2*Qual[22]} -> -0.2 | Y5: {=SpeedNum2*Speed[22]} -> 0.585 | Z5: {=ProdNum2*Prod[22]} -> 0 | AA5: =X5+Y5+Z5 -> 0.385 | AB5: {=QualNum2*Qual[32]} -> -0.2 | AC5: {=SpeedNum2*Speed[32]} -> 0.975 | AD5: {=ProdNum2*Prod[32]} -> 0 | AE5: =AB5+AC5+AD5 -> 0.775 | AF5: {=QualNum2*Qual[32]} -> -0.2 | AG5: {=SpeedNum2*Speed[22]} -> 0.585 | AH5: {=ProdNum2*Prod[32]} -> 0 | AI5: =AF5+AG5+AH5 -> 0.385
A6: qual 2 | B6: 0.052 | C6: 0 | D6: 0 | E6: =B6+C6+D6 -> 0.052 | F6: 0.104 | G6: 0 | H6: 0 | I6: =F6+G6+H6 -> 0.104 | J6: 0.128 | K6: 0 | L6: 0 | M6: =J6+K6+L6 -> 0.128 | N6: 0.128 | O6: 0 | P6: 0 | Q6: =N6+O6+P6 -> 0.128 | S6: qual 2 | T6: 0.052 | U6: -0.015 | V6: 0 | W6: =T6+U6+V6 -> 0.037 | X6: 0.104 | Y6: -0.0225 | Z6: 0 | AA6: =X6+Y6+Z6 -> 0.0815 | AB6: 0.128 | AC6: -0.0375 | AD6: 0 | AE6: =AB6+AC6+AD6 -> 0.0905 | AF6: 0.128 | AG6: -0.0225 | AH6: 0 | AI6: =AF6+AG6+AH6 -> 0.1055
B7: 0 | C7: 0 | D7: 0 | E7: =B7+C7+D7 -> 0 | F7: 0 | G7: 0 | H7: 0 | I7: =F7+G7+H7 -> 0 | J7: 0 | K7: 0 | L7: 0 | M7: =J7+K7+L7 -> 0 | N7: 0 | O7: 0 | P7: 0 | Q7: =N7+O7+P7 -> 0 | T7: 0 | U7: 0 | V7: 0 | W7: =T7+U7+V7 -> 0 | X7: 0 | Y7: 0 | Z7: 0 | AA7: =X7+Y7+Z7 -> 0 | AB7: 0 | AC7: 0 | AD7: 0 | AE7: =AB7+AC7+AD7 -> 0 | AF7: 0 | AG7: 0 | AH7: 0 | AI7: =AF7+AG7+AH7 -> 0
B8: {=QualNum*Qual[13]} -> -0.2 | C8: {=SpeedNum*Speed[13]} -> 0 | D8: {=ProdNum*Prod[13]} -> 0 | E8: =B8+C8+D8 -> -0.2 | F8: {=QualNum*Qual[23]} -> -0.2 | G8: {=SpeedNum*Speed[23]} -> 0 | H8: {=ProdNum*Prod[23]} -> 0 | I8: =F8+G8+H8 -> -0.2 | J8: {=QualNum*Qual[33]} -> -0.2 | K8: {=SpeedNum*Speed[33]} -> 0 | L8: {=ProdNum*Prod[33]} -> 0 | M8: =J8+K8+L8 -> -0.2 | N8: {=QualNum*Qual[33]} -> -0.2 | O8: {=SpeedNum*Speed[23]} -> 0 | P8: {=ProdNum*Prod[33]} -> 0 | Q8: =N8+O8+P8 -> -0.2 | T8: {=QualNum2*Qual[13]} -> -0.2 | U8: {=SpeedNum2*Speed[13]} -> 0.48 | V8: {=ProdNum2*Prod[13]} -> 0 | W8: =T8+U8+V8 -> 0.28 | X8: {=QualNum2*Qual[23]} -> -0.2 | Y8: {=SpeedNum2*Speed[23]} -> 0.72 | Z8: {=ProdNum2*Prod[23]} -> 0 | AA8: =X8+Y8+Z8 -> 0.52 | AB8: {=QualNum2*Qual[33]} -> -0.2 | AC8: {=SpeedNum2*Speed[33]} -> 1.2 | AD8: {=ProdNum2*Prod[33]} -> 0 | AE8: =AB8+AC8+AD8 -> 1 | AF8: {=QualNum2*Qual[33]} -> -0.2 | AG8: {=SpeedNum2*Speed[23]} -> 0.72 | AH8: {=ProdNum2*Prod[33]} -> 0 | AI8: =AF8+AG8+AH8 -> 0.52
A9: qual 3 | B9: 0.064 | C9: 0 | D9: 0 | E9: =B9+C9+D9 -> 0.064 | F9: 0.128 | G9: 0 | H9: 0 | I9: =F9+G9+H9 -> 0.128 | J9: 0.16 | K9: 0 | L9: 0 | M9: =J9+K9+L9 -> 0.16 | N9: 0.16 | O9: 0 | P9: 0 | Q9: =N9+O9+P9 -> 0.16 | S9: qual 3 | T9: 0.064 | U9: -0.015 | V9: 0 | W9: =T9+U9+V9 -> 0.049 | X9: 0.128 | Y9: -0.0225 | Z9: 0 | AA9: =X9+Y9+Z9 -> 0.1055 | AB9: 0.16 | AC9: -0.0375 | AD9: 0 | AE9: =AB9+AC9+AD9 -> 0.1225 | AF9: 0.16 | AG9: -0.0225 | AH9: 0 | AI9: =AF9+AG9+AH9 -> 0.1375
B10: 0 | C10: 0 | D10: 0 | E10: =B10+C10+D10 -> 0 | F10: 0 | G10: 0 | H10: 0 | I10: =F10+G10+H10 -> 0 | J10: 0 | K10: 0 | L10: 0 | M10: =J10+K10+L10 -> 0 | N10: 0 | O10: 0 | P10: 0 | Q10: =N10+O10+P10 -> 0 | T10: 0 | U10: 0 | V10: 0 | W10: =T10+U10+V10 -> 0 | X10: 0 | Y10: 0 | Z10: 0 | AA10: =X10+Y10+Z10 -> 0 | AB10: 0 | AC10: 0 | AD10: 0 | AE10: =AB10+AC10+AD10 -> 0 | AF10: 0 | AG10: 0 | AH10: 0 | AI10: =AF10+AG10+AH10 -> 0
B11: {=QualNum*Qual[14]} -> -0.2 | C11: {=SpeedNum*Speed[14]} -> 0 | D11: {=ProdNum*Prod[14]} -> 0 | E11: =B11+C11+D11 -> -0.2 | F11: {=QualNum*Qual[24]} -> -0.2 | G11: {=SpeedNum*Speed[24]} -> 0 | H11: {=ProdNum*Prod[24]} -> 0 | I11: =F11+G11+H11 -> -0.2 | J11: {=QualNum*Qual[34]} -> -0.2 | K11: {=SpeedNum*Speed[34]} -> 0 | L11: {=ProdNum*Prod[34]} -> 0 | M11: =J11+K11+L11 -> -0.2 | N11: {=QualNum*Qual[34]} -> -0.2 | O11: {=SpeedNum*Speed[24]} -> 0 | P11: {=ProdNum*Prod[34]} -> 0 | Q11: =N11+O11+P11 -> -0.2 | T11: {=QualNum2*Qual[14]} -> -0.2 | U11: {=SpeedNum2*Speed[14]} -> 0.57 | V11: {=ProdNum2*Prod[14]} -> 0 | W11: =T11+U11+V11 -> 0.37 | X11: {=QualNum2*Qual[24]} -> -0.2 | Y11: {=SpeedNum2*Speed[24]} -> 0.855 | Z11: {=ProdNum2*Prod[24]} -> 0 | AA11: =X11+Y11+Z11 -> 0.655 | AB11: {=QualNum2*Qual[34]} -> -0.2 | AC11: {=SpeedNum2*Speed[34]} -> 1.425 | AD11: {=ProdNum2*Prod[34]} -> 0 | AE11: =AB11+AC11+AD11 -> 1.225 | AF11: {=QualNum2*Qual[34]} -> -0.2 | AG11: {=SpeedNum2*Speed[24]} -> 0.855 | AH11: {=ProdNum2*Prod[34]} -> 0 | AI11: =AF11+AG11+AH11 -> 0.655
A12: qual 4 | B12: 0.076 | C12: 0 | D12: 0 | E12: =B12+C12+D12 -> 0.076 | F12: 0.152 | G12: 0 | H12: 0 | I12: =F12+G12+H12 -> 0.152 | J12: 0.188 | K12: 0 | L12: 0 | M12: =J12+K12+L12 -> 0.188 | N12: 0.188 | O12: 0 | P12: 0 | Q12: =N12+O12+P12 -> 0.188 | S12: qual 4 | T12: 0.076 | U12: -0.015 | V12: 0 | W12: =T12+U12+V12 -> 0.061 | X12: 0.152 | Y12: -0.0225 | Z12: 0 | AA12: =X12+Y12+Z12 -> 0.1295 | AB12: 0.188 | AC12: -0.0375 | AD12: 0 | AE12: =AB12+AC12+AD12 -> 0.1505 | AF12: 0.188 | AG12: -0.0225 | AH12: 0 | AI12: =AF12+AG12+AH12 -> 0.1655
B13: 0 | C13: 0 | D13: 0 | E13: =B13+C13+D13 -> 0 | F13: 0 | G13: 0 | H13: 0 | I13: =F13+G13+H13 -> 0 | J13: 0 | K13: 0 | L13: 0 | M13: =J13+K13+L13 -> 0 | N13: 0 | O13: 0 | P13: 0 | Q13: =N13+O13+P13 -> 0 | T13: 0 | U13: 0 | V13: 0 | W13: =T13+U13+V13 -> 0 | X13: 0 | Y13: 0 | Z13: 0 | AA13: =X13+Y13+Z13 -> 0 | AB13: 0 | AC13: 0 | AD13: 0 | AE13: =AB13+AC13+AD13 -> 0 | AF13: 0 | AG13: 0 | AH13: 0 | AI13: =AF13+AG13+AH13 -> 0
B14: {=QualNum*Qual[15]} -> -0.2 | C14: {=SpeedNum*Speed[15]} -> 0 | D14: {=ProdNum*Prod[15]} -> 0 | E14: =B14+C14+D14 -> -0.2 | F14: {=QualNum*Qual[25]} -> -0.2 | G14: {=SpeedNum*Speed[25]} -> 0 | H14: {=ProdNum*Prod[25]} -> 0 | I14: =F14+G14+H14 -> -0.2 | J14: {=QualNum*Qual[35]} -> -0.2 | K14: {=SpeedNum*Speed[35]} -> 0 | L14: {=ProdNum*Prod[35]} -> 0 | M14: =J14+K14+L14 -> -0.2 | N14: {=QualNum*Qual[35]} -> -0.2 | O14: {=SpeedNum*Speed[25]} -> 0 | P14: {=ProdNum*Prod[35]} -> 0 | Q14: =N14+O14+P14 -> -0.2 | T14: {=QualNum2*Qual[15]} -> -0.2 | U14: {=SpeedNum2*Speed[15]} -> 0.75 | V14: {=ProdNum2*Prod[15]} -> 0 | W14: =T14+U14+V14 -> 0.55 | X14: {=QualNum2*Qual[25]} -> -0.2 | Y14: {=SpeedNum2*Speed[25]} -> 1.125 | Z14: {=ProdNum2*Prod[25]} -> 0 | AA14: =X14+Y14+Z14 -> 0.925 | AB14: {=QualNum2*Qual[35]} -> -0.2 | AC14: {=SpeedNum2*Speed[35]} -> 1.875 | AD14: {=ProdNum2*Prod[35]} -> 0 | AE14: =AB14+AC14+AD14 -> 1.675 | AF14: {=QualNum2*Qual[35]} -> -0.2 | AG14: {=SpeedNum2*Speed[25]} -> 1.125 | AH14: {=ProdNum2*Prod[35]} -> 0 | AI14: =AF14+AG14+AH14 -> 0.925
A15: qual 5 | B15: 0.1 | C15: 0 | D15: 0 | E15: =B15+C15+D15 -> 0.1 | F15: 0.2 | G15: 0 | H15: 0 | I15: =F15+G15+H15 -> 0.2 | J15: 0.248 | K15: 0 | L15: 0 | M15: =J15+K15+L15 -> 0.248 | N15: 0.248 | O15: 0 | P15: 0 | Q15: =N15+O15+P15 -> 0.248 | S15: qual 5 | T15: 0.1 | U15: -0.015 | V15: 0 | W15: =T15+U15+V15 -> 0.085 | X15: 0.2 | Y15: -0.0225 | Z15: 0 | AA15: =X15+Y15+Z15 -> 0.1775 | AB15: 0.248 | AC15: -0.0375 | AD15: 0 | AE15: =AB15+AC15+AD15 -> 0.2105 | AF15: 0.248 | AG15: -0.0225 | AH15: 0 | AI15: =AF15+AG15+AH15 -> 0.2255
B16: 0 | C16: 0 | D16: 0 | E16: =B16+C16+D16 -> 0 | F16: 0 | G16: 0 | H16: 0 | I16: =F16+G16+H16 -> 0 | J16: 0 | K16: 0 | L16: 0 | M16: =J16+K16+L16 -> 0 | N16: 0 | O16: 0 | P16: 0 | Q16: =N16+O16+P16 -> 0 | T16: 0 | U16: 0 | V16: 0 | W16: =T16+U16+V16 -> 0 | X16: 0 | Y16: 0 | Z16: 0 | AA16: =X16+Y16+Z16 -> 0 | AB16: 0 | AC16: 0 | AD16: 0 | AE16: =AB16+AC16+AD16 -> 0 | AF16: 0 | AG16: 0 | AH16: 0 | AI16: =AF16+AG16+AH16 -> 0
A18: level | B18: 1 | C18: 2 | D18: 3 | E18: 4 | S18: level | T18: 1 | U18: 2 | V18: 3 | W18: 4
A19: qual 1 speed | B19: =E2 -> -0.2 | C19: =I2 -> -0.2 | D19: =M2 -> -0.2 | E19: =Q2 -> -0.2 | T19: =W2 -> 0.1 | U19: =AA2 -> 0.25 | V19: =AE2 -> 0.55 | W19: =AI2 -> 0.25 | Z19: level 1 | AA19: level 2 | AB19: level 3 | AC19: level 3* | AF19: level 1 | AG19: level 2 | AH19: level 3 | AI19: level 3*
A20: level | B20: 1 | C20: 2 | D20: 3 | E20: 4 | H20: level 1 | I20: level 2 | J20: level 3 | K20: level 3* | S20: qual1 | T20: =W3 -> 0.025 | U20: =AA3 -> 0.0575 | V20: =AE3 -> 0.0625 | W20: =AI3 -> 0.0775 | Y20: qual 1 | Z20: =100*(1+T19)*(1+T21)*T20 -> 2.75 | AA20: =100*(1+U19)*(1+U21)*U20 -> 7.1875 | AB20: =100*(1+V19)*(1+V21)*V20 -> 9.6875 | AC20: =100*(1+W19)*(1+W21)*W20 -> 9.6875 | AE20: qual 1 | AF20: =Z20 -> 2.75 | AG20: =AA20 -> 7.1875 | AH20: =AB20 -> 9.6875 | AI20: =AC20 -> 9.6875
A21: qual 1 qual | B21: =E3 -> 0.04 | C21: =I3 -> 0.08 | D21: =M3 -> 0.1 | E21: =Q3 -> 0.1 | G21: qual 1 | H21: {=100*(1+SpeedN[1])*(1+ProdN[1])*QualN[1]} -> 3.2 | I21: {=100*(1+SpeedN[2])*(1+ProdN[2])*QualN[2]} -> 6.4 | J21: {=100*(1+SpeedN[3])*(1+ProdN[3])*QualN[3]} -> 8 | K21: {=100*(1+SpeedN[4])*(1+ProdN[4])*QualN[4]} -> 8 | T21: =W4 -> 0 | U21: =AA4 -> 0 | V21: =AE4 -> 0 | W21: =AI4 -> 0 | AE21: qual 2 | AF21: =Z22 -> 4.403 | AG21: =AA22 -> 11.28775 | AH21: =AB22 -> 16.06375 | AI21: =AC22 -> 14.61175
A22: level | B22: 1 | C22: 2 | D22: 3 | E22: 4 | G22: qual 2 | H22: {=100*(1+SpeedU[1])*(1+ProdU[1])*QualU[1]} -> 4.16 | I22: {=100*(1+SpeedU[2])*(1+ProdU[2])*QualU[2]} -> 8.32 | J22: {=100*(1+SpeedU[3])*(1+ProdU[3])*QualU[3]} -> 10.24 | K22: {=100*(1+SpeedU[4])*(1+ProdU[4])*QualU[4]} -> 10.24 | T22: =W5 -> 0.19 | U22: =AA5 -> 0.385 | V22: =AE5 -> 0.775 | W22: =AI5 -> 0.385 | Y22: qual 2 | Z22: =100*(1+T22)*(1+T24)*T23 -> 4.403 | AA22: =100*(1+U22)*(1+U24)*U23 -> 11.28775 | AB22: =100*(1+V22)*(1+V24)*V23 -> 16.06375 | AC22: =100*(1+W22)*(1+W24)*W23 -> 14.61175 | AE22: qual 3 | AF22: =Z25 -> 6.272 | AG22: =AA25 -> 16.036 | AH22: =AB25 -> 24.5 | AI22: =AC25 -> 20.9
A23: qual 1 prod | B23: =E4 -> 0 | C23: =I4 -> 0 | D23: =M4 -> 0 | E23: =Q4 -> 0 | G23: qual 3 | H23: {=100*(1+SpeedR[1])*(1+ProdR[1])*QualR[1]} -> 5.12 | I23: {=100*(1+SpeedR[2])*(1+ProdR[2])*QualR[2]} -> 10.24 | J23: {=100*(1+SpeedR[3])*(1+ProdR[3])*QualR[3]} -> 12.8 | K23: {=100*(1+SpeedR[4])*(1+ProdR[4])*QualR[4]} -> 12.8 | S23: qual2 | T23: =W6 -> 0.037 | U23: =AA6 -> 0.0815 | V23: =AE6 -> 0.0905 | W23: =AI6 -> 0.1055 | AE23: qual 4 | AF23: =Z28 -> 8.357 | AG23: =AA28 -> 21.43225 | AH23: =AB28 -> 33.48625 | AI23: =AC28 -> 27.39025
B24: 1 | C24: 2 | D24: 3 | E24: 4 | G24: qual 4 | H24: {=100*(1+SpeedE[1])*(1+ProdE[1])*QualE[1]} -> 6.08 | I24: {=100*(1+SpeedE[2])*(1+ProdE[2])*QualE[2]} -> 12.16 | J24: {=100*(1+SpeedE[3])*(1+ProdE[3])*QualE[3]} -> 15.04 | K24: {=100*(1+SpeedE[4])*(1+ProdE[4])*QualE[4]} -> 15.04 | T24: =W7 -> 0 | U24: =AA7 -> 0 | V24: =AE7 -> 0 | W24: =AI7 -> 0 | AE24: qual 5 | AF24: =Z31 -> 13.175 | AG24: =AA31 -> 34.16875 | AH24: =AB31 -> 56.30875 | AI24: =AC31 -> 43.40875
B25: =E5 -> -0.2 | C25: =I5 -> -0.2 | D25: =M5 -> -0.2 | E25: =Q5 -> -0.2 | G25: qual 5 | H25: {=100*(1+SpeedL[1])*(1+ProdL[1])*QualL[1]} -> 8 | I25: {=100*(1+SpeedL[2])*(1+ProdL[2])*QualL[2]} -> 16 | J25: {=100*(1+SpeedL[3])*(1+ProdL[3])*QualL[3]} -> 19.84 | K25: {=100*(1+SpeedL[4])*(1+ProdL[4])*QualL[4]} -> 19.84 | T25: =W8 -> 0.28 | U25: =AA8 -> 0.52 | V25: =AE8 -> 1 | W25: =AI8 -> 0.52 | Y25: qual 3 | Z25: =100*(1+T25)*(1+T27)*T26 -> 6.272 | AA25: =100*(1+U25)*(1+U27)*U26 -> 16.036 | AB25: =100*(1+V25)*(1+V27)*V26 -> 24.5 | AC25: =100*(1+W25)*(1+W27)*W26 -> 20.9
A26: qual2 | B26: 1 | C26: 2 | D26: 3 | E26: 4 | S26: qual3 | T26: =W9 -> 0.049 | U26: =AA9 -> 0.1055 | V26: =AE9 -> 0.1225 | W26: =AI9 -> 0.1375
B27: =E6 -> 0.052 | C27: =I6 -> 0.104 | D27: =M6 -> 0.128 | E27: =Q6 -> 0.128 | T27: =W10 -> 0 | U27: =AA10 -> 0 | V27: =AE10 -> 0 | W27: =AI10 -> 0
B28: 1 | C28: 2 | D28: 3 | E28: 4 | T28: =W11 -> 0.37 | U28: =AA11 -> 0.655 | V28: =AE11 -> 1.225 | W28: =AI11 -> 0.655 | Y28: qual 4 | Z28: =100*(1+T28)*(1+T30)*T29 -> 8.357 | AA28: =100*(1+U28)*(1+U30)*U29 -> 21.43225 | AB28: =100*(1+V28)*(1+V30)*V29 -> 33.48625 | AC28: =100*(1+W28)*(1+W30)*W29 -> 27.39025
B29: =E7 -> 0 | C29: =I7 -> 0 | D29: =M7 -> 0 | E29: =Q7 -> 0 | G29: this one uses named tables, but that makes it imposible to duplicate | S29: qual4 | T29: =W12 -> 0.061 | U29: =AA12 -> 0.1295 | V29: =AE12 -> 0.1505 | W29: =AI12 -> 0.1655
B30: 1 | C30: 2 | D30: 3 | E30: 4 | T30: =W13 -> 0 | U30: =AA13 -> 0 | V30: =AE13 -> 0 | W30: =AI13 -> 0
B31: =E8 -> -0.2 | C31: =I8 -> -0.2 | D31: =M8 -> -0.2 | E31: =Q8 -> -0.2 | T31: =W14 -> 0.55 | U31: =AA14 -> 0.925 | V31: =AE14 -> 1.675 | W31: =AI14 -> 0.925 | Y31: qual 5 | Z31: =100*(1+T31)*(1+T33)*T32 -> 13.175 | AA31: =100*(1+U31)*(1+U33)*U32 -> 34.16875 | AB31: =100*(1+V31)*(1+V33)*V32 -> 56.30875 | AC31: =100*(1+W31)*(1+W33)*W32 -> 43.40875
A32: qual 3 | B32: 1 | C32: 2 | D32: 3 | E32: 4 | S32: qual5 | T32: =W15 -> 0.085 | U32: =AA15 -> 0.1775 | V32: =AE15 -> 0.2105 | W32: =AI15 -> 0.2255
B33: =E9 -> 0.064 | C33: =I9 -> 0.128 | D33: =M9 -> 0.16 | E33: =Q9 -> 0.16 | T33: =W16 -> 0 | U33: =AA16 -> 0 | V33: =AE16 -> 0 | W33: =AI16 -> 0 | Y33: this one uses cell positions, meaning you can duplicate it (then use local replace to fix the input module #s)
B34: 1 | C34: 2 | D34: 3 | E34: 4
B35: =E10 -> 0 | C35: =I10 -> 0 | D35: =M10 -> 0 | E35: =Q10 -> 0
B36: 1 | C36: 2 | D36: 3 | E36: 4
B37: =E11 -> -0.2 | C37: =I11 -> -0.2 | D37: =M11 -> -0.2 | E37: =Q11 -> -0.2
A38: qual 4 | B38: 1 | C38: 2 | D38: 3 | E38: 4
B39: =E12 -> 0.076 | C39: =I12 -> 0.152 | D39: =M12 -> 0.188 | E39: =Q12 -> 0.188
B40: 1 | C40: 2 | D40: 3 | E40: 4
B41: =E13 -> 0 | C41: =I13 -> 0 | D41: =M13 -> 0 | E41: =Q13 -> 0
B42: 1 | C42: 2 | D42: 3 | E42: 4
B43: =E14 -> -0.2 | C43: =I14 -> -0.2 | D43: =M14 -> -0.2 | E43: =Q14 -> -0.2
A44: qual 5 | B44: 1 | C44: 2 | D44: 3 | E44: 4
B45: =E15 -> 0.1 | C45: =I15 -> 0.2 | D45: =M15 -> 0.248 | E45: =Q15 -> 0.248
B46: 1 | C46: 2 | D46: 3 | E46: 4
B47: =E16 -> 0 | C47: =I16 -> 0 | D47: =M16 -> 0 | E47: =Q16 -> 0
A51: #2 | C51: level 1 | G51: level 2 | K51: level 3 | O51: level 3, speed2
B52: {=QualNum3*Qual[11]} -> -0.2 | C52: {=SpeedNum3*Speed[11]} -> 0.212132 | D52: {=ProdNum3*Prod[11]} -> 0 | E52: =B52+C52+D52 -> 0.012132 | F52: {=QualNum3*Qual[21]} -> -0.2 | G52: {=SpeedNum3*Speed[21]} -> 0.318198 | H52: {=ProdNum3*Prod[21]} -> 0 | I52: =F52+G52+H52 -> 0.118198 | J52: {=QualNum3*Qual[31]} -> -0.2 | K52: {=SpeedNum3*Speed[31]} -> 0.53033 | L52: {=ProdNum3*Prod[31]} -> 0 | M52: =J52+K52+L52 -> 0.33033 | N52: {=QualNum3*Qual[31]} -> -0.2 | O52: {=SpeedNum3*Speed[21]} -> 0.318198 | P52: {=ProdNum3*Prod[31]} -> 0 | Q52: =N52+O52+P52 -> 0.118198
A53: qual 1 | B53: 0.04 | C53: -0.0106066 | D53: 0 | E53: =B53+C53+D53 -> 0.0293934 | F53: 0.08 | G53: -0.0159099 | H53: 0 | I53: =F53+G53+H53 -> 0.0640901 | J53: 0.1 | K53: -0.0265165 | L53: 0 | M53: =J53+K53+L53 -> 0.0734835 | N53: 0.1 | O53: -0.0159099 | P53: 0 | Q53: =N53+O53+P53 -> 0.0840901
B54: 0 | C54: 0 | D54: 0 | E54: =B54+C54+D54 -> 0 | F54: 0 | G54: 0 | H54: 0 | I54: =F54+G54+H54 -> 0 | J54: 0 | K54: 0 | L54: 0 | M54: =J54+K54+L54 -> 0 | N54: 0 | O54: 0 | P54: 0 | Q54: =N54+O54+P54 -> 0
B55: {=QualNum3*Qual[12]} -> -0.2 | C55: {=SpeedNum3*Speed[12]} -> 0.2757716 | D55: {=ProdNum3*Prod[12]} -> 0 | E55: =B55+C55+D55 -> 0.0757716 | F55: {=QualNum3*Qual[22]} -> -0.2 | G55: {=SpeedNum3*Speed[22]} -> 0.4136574 | H55: {=ProdNum3*Prod[22]} -> 0 | I55: =F55+G55+H55 -> 0.2136574 | J55: {=QualNum3*Qual[32]} -> -0.2 | K55: {=SpeedNum3*Speed[32]} -> 0.689429 | L55: {=ProdNum3*Prod[32]} -> 0 | M55: =J55+K55+L55 -> 0.489429 | N55: {=QualNum3*Qual[32]} -> -0.2 | O55: {=SpeedNum3*Speed[22]} -> 0.4136574 | P55: {=ProdNum3*Prod[32]} -> 0 | Q55: =N55+O55+P55 -> 0.2136574
A56: qual 2 | B56: 0.052 | C56: -0.0106066 | D56: 0 | E56: =B56+C56+D56 -> 0.0413934 | F56: 0.104 | G56: -0.0159099 | H56: 0 | I56: =F56+G56+H56 -> 0.0880901 | J56: 0.128 | K56: -0.0265165 | L56: 0 | M56: =J56+K56+L56 -> 0.1014835 | N56: 0.128 | O56: -0.0159099 | P56: 0 | Q56: =N56+O56+P56 -> 0.1120901
B57: 0 | C57: 0 | D57: 0 | E57: =B57+C57+D57 -> 0 | F57: 0 | G57: 0 | H57: 0 | I57: =F57+G57+H57 -> 0 | J57: 0 | K57: 0 | L57: 0 | M57: =J57+K57+L57 -> 0 | N57: 0 | O57: 0 | P57: 0 | Q57: =N57+O57+P57 -> 0
B58: {=QualNum3*Qual[13]} -> -0.2 | C58: {=SpeedNum3*Speed[13]} -> 0.3394112 | D58: {=ProdNum3*Prod[13]} -> 0 | E58: =B58+C58+D58 -> 0.1394112 | F58: {=QualNum3*Qual[23]} -> -0.2 | G58: {=SpeedNum3*Speed[23]} -> 0.5091168 | H58: {=ProdNum3*Prod[23]} -> 0 | I58: =F58+G58+H58 -> 0.3091168 | J58: {=QualNum3*Qual[33]} -> -0.2 | K58: {=SpeedNum3*Speed[33]} -> 0.848528 | L58: {=ProdNum3*Prod[33]} -> 0 | M58: =J58+K58+L58 -> 0.648528 | N58: {=QualNum3*Qual[33]} -> -0.2 | O58: {=SpeedNum3*Speed[23]} -> 0.5091168 | P58: {=ProdNum3*Prod[33]} -> 0 | Q58: =N58+O58+P58 -> 0.3091168
A59: qual 3 | B59: 0.064 | C59: -0.0106066 | D59: 0 | E59: =B59+C59+D59 -> 0.0533934 | F59: 0.128 | G59: -0.0159099 | H59: 0 | I59: =F59+G59+H59 -> 0.1120901 | J59: 0.16 | K59: -0.0265165 | L59: 0 | M59: =J59+K59+L59 -> 0.1334835 | N59: 0.16 | O59: -0.0159099 | P59: 0 | Q59: =N59+O59+P59 -> 0.1440901
B60: 0 | C60: 0 | D60: 0 | E60: =B60+C60+D60 -> 0 | F60: 0 | G60: 0 | H60: 0 | I60: =F60+G60+H60 -> 0 | J60: 0 | K60: 0 | L60: 0 | M60: =J60+K60+L60 -> 0 | N60: 0 | O60: 0 | P60: 0 | Q60: =N60+O60+P60 -> 0
B61: {=QualNum3*Qual[14]} -> -0.2 | C61: {=SpeedNum3*Speed[14]} -> 0.4030508 | D61: {=ProdNum3*Prod[14]} -> 0 | E61: =B61+C61+D61 -> 0.2030508 | F61: {=QualNum3*Qual[24]} -> -0.2 | G61: {=SpeedNum3*Speed[24]} -> 0.6045762 | H61: {=ProdNum3*Prod[24]} -> 0 | I61: =F61+G61+H61 -> 0.4045762 | J61: {=QualNum3*Qual[34]} -> -0.2 | K61: {=SpeedNum3*Speed[34]} -> 1.007627 | L61: {=ProdNum3*Prod[34]} -> 0 | M61: =J61+K61+L61 -> 0.807627 | N61: {=QualNum3*Qual[34]} -> -0.2 | O61: {=SpeedNum3*Speed[24]} -> 0.6045762 | P61: {=ProdNum3*Prod[34]} -> 0 | Q61: =N61+O61+P61 -> 0.4045762
A62: qual 4 | B62: 0.076 | C62: -0.0106066 | D62: 0 | E62: =B62+C62+D62 -> 0.0653934 | F62: 0.152 | G62: -0.0159099 | H62: 0 | I62: =F62+G62+H62 -> 0.1360901 | J62: 0.188 | K62: -0.0265165 | L62: 0 | M62: =J62+K62+L62 -> 0.1614835 | N62: 0.188 | O62: -0.0159099 | P62: 0 | Q62: =N62+O62+P62 -> 0.1720901
B63: 0 | C63: 0 | D63: 0 | E63: =B63+C63+D63 -> 0 | F63: 0 | G63: 0 | H63: 0 | I63: =F63+G63+H63 -> 0 | J63: 0 | K63: 0 | L63: 0 | M63: =J63+K63+L63 -> 0 | N63: 0 | O63: 0 | P63: 0 | Q63: =N63+O63+P63 -> 0
B64: {=QualNum3*Qual[15]} -> -0.2 | C64: {=SpeedNum3*Speed[15]} -> 0.53033 | D64: {=ProdNum3*Prod[15]} -> 0 | E64: =B64+C64+D64 -> 0.33033 | F64: {=QualNum3*Qual[25]} -> -0.2 | G64: {=SpeedNum3*Speed[25]} -> 0.795495 | H64: {=ProdNum3*Prod[25]} -> 0 | I64: =F64+G64+H64 -> 0.595495 | J64: {=QualNum3*Qual[35]} -> -0.2 | K64: {=SpeedNum3*Speed[35]} -> 1.325825 | L64: {=ProdNum3*Prod[35]} -> 0 | M64: =J64+K64+L64 -> 1.125825 | N64: {=QualNum3*Qual[35]} -> -0.2 | O64: {=SpeedNum3*Speed[25]} -> 0.795495 | P64: {=ProdNum3*Prod[35]} -> 0 | Q64: =N64+O64+P64 -> 0.595495
A65: qual 5 | B65: 0.1 | C65: -0.0106066 | D65: 0 | E65: =B65+C65+D65 -> 0.0893934 | F65: 0.2 | G65: -0.0159099 | H65: 0 | I65: =F65+G65+H65 -> 0.1840901 | J65: 0.248 | K65: -0.0265165 | L65: 0 | M65: =J65+K65+L65 -> 0.2214835 | N65: 0.248 | O65: -0.0159099 | P65: 0 | Q65: =N65+O65+P65 -> 0.2320901
B66: 0 | C66: 0 | D66: 0 | E66: =B66+C66+D66 -> 0 | F66: 0 | G66: 0 | H66: 0 | I66: =F66+G66+H66 -> 0 | J66: 0 | K66: 0 | L66: 0 | M66: =J66+K66+L66 -> 0 | N66: 0 | O66: 0 | P66: 0 | Q66: =N66+O66+P66 -> 0
A68: level | B68: 1 | C68: 2 | D68: 3 | E68: 4
B69: =E52 -> 0.012132 | C69: =I52 -> 0.118198 | D69: =M52 -> 0.33033 | E69: =Q52 -> 0.118198 | H69: level 1 | I69: level 2 | J69: level 3 | K69: level 3* | N69: level 1 | O69: level 2 | P69: level 3 | Q69: level 3*
A70: qual1 | B70: =E53 -> 0.0293934 | C70: =I53 -> 0.0640901 | D70: =M53 -> 0.0734835 | E70: =Q53 -> 0.0840901 | G70: qual 1 | H70: =100*(1+B69)*(1+B71)*B70 -> 2.9750001 | I70: =100*(1+C69)*(1+C71)*C70 -> 7.1665422 | J70: =100*(1+D69)*(1+D71)*D70 -> 9.7757305 | K70: =100*(1+E69)*(1+E71)*E70 -> 9.4029382 | M70: qual 1 | N70: =H70 -> 2.9750001 | O70: =I70 -> 7.1665422 | P70: =J70 -> 9.7757305 | Q70: =K70 -> 9.4029382
B71: =E54 -> 0 | C71: =I54 -> 0 | D71: =M54 -> 0 | E71: =Q54 -> 0 | M71: qual 2 | N71: =H72 -> 4.4529844 | O71: =I72 -> 10.69112 | P71: =J72 -> 15.115247 | Q71: =K72 -> 13.603898
B72: =E55 -> 0.0757716 | C72: =I55 -> 0.2136574 | D72: =M55 -> 0.489429 | E72: =Q55 -> 0.2136574 | G72: qual 2 | H72: =100*(1+B72)*(1+B74)*B73 -> 4.4529844 | I72: =100*(1+C72)*(1+C74)*C73 -> 10.69112 | J72: =100*(1+D72)*(1+D74)*D73 -> 15.115247 | K72: =100*(1+E72)*(1+E74)*E73 -> 13.603898 | M72: qual 3 | N72: =H75 -> 6.0837038 | O72: =I75 -> 14.673903 | P72: =J75 -> 22.005129 | Q72: =K75 -> 18.863077
A73: qual2 | B73: =E56 -> 0.0413934 | C73: =I56 -> 0.0880901 | D73: =M56 -> 0.1014835 | E73: =Q56 -> 0.1120901 | M73: qual 4 | N73: =H78 -> 7.8671582 | O73: =I78 -> 19.114892 | P73: =J78 -> 29.190193 | Q73: =K78 -> 24.171366
B74: =E57 -> 0 | C74: =I57 -> 0 | D74: =M57 -> 0 | E74: =Q57 -> 0 | M74: qual 5 | N74: =H81 -> 11.892272 | O74: =I81 -> 29.371483 | P74: =J81 -> 47.083516 | Q74: =K81 -> 37.029859
B75: =E58 -> 0.1394112 | C75: =I58 -> 0.3091168 | D75: =M58 -> 0.648528 | E75: =Q58 -> 0.3091168 | G75: qual 3 | H75: =100*(1+B75)*(1+B77)*B76 -> 6.0837038 | I75: =100*(1+C75)*(1+C77)*C76 -> 14.673903 | J75: =100*(1+D75)*(1+D77)*D76 -> 22.005129 | K75: =100*(1+E75)*(1+E77)*E76 -> 18.863077
A76: qual3 | B76: =E59 -> 0.0533934 | C76: =I59 -> 0.1120901 | D76: =M59 -> 0.1334835 | E76: =Q59 -> 0.1440901
B77: =E60 -> 0 | C77: =I60 -> 0 | D77: =M60 -> 0 | E77: =Q60 -> 0
B78: =E61 -> 0.2030508 | C78: =I61 -> 0.4045762 | D78: =M61 -> 0.807627 | E78: =Q61 -> 0.4045762 | G78: qual 4 | H78: =100*(1+B78)*(1+B80)*B79 -> 7.8671582 | I78: =100*(1+C78)*(1+C80)*C79 -> 19.114892 | J78: =100*(1+D78)*(1+D80)*D79 -> 29.190193 | K78: =100*(1+E78)*(1+E80)*E79 -> 24.171366
A79: qual4 | B79: =E62 -> 0.0653934 | C79: =I62 -> 0.1360901 | D79: =M62 -> 0.1614835 | E79: =Q62 -> 0.1720901
B80: =E63 -> 0 | C80: =I63 -> 0 | D80: =M63 -> 0 | E80: =Q63 -> 0
B81: =E64 -> 0.33033 | C81: =I64 -> 0.595495 | D81: =M64 -> 1.125825 | E81: =Q64 -> 0.595495 | G81: qual 5 | H81: =100*(1+B81)*(1+B83)*B82 -> 11.892272 | I81: =100*(1+C81)*(1+C83)*C82 -> 29.371483 | J81: =100*(1+D81)*(1+D83)*D82 -> 47.083516 | K81: =100*(1+E81)*(1+E83)*E82 -> 37.029859
A82: qual5 | B82: =E65 -> 0.0893934 | C82: =I65 -> 0.1840901 | D82: =M65 -> 0.2214835 | E82: =Q65 -> 0.2320901
B83: =E66 -> 0 | C83: =I66 -> 0 | D83: =M66 -> 0 | E83: =Q66 -> 0 | G83: this one uses cell politions, meaning it should be able to be duplicated

Sheet Testing of stuff
H2: 0.8 | I2: 100 | J2: =I2*(1+H2) -> 180
H3: -0.8 | I3: 100 | J3: =I3*(1+H3) -> 20
D6: 4speed1 | E6: output
C7: speed | D7: {=4*Speed[11]} -> 0.8 | E7: =100*(1+D7) -> 180 | F7: item
C8: qual | D8: -0.04 | E8: =E7*(D8) -> -7.2 | F8: qualitem | M8: 2qual1 plus 1speed1 plus 1prod
C9: prod | D9: 0 | J9: 4qual1 | K9: 1speed1 | L9: 1prod1 | M9: total | N9: output
I10: speed | J10: {=4*Qual[11]} -> -0.2 | K10: {=1*Speed[11]} -> 0.2 | L10: {=Prod[11]} -> -0.05 | M10: =J10+K10+L10 -> -0.05 | N10: =100*(1+M10)*(1+M12) -> 98.8 | O10: item
D11: 4qual1 | E11: output | I11: qual | J11: 0.04 | K11: -0.01 | L11: 0 | M11: =J11+K11+L11 -> 0.03 | N11: =N10*(M11) -> 2.964 | O11: qualitem
D12: {=4*Qual[11]} -> -0.2 | E12: =100*(1+D12) -> 80 | F12: item | I12: prod | J12: 0 | K12: 0 | L12: 0.04 | M12: =L12+K12+J12 -> 0.04
D13: 0.04 | E13: =E12*(D13) -> 3.2 | F13: qualitem
D14: 0
J15: beacon calculator: | Q15: Level1 qual 1 Calc
D16: 4qual1 plus 1speed1 | J16: 1 | K16: # of beacons | R16: qual | S16: speed | T16: prod | U16: total | V16: output
B17: 4qual1 | C17: 1speed1 | D17: total | E17: output | J17: 1.5 | K17: distribution% | Q17: # of mod | R17: 4 | S17: 0 | T17: 0 | U17: =R17+S17+T17 -> 4
A18: speed | B18: {=4*Qual[11]} -> -0.2 | C18: {=1*Speed[11]} -> 0.2 | D18: =B18+C18 -> 0 | E18: =100*(1+D18)*(1+D20) -> 100 | F18: item | J18: 1 | K18: # of mods | Q18: speed | R18: {=R17*Qual[11]} -> -0.2 | S18: {=S17*Speed[11]} -> 0 | T18: {=T17*Prod[11]} -> 0 | U18: =R18+S18+T18 -> -0.2 | V18: =100*(1+U18)*(1+U20) -> 80 | W18: item
A19: qual | B19: 0.04 | C19: -0.01 | D19: =B19+C19 -> 0.03 | E19: =E18*(D19) -> 3 | F19: qualitem | J19: =J18*(J17/SQRT(J16)) -> 1.5 | K19: "total" mods | Q19: qual | R19: 0.04 | S19: 0 | T19: 0 | U19: =R19+S19+T19 -> 0.04 | V19: =V18*(U19) -> 3.2 | W19: qualitem
A20: prod | B20: 0 | C20: 0 | D20: =C20+B20 -> 0 | Q20: prod | R20: 0 | S20: 0 | T20: 0 | U20: =T20+S20+R20 -> 0
A23: Level1 qual 1 Calc | I23: Level2 qual 1 Calc | Q23: Level3 qual 1 Calc
B24: qual1 | C24: speed1 | D24: prod1 | E24: total | F24: output | J24: qual2 | K24: speed2 | L24: prod2 | M24: total | N24: output | R24: qual3 | S24: speed3 | T24: prod3 | U24: total | V24: output
A25: # of mod | B25: 4 | C25: 1 | D25: 1 | E25: =B25+C25+D25 -> 6 | I25: # of mod | J25: 4 | K25: 1 | L25: 0 | M25: =J25+K25+L25 -> 5 | Q25: # of mod | R25: 4 | S25: 1 | T25: 0 | U25: =R25+S25+T25 -> 5
A26: speed | B26: {=B25*Qual[11]} -> -0.2 | C26: {=C25*Speed[11]} -> 0.2 | D26: {=D25*Prod[11]} -> -0.05 | E26: =B26+C26+D26 -> -0.05 | F26: =100*(1+E26)*(1+E28) -> 98.8 | G26: item | I26: speed | J26: {=J25*Qual[21]} -> -0.2 | K26: {=K25*Speed[21]} -> 0.3 | L26: {=L25*Prod[21]} -> 0 | M26: =J26+K26+L26 -> 0.1 | N26: =100*(1+M26)*(1+M28) -> 110 | O26: item | Q26: speed | R26: {=R25*Qual[31]} -> -0.2 | S26: {=S25*Speed[31]} -> 0.5 | T26: {=T25*Prod[31]} -> 0 | U26: =R26+S26+T26 -> 0.3 | V26: =100*(1+U26)*(1+U28) -> 130 | W26: item
A27: qual | B27: 0.04 | C27: -0.01 | D27: 0 | E27: =B27+C27+D27 -> 0.03 | F27: =F26*(E27) -> 2.964 | G27: qualitem | I27: qual | J27: 0.08 | K27: -0.015 | L27: 0 | M27: =J27+K27+L27 -> 0.065 | N27: =N26*(M27) -> 7.15 | O27: qualitem | Q27: qual | R27: 0.1 | S27: -0.025 | T27: 0 | U27: =R27+S27+T27 -> 0.075 | V27: =V26*(U27) -> 9.75 | W27: qualitem
A28: prod | B28: 0 | C28: 0 | D28: 0.04 | E28: =D28+C28+B28 -> 0.04 | I28: prod | J28: 0 | K28: 0 | L28: 0 | M28: =L28+K28+J28 -> 0 | Q28: prod | R28: 0 | S28: 0 | T28: 0 | U28: =T28+S28+R28 -> 0
A30: Level1 qual 2 Calc | I30: Level2 qual 2 Calc | Q30: Level3 qual 2 Calc
B31: qual1 | C31: speed1 | D31: prod1 | E31: total | F31: output | J31: qual2 | K31: speed2 | L31: prod2 | M31: total | N31: output | R31: qual3 | S31: speed3 | T31: prod3 | U31: total | V31: output
A32: # of mod | B32: 4 | C32: 0 | D32: 0 | E32: =B32+C32+D32 -> 4 | I32: # of mod | J32: 4 | K32: 1 | L32: 0 | M32: =J32+K32+L32 -> 5 | Q32: # of mod | R32: 4 | S32: 1 | T32: 0 | U32: =R32+S32+T32 -> 5
A33: speed | B33: {=B32*Qual[12]} -> -0.2 | C33: {=C32*Speed[12]} -> 0 | D33: {=D32*Prod[12]} -> 0 | E33: =B33+C33+D33 -> -0.2 | F33: =100*(1+E33)*(1+E35) -> 80 | G33: item | I33: speed | J33: {=J32*Qual[22]} -> -0.2 | K33: {=K32*Speed[22]} -> 0.39 | L33: {=L32*Prod[22]} -> 0 | M33: =J33+K33+L33 -> 0.19 | N33: =100*(1+M33)*(1+M35) -> 119 | O33: item | Q33: speed | R33: {=R32*Qual[32]} -> -0.2 | S33: {=S32*Speed[32]} -> 0.65 | T33: {=T32*Prod[32]} -> 0 | U33: =R33+S33+T33 -> 0.45 | V33: =100*(1+U33)*(1+U35) -> 145 | W33: item
A34: qual | B34: 0.052 | C34: 0 | D34: 0 | E34: =B34+C34+D34 -> 0.052 | F34: =F33*(E34) -> 4.16 | G34: qualitem | I34: qual | J34: 0.104 | K34: -0.015 | L34: 0 | M34: =J34+K34+L34 -> 0.089 | N34: =N33*(M34) -> 10.591 | O34: qualitem | Q34: qual | R34: 0.128 | S34: -0.025 | T34: 0 | U34: =R34+S34+T34 -> 0.103 | V34: =V33*(U34) -> 14.935 | W34: qualitem
A35: prod | B35: 0 | C35: 0 | D35: 0 | E35: =D35+C35+B35 -> 0 | I35: prod | J35: 0 | K35: 0 | L35: 0 | M35: =L35+K35+J35 -> 0 | Q35: prod | R35: 0 | S35: 0 | T35: 0 | U35: =T35+S35+R35 -> 0
B38: qual | C38: speed | D38: prod | E38: total
A39: # of mod | B39: 1 | C39: 0 | D39: 0 | E39: =B39+C39+D39 -> 1
B40: level 1 | C40: level 2 | D40: level 3 | E40: level 3* | G40: calculation is:
A41: qual 1 | B41: {=100*(1+SpeedN[1])*(1+ProdN[1])*QualN[1]} -> 3.2 | C41: {=100*(1+SpeedN[2])*(1+ProdN[2])*QualN[2]} -> 6.4 | D41: {=100*(1+SpeedN[3])*(1+ProdN[3])*QualN[3]} -> 8 | E41: {=100*(1+SpeedN[4])*(1+ProdN[4])*QualN[4]} -> 8 | G41: qual items/timeframe = total output * qual%
A42: qual 2 | B42: {=100*(1+SpeedU[1])*(1+ProdU[1])*QualU[1]} -> 4.16 | C42: {=100*(1+SpeedU[2])*(1+ProdU[2])*QualU[2]} -> 8.32 | D42: {=100*(1+SpeedU[3])*(1+ProdU[3])*QualU[3]} -> 10.24 | E42: {=100*(1+SpeedU[4])*(1+ProdU[4])*QualU[4]} -> 10.24 | G42: total output = 100*speed*productivity
A43: qual 3 | B43: {=100*(1+SpeedR[1])*(1+ProdR[1])*QualR[1]} -> 5.12 | C43: {=100*(1+SpeedR[2])*(1+ProdR[2])*QualR[2]} -> 10.24 | D43: {=100*(1+SpeedR[3])*(1+ProdR[3])*QualR[3]} -> 12.8 | E43: {=100*(1+SpeedR[4])*(1+ProdR[4])*QualR[4]} -> 12.8 | G43: calc for table:
A44: qual 4 | B44: {=100*(1+SpeedE[1])*(1+ProdE[1])*QualE[1]} -> 6.08 | C44: {=100*(1+SpeedE[2])*(1+ProdE[2])*QualE[2]} -> 12.16 | D44: {=100*(1+SpeedE[3])*(1+ProdE[3])*QualE[3]} -> 15.04 | E44: {=100*(1+SpeedE[4])*(1+ProdE[4])*QualE[4]} -> 15.04 | G44: 100*speed*productivity*qual%
A45: qual 5 | B45: {=100*(1+SpeedL[1])*(1+ProdL[1])*QualL[1]} -> 8 | C45: {=100*(1+SpeedL[2])*(1+ProdL[2])*QualL[2]} -> 16 | D45: {=100*(1+SpeedL[3])*(1+ProdL[3])*QualL[3]} -> 19.84 | E45: {=100*(1+SpeedL[4])*(1+ProdL[4])*QualL[4]} -> 19.84 | G45: !100*(1+Speed@[#])*(1+Prod@[#])*Qual@[#]
G46: where @=N,U,R,E,L and #=1,2,3,4
